{"text_format":"1","workbook":"xlsx","n_sheets":4,"sheets":["Plan Indicativo (Productos)","Indicadores de resultado","Plan de acción","listados"],"not_rendered":{"charts":0,"images":0,"macros":1,"external_links":0,"defined_names":0,"comments":0,"pivot_tables":0},"unopened":[],"bounds":{"document_bytes":16777216,"sheet_cells":100000,"rows_first":2000,"rows_last":500,"rows_between":2000,"halvings":0,"cell_chars":16384,"cell_head_chars":4096},"cells_cut":0,"cells_raw":0,"read":"whole","date_system":"1900"}

{"sheet":"Plan Indicativo (Productos)","index":0,"n_rows":805,"n_cols":19,"rows_kept":805,"cut":false,"hidden":false,"merged":[[0,2,0,5],[1,2,1,5],[2,11,2,12]]}
[null,"Plan de Desarrollo: ","Creamos 2024-2027"]
[null,"Municipio:","CALDAS",null,null,null,"SOLO SELECCIONAR DE LA LISTA"]
[null,"Solo texto",null,"BLANCO O SELECCIONAR DE LA LISTA","Solo numero","Solo texto","Solo numero","Solo texto","Solo texto","Bloquear solo formato numerico con dos decimales. No porcentaje","Bloquear solo formato numerico con dos decimales. No porcentaje","BLANCO O SELECCIONAR DE LA LISTA",null,"BLANCO O SELECCIONAR DE LA LISTA","Bloquear solo formato numerico con dos decimales. No porcentaje","Bloquear solo formato numerico con dos decimales. No porcentaje","Bloquear solo formato numerico con dos decimales. No porcentaje","Bloquear solo formato numerico con dos decimales. No porcentaje","Bloquear solo formato numerico sin decimales, categoria moneda "]
["#","Línea estratégica","Código del sector","Sector","Código del programa","Programa","Código de indicador de producto","Indicador de Producto","Unidad de medida","Línea base","Meta del cuatrienio","Código de ODS","ODS","Tipo de acumulación","Programación del producto bien o servicio 2024","Programación del producto bien o servicio 2025","Programación del producto bien o servicio 2026","Programación del producto bien o servicio 2027","Plan plurianual de Inversiones Cuatrienio (Pesos)"]
[1,"Sociocultural  y espiritual",{"$f":"IF(LEN(D5)>0,VALUE(MID(D5,1,FIND(\".\",D5,1)-1)),\"\")","v":22},"22. Educación ",2202,"Calidad y fomento de la educación superior","220206200","Beneficiarios de estrategias o programas de  fomento para el acceso a la educación superior","Número",0,150,{"$f":"IF(LEN(M5)>0,VALUE(MID(M5,1,FIND(\".\",M5,1)-1)),\"\")","v":4},"4. Educación de calidad","Acumalada",23,30,37,60,555804618]
[2,"Sociocultural  y espiritual",{"$f":"IF(LEN(D6)>0,VALUE(MID(D6,1,FIND(\".\",D6,1)-1)),\"\")","v":22},"22. Educación ",2202,"Calidad y fomento de la educación superior","220206113","Beneficiarios de estrategias o programas de  apoyo financiero para la permanencia en la educación superior    - Mejores Bachilleres","Número",80,100,{"$f":"IF(LEN(M6)>0,VALUE(MID(M6,1,FIND(\".\",M6,1)-1)),\"\")","v":4},"4. Educación de calidad","Acumalada",25,25,25,25,1296877443]
[3,"Sociocultural  y espiritual",22,"22. Educación ",2201,"Calidad, cobertura y fortalecimiento de la educación inicial, prescolar, básica y media",220100100,"Documentos de planeación para la educación inicial, preescolar, básica y media emitidos","Número",1,1,4,"4. Educación de calidad","Acumalada",0.4,0.6,0,0,353881313]
[4,"Sociocultural  y espiritual",22,"22. Educación ",2201,"Calidad, cobertura y fortalecimiento de la educación inicial, prescolar, básica y media",220104900,"Personas beneficiadas con procesos de formación informal","Número",395,1880,4,"4. Educación de calidad","Acumalada",190,750,560,380,82054276]
[5,"Sociocultural  y espiritual",22,"22. Educación ",2201,"Calidad, cobertura y fortalecimiento de la educación inicial, prescolar, básica y media","220103600","Contenidos educativos para la educación inicial, preescolar, básica y media producidos ","Número",0,3,4,"4. Educación de calidad","Acumalada",1,1,1,0,75742412]
[6,"Sociocultural  y espiritual",22,"22. Educación ",2201,"Calidad, cobertura y fortalecimiento de la educación inicial, prescolar, básica y media",220100100,"Documentos de planeación para la educación inicial, preescolar, básica y media emitidos","Número",0,1,4,"4. Educación de calidad","Acumalada",0.3,0.7,0,0,151663419]
[7,"Sociocultural  y espiritual",22,"22. Educación ",2201,"Calidad, cobertura y fortalecimiento de la educación inicial, prescolar, básica y media",220102900,"Beneficiarios de transporte escolar","Número",287,5030,4,"4. Educación de calidad","Acumalada",1255,1255,1255,1265,1082533670]
[8,"Sociocultural  y espiritual",22,"22. Educación ",2201,"Calidad, cobertura y fortalecimiento de la educación inicial, prescolar, básica y media",220106900,"Sedes dotadas","Número",0,24,4,"4. Educación de calidad","Acumalada",4,4,6,10,1082533667]
[9,"Sociocultural  y espiritual",22,"22. Educación ",2201,"Calidad, cobertura y fortalecimiento de la educación inicial, prescolar, básica y media",220102800,"Raciones contratadas","Número",3119,2245680,4,"4. Educación de calidad","Acumalada",561420,561420,561420,561420,11347135642]
[10,"Sociocultural  y espiritual",22,"22. Educación ",2201,"Calidad, cobertura y fortalecimiento de la educación inicial, prescolar, básica y media",220108100,"Sedes educativas apoyadas en la implementación de la ruta de atención integral para la convivencia escolar","Número",24,24,4,"4. Educación de calidad","Acumalada",6,6,6,6,1082533670]
[11,"Sociocultural  y espiritual",22,"22. Educación ",2201,"Calidad, cobertura y fortalecimiento de la educación inicial, prescolar, básica y media",220108400,"Sedes educativas con apoyo pedagógico para  la oferta de educación inclusiva para preescolar, básica y media","Número",24,24,4,"4. Educación de calidad","Acumalada",6,6,6,6,1082533670]
[12,"Sociocultural  y espiritual",22,"22. Educación ",2201,"Calidad, cobertura y fortalecimiento de la educación inicial, prescolar, básica y media",220103400,"Estudiantes beneficiados con estrategias de promoción del bilingüismo","Número",0,600,4,"4. Educación de calidad","Acumalada",150,150,150,150,189356021]
[13,"Sociocultural  y espiritual",22,"22. Educación ",2201,"Calidad, cobertura y fortalecimiento de la educación inicial, prescolar, básica y media","220103500","Programas y proyectos de educación pertinente articulados con el sector productivo ","Número",0,8,4,"4. Educación de calidad","Acumalada",2,2,2,2,31559335]
[14,"Sociocultural  y espiritual",22,"22. Educación ",2201,"Calidad, cobertura y fortalecimiento de la educación inicial, prescolar, básica y media",220107309,"Estudiantes evaluados a través de simulacros","Número",165,660,16,"16. Paz, justicia e instituciones solidas","Acumalada",120,180,180,180,31559335]
[15,"Sociocultural  y espiritual",22,"22. Educación ",2201,"Calidad, cobertura y fortalecimiento de la educación inicial, prescolar, básica y media","220103100","Personas beneficiarias de ciclos lectivos especiales integrados","Número",207,1000,4,"4. Educación de calidad","Acumalada",250,250,250,250,31559335]
[16,"Sociocultural  y espiritual",22,"22. Educación ",2201,"Calidad, cobertura y fortalecimiento de la educación inicial, prescolar, básica y media","220107100","Establecimientos educativos en operación","Número",23,24,4,"4. Educación de calidad","Acumalada",23,1,0,0,1884151498]
[17,"Sociocultural  y espiritual",22,"22. Educación ",2201,"Calidad, cobertura y fortalecimiento de la educación inicial, prescolar, básica y media",220104700,"Establecimientos educativos apoyados para la  implementación de modelos de innovación educativa ","Número",0,9,4,"4. Educación de calidad","Acumalada",2,3,3,1,94678009]
[18,"Sociocultural  y espiritual",22,"22. Educación ",2201,"Calidad, cobertura y fortalecimiento de la educación inicial, prescolar, básica y media",220103000,"Beneficiarios atendidos con modelos educativos flexibles","Número",532,2400,4,"4. Educación de calidad","Acumalada",600,600,600,600,94678009]
[19,"Sociocultural  y espiritual",22,"22. Educación ",2299,"Fortalecimiento de la gestión y dirección del sector Educación","229906200","Sistemas de información actualizados","Número",1,2,16,"16. Paz, justicia e instituciones solidas","Acumalada",2,0,0,0,1324868060]
[20,"Sociocultural  y espiritual",22,"22. Educación ",2201,"Calidad, cobertura y fortalecimiento de la educación inicial, prescolar, básica y media","220105200","Sedes educativas mejoradas ","Número",14,9,4,"4. Educación de calidad","Acumalada",2,4,2,1,1822635178]
[21,"Sociocultural  y espiritual",22,"22. Educación ",2201,"Calidad, cobertura y fortalecimiento de la educación inicial, prescolar, básica y media","220106200","Sedes mantenidas","Número",6,24,4,"4. Educación de calidad","Acumalada",4,4,6,10,1822635178]
[22,"Sociocultural  y espiritual",22,"22. Educación ",2201,"Calidad, cobertura y fortalecimiento de la educación inicial, prescolar, básica y media",220105100,"Sedes educativas nuevas construidas ","Número",0,1,4,"4. Educación de calidad","Acumalada",0.1,0.2,0.4,0.3,1562258724]
[23,"Sociocultural  y espiritual",19,"19. Salud y Protección Social",1905,"Salud Pública","190505000","Asistencias técnicas realizadas","Número",21471,1350,3,"3. Salud y bienestar","Acumalada",200,370,410,370,66280198154]
[24,"Sociocultural  y espiritual",19,"19. Salud y Protección Social",1906,"Aseguramiento y prestación integral de servicios de salud",190604400,"Personas afiliadas al régimen subsidiado","Número",3000,1000,3,"3. Salud y bienestar","Acumalada",150,350,350,150,66280198154]
[25,"Sociocultural  y espiritual",19,"19. Salud y Protección Social",1906,"Aseguramiento y prestación integral de servicios de salud",190600400,"Personas atendidas con servicio de salud","Número",1,1,3,"3. Salud y bienestar","Acumalada",0,1,0,0,416952256]
[26,"Sociocultural  y espiritual",45,"45. Gobierno Territorial",4599,"Fortalecimiento a la gestión y dirección de la administración pública territorial",459900100,"Documentos de evaluación elaborados","Número",4,4,16,"16. Paz, justicia e instituciones solidas","Acumalada",0,1,2,1,416952256]
[27,"Sociocultural  y espiritual",45,"45. Gobierno Territorial",4599,"Fortalecimiento a la gestión y dirección de la administración pública territorial",459900100,"Documentos de evaluación elaborados","Número",19047,2400,16,"16. Paz, justicia e instituciones solidas","Acumalada",480,960,720,240,215530749]
[28,"Sociocultural  y espiritual",45,"45. Gobierno Territorial",4599,"Fortalecimiento a la gestión y dirección de la administración pública territorial","459903300","Hogares que realizaron la encuesta","Número",0,1,17,"17. Alianzas para lograr los objetivos","Acumalada",0.1,0.25,0.45,0.2,448907478]
[29,"Sociocultural  y espiritual",19,"19. Salud y Protección Social",1906,"Aseguramiento y prestación integral de servicios de salud",190601300,"Hospitales de segundo nivel de atención modificados","Número",1,4,3,"3. Salud y bienestar","Acumalada",1,1,1,1,493583038]
[30,"Sociocultural  y espiritual",19,"19. Salud y Protección Social",1905,"Salud Pública",190505400,"Estrategias de promoción de la salud implementadas","Número",30,106,3,"3. Salud y bienestar","Acumalada",28,27,26,25,493583041]
[31,"Sociocultural  y espiritual",19,"19. Salud y Protección Social",1905,"Salud Pública",190502100,"Campañas de gestión del riesgo en temas de salud sexual y reproductiva implementadas","Número",4,4,3,"3. Salud y bienestar","Acumalada",1,1,1,1,493583041]
[32,"Sociocultural  y espiritual",19,"19. Salud y Protección Social",1905,"Salud Pública",190505400,"Estrategias de promoción de la salud implementadas","Número",0,4,3,"3. Salud y bienestar","Acumalada",1,1,1,1,493583041]
[33,"Sociocultural  y espiritual",19,"19. Salud y Protección Social",1905,"Salud Pública","190502200","Campañas de gestión del riesgo en temas de trastornos mentales implementadas","Número",1,4,3,"3. Salud y bienestar","Acumalada",1,1,1,1,493583041]
[34,"Sociocultural  y espiritual",19,"19. Salud y Protección Social",1905,"Salud Pública",190505400,"Estrategias de promoción de la salud implementadas","Número",1,4,3,"3. Salud y bienestar","Acumalada",1,1,1,1,493583041]
[35,"Sociocultural  y espiritual",19,"19. Salud y Protección Social",1905,"Salud Pública",190505400,"Estrategias de promoción de la salud implementadas","Número",1,4,3,"3. Salud y bienestar","Acumalada",1,1,1,1,493583041]
[36,"Sociocultural  y espiritual",19,"19. Salud y Protección Social",1905,"Salud Pública",190503100,"Campañas de promoción de la salud  y prevención de riesgos asociados a condiciones no transmisibles implementadas","Número",1,4,3,"3. Salud y bienestar","Acumalada",1,1,1,1,493583038]
[37,"Sociocultural  y espiritual",19,"19. Salud y Protección Social",1905,"Salud Pública",190503100,"Campañas de promoción de la salud  y prevención de riesgos asociados a condiciones no transmisibles implementadas","Número",1,4,3,"3. Salud y bienestar","Acumalada",1,1,1,1,493583038]
[38,"Sociocultural  y espiritual",19,"19. Salud y Protección Social",1905,"Salud Pública",190502000,"Campañas de gestión del riesgo en temas de consumo de sustancias psicoactivas implementadas","Número",5,5,3,"3. Salud y bienestar","Acumalada",1,1,2,1,493583038]
[39,"Sociocultural  y espiritual",45,"45. Gobierno Territorial",4599,"Fortalecimiento a la gestión y dirección de la administración pública territorial",459901900,"Documentos de planeación realizados","Número",0,1,17,"17. Alianzas para lograr los objetivos","No acumalada",0.4,0.6,0,0,152090334]
[40,"Sociocultural  y espiritual",33,"33. Cultura ",3302,"Gestión, protección y salvaguardia del patrimonio cultural colombiano",330201900,"Capacitaciones realizadas","Número",0,8,4,"4. Educación de calidad",null,2,2,2,2,1562015582]
[41,"Sociocultural  y espiritual",33,"33. Cultura ",3301,"Promoción y acceso efectivo a procesos culturales y artísticos",330101800,"Casas de la cultura adecuadas","Número",0,1,11,"11. Ciudades y comunidades sostenibles","Acumalada",0.1,0.25,0.45,0.2,2324779070]
[42,"Sociocultural  y espiritual",33,"33. Cultura ",3301,"Promoción y acceso efectivo a procesos culturales y artísticos",330112700,"Infraestructuras culturales dotadas","Número",2,2,11,"11. Ciudades y comunidades sostenibles","Acumalada",0.1,0.25,0.45,1.2,728622518]
[43,"Sociocultural  y espiritual",33,"33. Cultura ",3301,"Promoción y acceso efectivo a procesos culturales y artísticos",330112700,"Infraestructuras culturales dotadas","Número",0,1,11,"11. Ciudades y comunidades sostenibles","Acumalada",0.1,0.25,0.45,0.2,546466888]
[44,"Sociocultural  y espiritual",33,"33. Cultura ",3301,"Promoción y acceso efectivo a procesos culturales y artísticos",330112700,"Infraestructuras culturales dotadas","Número",0,1,11,"11. Ciudades y comunidades sostenibles","Acumalada",0.1,0.25,0.45,0.2,546466888]
[45,"Sociocultural  y espiritual",33,"33. Cultura ",3301,"Promoción y acceso efectivo a procesos culturales y artísticos",330107000,"Documentos de lineamientos técnicos realizados","Número",1,1,11,"11. Ciudades y comunidades sostenibles","Acumalada",0.1,0.25,0.45,0.2,1299987775]
[46,"Sociocultural  y espiritual",33,"33. Cultura ",3301,"Promoción y acceso efectivo a procesos culturales y artísticos",330105300,"Eventos de promoción de actividades culturales realizados","Número",0,8,11,"11. Ciudades y comunidades sostenibles","Acumalada",2,2,2,2,442989145]
[47,"Sociocultural  y espiritual",33,"33. Cultura ",3301,"Promoción y acceso efectivo a procesos culturales y artísticos",330105300,"Eventos de promoción de actividades culturales realizados","Número",17,80,11,"11. Ciudades y comunidades sostenibles","Acumalada",20,20,20,20,664483719]
[48,"Sociocultural  y espiritual",33,"33. Cultura ",3301,"Promoción y acceso efectivo a procesos culturales y artísticos",330105300,"Eventos de promoción de actividades culturales realizados","Número",100,440,11,"11. Ciudades y comunidades sostenibles","Acumalada",110,110,110,110,664483719]
[49,"Sociocultural  y espiritual",33,"33. Cultura ",3301,"Promoción y acceso efectivo a procesos culturales y artísticos",330108700,"Cursos realizados","Número",0,15,4,"4. Educación de calidad","Acumalada",2,5,5,3,885978292]
[50,"Sociocultural  y espiritual",33,"33. Cultura ",3301,"Promoción y acceso efectivo a procesos culturales y artísticos",330105500,"Personas beneficiadas con apoyos del Programa Nacional de Estímulos","Número",0,4,8,"8. Trabajo decente y crecimiento económico ","Acumalada",1,1,1,1,664483719]
[51,"Sociocultural  y espiritual",33,"33. Cultura ",3301,"Promoción y acceso efectivo a procesos culturales y artísticos","430103700","Personas que acceden a servicios deportivos, recreativos y de actividad física","Número",8,38,16,"16. Paz, justicia e instituciones solidas","Acumalada",5,11,11,11,221494573]
[52,"Sociocultural  y espiritual",33,"33. Cultura ","3301","Promoción y acceso efectivo a procesos culturales y artísticos","430103700","Personas que acceden a servicios deportivos, recreativos y de actividad física","Número",8,36,4,"4. Educación de calidad","Acumalada",6,10,10,10,442989146]
[53,"Sociocultural  y espiritual",33,"33. Cultura ","3301","Promoción y acceso efectivo a procesos culturales y artísticos","430100200","Personas beneficiadas","Número",1500,6000,4,"4. Educación de calidad","Acumalada",1500,1500,1500,1500,513598145]
[54,"Sociocultural  y espiritual",33,"33. Cultura ","3301","Promoción y acceso efectivo a procesos culturales y artísticos","430100700","Niños, niñas, adolescentes y jóvenes inscritos en Escuelas Deportivas","Número",1750,13600,16,"16. Paz, justicia e instituciones solidas","Acumalada",3400,3400,3400,3400,442989146]
[55,"Sociocultural  y espiritual",45,"45. Gobierno Territorial","4502","Fortalecimiento del buen gobierno para el respeto y garantía de los derechos humanos","430200900","Documentos de lineamientos técnicos realizados","Número",1,4,16,"16. Paz, justicia e instituciones solidas","Acumalada",1,1,1,1,27814449]
[56,"Sociocultural  y espiritual",45,"45. Gobierno Territorial","4502","Fortalecimiento del buen gobierno para el respeto y garantía de los derechos humanos","430207500","Organismos deportivos asistidos ","Número",1,24,16,"16. Paz, justicia e instituciones solidas","Acumalada",6,6,6,6,27814449]
[57,"Sociocultural  y espiritual",45,"45. Gobierno Territorial","4502","Fortalecimiento del buen gobierno para el respeto y garantía de los derechos humanos","459901900","Documentos de planeación realizados","Número",0,4,16,"16. Paz, justicia e instituciones solidas","Acumalada",1,1,1,1,27814449]
[58,"Sociocultural  y espiritual",45,"45. Gobierno Territorial","4502","Fortalecimiento del buen gobierno para el respeto y garantía de los derechos humanos","430100400","Infraestructura deportiva mantenida","Número",2,8,16,"16. Paz, justicia e instituciones solidas","Acumalada",2,2,2,2,27814449]
[59,"Sociocultural  y espiritual",45,"45. Gobierno Territorial","4502","Fortalecimiento del buen gobierno para el respeto y garantía de los derechos humanos","430206400","Polideportivos construidos","Número",0,4,16,"16. Paz, justicia e instituciones solidas","Acumalada",1,1,1,1,27814449]
[60,"Sociocultural  y espiritual",19,"19. Salud y Protección Social","1905","Salud Pública","430206700","Polideportivos adecuados","Número",0,4,16,"16. Paz, justicia e instituciones solidas","Acumalada",1,1,1,1,216638922]
[61,"Sociocultural  y espiritual",43,"43. Deporte y Recreación","4301","Fomento a la recreación, la actividad física y el deporte","400104400","Vivienda de Interés Social mejoradas","Número",0,20000,4,"4. Educación de calidad","Acumalada",4000,4500,5500,6000,311387361]
[62,"Sociocultural  y espiritual",43,"43. Deporte y Recreación","4301","Fomento a la recreación, la actividad física y el deporte","400104200","Vivienda de Interés Social construidas","Número",0,20000,4,"4. Educación de calidad","Acumalada",4000,4500,5500,6000,207591573]
[63,"Sociocultural  y espiritual",43,"43. Deporte y Recreación","4301","Fomento a la recreación, la actividad física y el deporte","400100200","Entidades territoriales asistidas técnicamente","Número",0,5000,3,"3. Salud y bienestar","Acumalada",1000,1000,1200,1800,311387361]
[64,"Sociocultural  y espiritual",43,"43. Deporte y Recreación","4301","Fomento a la recreación, la actividad física y el deporte","400100200","Entidades territoriales asistidas técnicamente","Número",0,10000,3,"3. Salud y bienestar","Acumalada",1800,2200,2800,3200,207591573]
[65,"Sociocultural  y espiritual",43,"43. Deporte y Recreación","4301","Fomento a la recreación, la actividad física y el deporte","400100100","Entidades territoriales asistidas técnica y jurídicamente","Número",0,900,4,"4. Educación de calidad","Acumalada",150,200,250,300,518978934]
[66,"Sociocultural  y espiritual",{"$f":"IF(LEN(D70)>0,VALUE(MID(D70,1,FIND(\".\",D70,1)-1)),\"\")","v":43},"43. Deporte y Recreación","4301","Fomento a la recreación, la actividad física y el deporte","400103000","Estudios o diseños realizados ","Número",0,4800,{"$f":"IF(LEN(M70)>0,VALUE(MID(M70,1,FIND(\".\",M70,1)-1)),\"\")","v":3},"3. Salud y bienestar","Acumalada",600,1200,1400,1600,518978934]
[67,"Sociocultural  y espiritual",43,"43. Deporte y Recreación","4302","Formación y preparación de deportistas","450200100","Espacios de participación promovidos","Número",0,1,3,"3. Salud y bienestar","Acumalada",0.4,0.2,0.2,0.2,631641726]
[68,"Sociocultural  y espiritual",43,"43. Deporte y Recreación","4302","Formación y preparación de deportistas","400203400","Estudios o diseños realizados ","Número",0,32,3,"3. Salud y bienestar","Acumalada",8,8,8,8,1473830692]
[69,"Sociocultural  y espiritual",45,"45. Gobierno Territorial","4599","Fortalecimiento a la gestión y dirección de la administración pública territorial","400305200","Asistencias técnicas realizadas","Número",0,1,17,"17. Alianzas para lograr los objetivos","No acumalada",0,1,0,0,152090334]
[70,"Sociocultural  y espiritual",43,"43. Deporte y Recreación","4301","Fomento a la recreación, la actividad física y el deporte","400301700","Acueductos optimizados","Número",0,15,11,"11. Ciudades y comunidades sostenibles","Acumalada",3,4,5,3,890500360]
[71,"Sociocultural  y espiritual",43,"43. Deporte y Recreación",4302,"Formación y preparación de deportistas","430206400","Polideportivos construidos","Número",0,4,11,"11. Ciudades y comunidades sostenibles","Acumalada",1,1,1,1,2077834174]
[72,"Sociocultural  y espiritual",43,"43. Deporte y Recreación","4302","Formación y preparación de deportistas","430206700","Polideportivos adecuados","Número",0,4,11,"11. Ciudades y comunidades sostenibles","Acumalada",1,1,1,1,192467638]
[73,"Sociocultural  y espiritual",40,"40. Vivienda, Ciudad y Territorio",4001,"Acceso a soluciones de vivienda","400104400","Vivienda de Interés Social mejoradas","Número",96,120,11,"11. Ciudades y comunidades sostenibles","Acumalada",0,48,48,24,1867431330]
[74,"Sociocultural  y espiritual",40,"40. Vivienda, Ciudad y Territorio","4001","Acceso a soluciones de vivienda","400104200","Vivienda de Interés Social construidas","Número",0,40,11,"11. Ciudades y comunidades sostenibles","Acumalada",0,16,16,8,4357339771]
[75,"Sociocultural  y espiritual",40,"40. Vivienda, Ciudad y Territorio","4001","Acceso a soluciones de vivienda","400100200","Entidades territoriales asistidas técnicamente","Número",0,4,16,"16. Paz, justicia e instituciones solidas","Acumalada",0,1,2,1,261047883]
[76,"Sociocultural  y espiritual",40,"40. Vivienda, Ciudad y Territorio","4001","Acceso a soluciones de vivienda","400100200","Entidades territoriales asistidas técnicamente","Número",0,2,16,"16. Paz, justicia e instituciones solidas","Acumalada",0,0,1,1,522095766]
[77,"Sociocultural  y espiritual",40,"40. Vivienda, Ciudad y Territorio","4001","Acceso a soluciones de vivienda","400100100","Entidades territoriales asistidas técnica y jurídicamente","Número",15,80,16,"16. Paz, justicia e instituciones solidas","Acumalada",0,32,32,16,1044191534]
[78,"Sociocultural  y espiritual",40,"40. Vivienda, Ciudad y Territorio","4001","Acceso a soluciones de vivienda","400103000","Estudios o diseños realizados ","Número",0,2,16,"16. Paz, justicia e instituciones solidas","Acumalada",0,0,1,1,261047883]
[79,"Sociocultural  y espiritual",40,"40. Vivienda, Ciudad y Territorio","4502","Fortalecimiento del buen gobierno para el respeto y garantía de los derechos humanos","450200100","Espacios de participación promovidos","Número",0,4,16,"16. Paz, justicia e instituciones solidas","Acumalada",1,1,1,1,10757629]
[80,"Sociocultural  y espiritual",40,"40. Vivienda, Ciudad y Territorio","4002","Ordenamiento territorial y desarrollo urbano","400203400","Estudios o diseños realizados ","Número",0,1,16,"16. Paz, justicia e instituciones solidas","Acumalada",0.1,0.6,0.3,0,711300176]
[81,"Sociocultural  y espiritual",40,"40. Vivienda, Ciudad y Territorio","4003","Acceso de la población a los servicios de agua potable y saneamiento básico","400305200","Asistencias técnicas realizadas","Número",0,8,16,"16. Paz, justicia e instituciones solidas","Acumalada",0,2,3,3,333031226]
[82,"Sociocultural  y espiritual",40,"40. Vivienda, Ciudad y Territorio","4003","Acceso de la población a los servicios de agua potable y saneamiento básico","400301700","Acueductos optimizados","Número",2,8,6,"6. Agua limpia y saneamiento","Acumalada",1,2,3,2,3850121411]
[83,"Sociocultural  y espiritual",40,"40. Vivienda, Ciudad y Territorio","4003","Acceso de la población a los servicios de agua potable y saneamiento básico","400301500","Acueductos construidos","Número",0,1,6,"6. Agua limpia y saneamiento","Acumalada",0.1,0.3,0.2,0.4,6737712467]
[84,"Sociocultural  y espiritual",40,"40. Vivienda, Ciudad y Territorio","4003","Acceso de la población a los servicios de agua potable y saneamiento básico","400305200","Asistencias técnicas realizadas","Número",0,22,16,"16. Paz, justicia e instituciones solidas","Acumalada",1,7,8,6,3850121411]
[85,"Sociocultural  y espiritual",40,"40. Vivienda, Ciudad y Territorio","4003","Acceso de la población a los servicios de agua potable y saneamiento básico",400306300,"Esquema de medios alternos  de provisión de agua para consumo humano implementados","Número",0,2,6,"6. Agua limpia y saneamiento","Acumalada",0,1,0,1,962530353]
[86,"Sociocultural  y espiritual",40,"40. Vivienda, Ciudad y Territorio","4003","Acceso de la población a los servicios de agua potable y saneamiento básico","400300600","Documentos de planeación elaborados","Número",0,1,6,"6. Agua limpia y saneamiento","Acumalada",0.1,0.4,0.3,0.2,1925060704]
[87,"Sociocultural  y espiritual",40,"40. Vivienda, Ciudad y Territorio","4003","Acceso de la población a los servicios de agua potable y saneamiento básico","400301400","Usuarios conectados a la red de servicio de alcantarillado","Número",0,40,6,"6. Agua limpia y saneamiento","Acumalada",5,10,15,10,1925060704]
[88,"Sociocultural  y espiritual",40,"40. Vivienda, Ciudad y Territorio","4003","Acceso de la población a los servicios de agua potable y saneamiento básico","400302200","Plan de Gestión Integral de Residuos Solidos implementado","Número",0,1,11,"11. Ciudades y comunidades sostenibles","Acumalada",0.1,0.4,0.3,0.2,1750492918]
[89,"Sociocultural  y espiritual",40,"40. Vivienda, Ciudad y Territorio","4003","Acceso de la población a los servicios de agua potable y saneamiento básico","400301200","Soluciones de disposición final de residuos solidos construidas","Número",0,1,11,"11. Ciudades y comunidades sostenibles","Acumalada",0.1,0.4,0.3,0.2,750211253]
[90,"Sociocultural  y espiritual",21,"21. Minas y Energía","2102","Consolidación productiva del sector de energía eléctrica","210201000","Redes de alumbrado público ampliadas","Metros ",0,4000,7,"7. Energía asequible y no contaminante","Acumalada",2200,600,800,400,1145177456]
[91,"Sociocultural  y espiritual",21,"21. Minas y Energía","2102","Consolidación productiva del sector de energía eléctrica","210206900","Lámparas de alumbrado público en funcionamiento","Número",4458,4610,11,"11. Ciudades y comunidades sostenibles","Acumalada",461,1383,1383,1383,6489338923]
[92,"Sociocultural  y espiritual",23,"23. Tecnologias de la Información y Las Comunicaciones ","2301","Facilitar el acceso y uso de las Tecnologías de la Información y las Comunicaciones en todo el territorio nacional","230107900","Zonas digitales instaladas","Número",0,2,9,"9. Industria, innovación e infraestructura","Acumalada",1,0,1,0,710663080]
[93,"Sociocultural  y espiritual",23,"23. Tecnologias de la Información y Las Comunicaciones ","2302","Fomento del desarrollo de aplicaciones, software y contenidos para impulsar la apropiación de las Tecnologías de la Información y las Comunicaciones (TIC)","230202000","Emprendimientos y empresas del sector de contenido y aplicaciones digitales acompañados","Número",0,480,8,"8. Trabajo decente y crecimiento económico ","Acumalada",88,120,140,132,273161354]
[94,"Sociocultural  y espiritual",21,"21. Minas y Energía","2106","Gestión de la información en el sector minero energético","210602200","Estrategias de innovación y transferencia del conocimiento realizadas","Número",0,8,16,"16. Paz, justicia e instituciones solidas","Acumalada",2,2,2,2,1364673532]
[95,"Sociocultural  y espiritual",40,"40. Vivienda, Ciudad y Territorio","4002","Ordenamiento territorial y desarrollo urbano","400201600","Documentos de planeación elaborados","Número",1,1,11,"11. Ciudades y comunidades sostenibles","Acumalada",0.8,0.2,0,0,307354370]
[96,"Sociocultural  y espiritual",22,"22. Educación ","2201","Calidad, cobertura y fortalecimiento de la educación inicial, prescolar, básica y media","220103702","Niñas y niños con educación inicial en el marco de la atención integral","Número",609,620,4,"4. Educación de calidad","Acumalada",155,155,155,155,9648308317]
[97,"Sociocultural  y espiritual",41,"41. Inclusión Social y Reconciliación","4102","Desarrollo integral de la primera infancia a la juventud, y fortalecimiento de las capacidades de las familias de niñas, niños y adolescentes","410200300","Agentes educativos cualificados","Número",0,720,16,"16. Paz, justicia e instituciones solidas","Acumalada",180,180,180,180,55844011]
[98,"Sociocultural  y espiritual",41,"41. Inclusión Social y Reconciliación","4102","Desarrollo integral de la primera infancia a la juventud, y fortalecimiento de las capacidades de las familias de niñas, niños y adolescentes",410204300,"Familias atendidas","Número",0,3120,16,"16. Paz, justicia e instituciones solidas","Acumalada",780,780,780,780,83766017]
[99,"Sociocultural  y espiritual",41,"41. Inclusión Social y Reconciliación","4102","Desarrollo integral de la primera infancia a la juventud, y fortalecimiento de las capacidades de las familias de niñas, niños y adolescentes","410205200","Niños, niñas, adolescentes y jóvenes beneficiados","Número",9608,10000,16,"16. Paz, justicia e instituciones solidas","Acumalada",2500,2500,2500,2500,24232355]
[100,"Sociocultural  y espiritual",41,"41. Inclusión Social y Reconciliación","4102","Desarrollo integral de la primera infancia a la juventud, y fortalecimiento de las capacidades de las familias de niñas, niños y adolescentes","410205200","Niños, niñas, adolescentes y jóvenes beneficiados","Número",9608,10000,16,"16. Paz, justicia e instituciones solidas","Acumalada",2500,2500,2500,2500,24232355]
[101,"Sociocultural  y espiritual",41,"41. Inclusión Social y Reconciliación","4102","Desarrollo integral de la primera infancia a la juventud, y fortalecimiento de las capacidades de las familias de niñas, niños y adolescentes","410205200","Niños, niñas, adolescentes y jóvenes beneficiados","Número",0,3768,16,"16. Paz, justicia e instituciones solidas","Acumalada",942,942,942,942,24232355]
[102,"Sociocultural  y espiritual",41,"41. Inclusión Social y Reconciliación","4102","Desarrollo integral de la primera infancia a la juventud, y fortalecimiento de las capacidades de las familias de niñas, niños y adolescentes","410205200","Niños, niñas, adolescentes y jóvenes beneficiados","Número",0,12000,16,"16. Paz, justicia e instituciones solidas","Acumalada",3000,3000,3000,3000,24232355]
[103,"Sociocultural  y espiritual",41,"41. Inclusión Social y Reconciliación","4102","Desarrollo integral de la primera infancia a la juventud, y fortalecimiento de las capacidades de las familias de niñas, niños y adolescentes","410204600","Campañas de promoción realizadas","Número",0,16,16,"16. Paz, justicia e instituciones solidas","Acumalada",4,4,4,4,370503009]
[104,"Sociocultural  y espiritual",41,"41. Inclusión Social y Reconciliación","4102","Desarrollo integral de la primera infancia a la juventud, y fortalecimiento de las capacidades de las familias de niñas, niños y adolescentes",410204300,"Familias atendidas","Número",0,3000,16,"16. Paz, justicia e instituciones solidas","Acumalada",750,750,750,750,24232355]
[105,"Sociocultural  y espiritual",45,"45. Gobierno Territorial","4599","Fortalecimiento a la gestión y dirección de la administración pública territorial","459900100","Documentos de evaluación elaborados","Número",0,1,16,"16. Paz, justicia e instituciones solidas","Acumalada",0.4,0.6,0,0,183009507]
[106,"Sociocultural  y espiritual",45,"45. Gobierno Territorial","4502","Fortalecimiento del buen gobierno para el respeto y garantía de los derechos humanos","450203300","Espacios de integración de oferta pública generados","Número",0,80,16,"16. Paz, justicia e instituciones solidas","Acumalada",20,20,20,20,43705503]
[107,"Sociocultural  y espiritual",45,"45. Gobierno Territorial","4502","Fortalecimiento del buen gobierno para el respeto y garantía de los derechos humanos","450200100","Espacios de participación promovidos","Número",4,21,16,"16. Paz, justicia e instituciones solidas","Acumalada",3,6,6,6,87411003]
[108,"Sociocultural  y espiritual",45,"45. Gobierno Territorial","4502","Fortalecimiento del buen gobierno para el respeto y garantía de los derechos humanos","450203800","Estrategias de promoción de la garantía de derechos implementadas","Número",1,4,5,"5. Igualdad de genero","Acumalada",1,1,1,1,87411003]
[109,"Sociocultural  y espiritual",41,"41. Inclusión Social y Reconciliación","4103","Inclusión social y productiva para la población en situación de vulnerabilidad","410305200","Beneficiarios potenciales para quienes se gestiona la oferta social","Número",0,120,1,"1. Fin de la pobreza","Acumalada",30,30,30,30,183009507]
[110,"Sociocultural  y espiritual",41,"41. Inclusión Social y Reconciliación","4102","Desarrollo integral de la primera infancia a la juventud, y fortalecimiento de las capacidades de las familias de niñas, niños y adolescentes","410203500","Documentos de lineamientos técnicos realizados","Número",0,1,16,"16. Paz, justicia e instituciones solidas","Acumalada",0.1,0.4,0.3,0.2,131053228]
[111,"Sociocultural  y espiritual",41,"41. Inclusión Social y Reconciliación","4102","Desarrollo integral de la primera infancia a la juventud, y fortalecimiento de las capacidades de las familias de niñas, niños y adolescentes","410204800","Edificaciones de atención a la adolescencia y juventud construidas","Número",0,1,10,"10. Reducción de las desigualdades","Acumalada",0,0,0.2,0.8,305790864]
[112,"Sociocultural  y espiritual",41,"41. Inclusión Social y Reconciliación","4104","Atención integral de población en situación permanente de desprotección social y/o familiar","410400900","Centros de día para el adulto mayor adecuados","Número",1,1,1,"1. Fin de la pobreza","Acumalada",0.1,0.1,0.3,0.5,1593680530]
[113,"Sociocultural  y espiritual",45,"45. Gobierno Territorial","4599","Fortalecimiento a la gestión y dirección de la administración pública territorial","459900100","Documentos de evaluación elaborados","Número",1,1,16,"16. Paz, justicia e instituciones solidas","Acumalada",0.4,0.6,0,0,1098195368]
[114,"Sociocultural  y espiritual",45,"45. Gobierno Territorial","4502","Fortalecimiento del buen gobierno para el respeto y garantía de los derechos humanos","450203800","Estrategias de promoción de la garantía de derechos implementadas","Número",1,4,1,"1. Fin de la pobreza","Acumalada",1,1,1,1,2480356656]
[115,"Sociocultural  y espiritual",41,"41. Inclusión Social y Reconciliación","4103","Inclusión social y productiva para la población en situación de vulnerabilidad","410305200","Beneficiarios potenciales para quienes se gestiona la oferta social","Número",1,4,1,"1. Fin de la pobreza","Acumalada",1,1,1,1,1277407449]
[116,"Sociocultural  y espiritual",41,"41. Inclusión Social y Reconciliación","4104","Atención integral de población en situación permanente de desprotección social y/o familiar","410400800","Adultos mayores atendidos con servicios integrales","Número",2810,12640,17,"17. Alianzas para lograr los objetivos","Acumalada",407,3090,5000,4143,1672420128]
[117,"Sociocultural  y espiritual",45,"45. Gobierno Territorial","4599","Fortalecimiento a la gestión y dirección de la administración pública territorial","459901900","Documentos de planeación realizados","Número",0,1,5,"5. Igualdad de genero","Acumalada",0.3,0.7,0,0,624652883]
[118,"Sociocultural  y espiritual",45,"45. Gobierno Territorial","4501","Fortalecimiento de la convivencia y la seguridad ciudadana","450105000","Casos atendidos","Número",240,1920,16,"16. Paz, justicia e instituciones solidas","Acumalada",480,480,480,480,450268587]
[119,"Sociocultural  y espiritual",45,"45. Gobierno Territorial","4502","Fortalecimiento del buen gobierno para el respeto y garantía de los derechos humanos","450202100","Proyectos cofinanciados","Número",0,1,4,"4. Educación de calidad","Acumalada",0.25,0.25,0.25,0.25,15533135]
[120,"Sociocultural  y espiritual",45,"45. Gobierno Territorial","4502","Fortalecimiento del buen gobierno para el respeto y garantía de los derechos humanos","450203400","Personas capacitadas","Número",0,22656,4,"4. Educación de calidad","Acumalada",4656,6000,6000,6000,25888563]
[121,"Sociocultural  y espiritual",45,"45. Gobierno Territorial","4502","Fortalecimiento del buen gobierno para el respeto y garantía de los derechos humanos","450203800","Estrategias de promoción de la garantía de derechos implementadas","Número",0,4,5,"5. Igualdad de genero","Acumalada",1,1,1,1,51777122]
[122,"Sociocultural  y espiritual",45,"45. Gobierno Territorial","4502","Fortalecimiento del buen gobierno para el respeto y garantía de los derechos humanos","450201800","Documentos de archivo o colecciones documentales de Derechos Humanos y Memoria Histórica acopiados, procesados técnicamente y puestos al servicio de la sociedad","Número",0,4,16,"16. Paz, justicia e instituciones solidas","Acumalada",1,1,1,1,10355425]
[123,"Sociocultural  y espiritual",41,"41. Inclusión Social y Reconciliación","4103","Inclusión social y productiva para la población en situación de vulnerabilidad","410307100","Estudios de preinversión elaborados","Número",0,1,10,"10. Reducción de las desigualdades","Acumalada",0,0.4,0.5,0.1,97899529]
[124,"Sociocultural  y espiritual",42,"42. Inteligencia ","4103","Inclusión social y productiva para la población en situación de vulnerabilidad","410302500","Centros comunitarios construidos","Número",0,1,10,"10. Reducción de las desigualdades","Acumalada",0,0.3,0.4,0.3,228432236]
[125,"Sociocultural  y espiritual",41,"41. Inclusión Social y Reconciliación","4103","Inclusión social y productiva para la población en situación de vulnerabilidad","410303100","Centros comunitarios dotados","Número",0,1,1,"1. Fin de la pobreza","Acumalada",0,0,0.3,0.7,119930222]
[126,"Sociocultural  y espiritual",41,"41. Inclusión Social y Reconciliación","4103","Inclusión social y productiva para la población en situación de vulnerabilidad","410305200","Beneficiarios potenciales para quienes se gestiona la oferta social","Número",50,22656,1,"1. Fin de la pobreza","Acumalada",4656,6000,6000,6000,79953481]
[127,"Sociocultural  y espiritual",41,"41. Inclusión Social y Reconciliación","4104","Atención integral de población en situación permanente de desprotección social y/o familiar","410402000","Personas con discapacidad atendidas con servicios integrales","Número",1500,4000,4,"4. Educación de calidad","Acumalada",282,1000,1500,1218,1625991384]
[128,"Sociocultural  y espiritual",22,"22. Educación ","2201","Calidad, cobertura y fortalecimiento de la educación inicial, prescolar, básica y media","220108400","Sedes educativas con apoyo pedagógico para  la oferta de educación inclusiva para preescolar, básica y media","Número",1,1,16,"16. Paz, justicia e instituciones solidas","No acumalada",1,0,0,0,740733485]
[129,"Sociocultural  y espiritual",36,"36.  Trabajo","3605","Fomento de la investigación, desarrollo tecnológico e innovación del sector trabajo","360500900","Acciones de promoción y difusión realizadas","Número",5,8,3,"3. Salud y bienestar","Acumalada",2,2,2,2,118408600]
[130,"Sociocultural  y espiritual",{"$f":"IF(LEN(D134)>0,VALUE(MID(D134,1,FIND(\".\",D134,1)-1)),\"\")","v":43},"43. Deporte y Recreación","4302","Formación y preparación de deportistas","430206200","Capacitaciones realizada","Número",0,8,{"$f":"IF(LEN(M134)>0,VALUE(MID(M134,1,FIND(\".\",M134,1)-1)),\"\")","v":16},"16. Paz, justicia e instituciones solidas","Acumalada",2,2,2,2,2188046915]
[131,"Sociocultural  y espiritual",45,"45. Gobierno Territorial","4599","Fortalecimiento a la gestión y dirección de la administración pública territorial","459900100","Documentos de evaluación elaborados","Número",1,1,16,"16. Paz, justicia e instituciones solidas","No acumalada",0.4,0.6,0,0,1148546724]
[132,"Sociocultural  y espiritual",41,"41. Inclusión Social y Reconciliación",4101,"Atención, asistencia  y reparación integral a las víctimas","410109200","Víctimas que acceden a medidas de satisfacción y de garantías de no repetición a nivel individual","Número",1277,1309,16,"16. Paz, justicia e instituciones solidas","Acumalada",309,500,250,250,23693100]
[133,"Sociocultural  y espiritual",41,"41. Inclusión Social y Reconciliación","4101","Atención, asistencia  y reparación integral a las víctimas","410102500","Personas con asistencia humanitaria","Número",18,72,16,"16. Paz, justicia e instituciones solidas","Acumalada",12,20,20,20,47386201]
[134,"Sociocultural  y espiritual",41,"41. Inclusión Social y Reconciliación","4101","Atención, asistencia  y reparación integral a las víctimas","410102600","Hogares acompañados en Servicio de alojamiento temporal","Número",0,4,16,"16. Paz, justicia e instituciones solidas","Acumalada",1,1,1,1,23693100]
[135,"Sociocultural  y espiritual",41,"41. Inclusión Social y Reconciliación","4101","Atención, asistencia  y reparación integral a las víctimas","410103100","Víctimas reconocidas, recordadas y dignificadas por el Estado.","Número",0,160,16,"16. Paz, justicia e instituciones solidas","Acumalada",1,40,70,49,47386201]
[136,"Sociocultural  y espiritual",41,"41. Inclusión Social y Reconciliación","4101","Atención, asistencia  y reparación integral a las víctimas","410106300","Planes de acción articulados","Número",0,1,16,"16. Paz, justicia e instituciones solidas","Acumalada",0.1,0.3,0.4,0.2,23693100]
[137,"Sociocultural  y espiritual",41,"41. Inclusión Social y Reconciliación","4101","Atención, asistencia  y reparación integral a las víctimas","410110000","Hogares víctimas con atención humanitaria","Número",18,72,16,"16. Paz, justicia e instituciones solidas","Acumalada",12,20,20,20,23693100]
[138,"Sociocultural  y espiritual",41,"41. Inclusión Social y Reconciliación","4101","Atención, asistencia  y reparación integral a las víctimas","410102300","Solicitudes tramitadas","Número",0,5238,16,"16. Paz, justicia e instituciones solidas","Acumalada",548,2000,2090,600,23693100]
[139,"Sociocultural  y espiritual",41,"41. Inclusión Social y Reconciliación","4101","Atención, asistencia  y reparación integral a las víctimas",410101400,"Víctimas caracterizadas","Número",228,799,16,"16. Paz, justicia e instituciones solidas","Acumalada",199,200,200,200,23693096]
[140,"Sociocultural  y espiritual",12,"12. Justicia y del Derecho","1204","Justicia transicional","120401600","Jornadas móviles de justicia transicional realizadas","Número",4,8,16,"16. Paz, justicia e instituciones solidas","Acumalada",2,2,2,2,175230598]
[141,"Sociocultural  y espiritual",41,"41. Inclusión Social y Reconciliación","4104","Atención integral de población en situación permanente de desprotección social y/o familiar","410402600","Personas atendidas con oferta institucional","Número",0,80,1,"1. Fin de la pobreza","Acumalada",24,24,16,16,272053037]
[142,"Sociocultural  y espiritual",41,"41. Inclusión Social y Reconciliación","4102","Desarrollo integral de la primera infancia a la juventud, y fortalecimiento de las capacidades de las familias de niñas, niños y adolescentes","410204200","Acciones ejecutadas con las comunidades","Número",0,43,16,"16. Paz, justicia e instituciones solidas","Acumalada",10,10,10,13,66191926]
[143,"Sociocultural  y espiritual",41,"41. Inclusión Social y Reconciliación","4102","Desarrollo integral de la primera infancia a la juventud, y fortalecimiento de las capacidades de las familias de niñas, niños y adolescentes","410204600","Campañas de promoción realizadas","Número",0,4,16,"16. Paz, justicia e instituciones solidas","Acumalada",1,1,1,1,99287889]
[144,"Sociocultural  y espiritual",45,"45. Gobierno Territorial","4599","Fortalecimiento a la gestión y dirección de la administración pública territorial","459900100","Documentos de evaluación elaborados","Número",0,1,16,"16. Paz, justicia e instituciones solidas","Acumalada",0.4,0.6,0,0,103554244]
[145,"Sociocultural  y espiritual",45,"45. Gobierno Territorial","4502","Fortalecimiento del buen gobierno para el respeto y garantía de los derechos humanos","450203800","Estrategias de promoción de la garantía de derechos implementadas","Número",0,4,5,"5. Igualdad de genero","Acumalada",1,1,1,1,172815506]
[146,"Sociocultural  y espiritual",36,"36.  Trabajo","3601","Protección Social","360101000","Trámites realizados","Número",463,543,10,"10. Reducción de las desigualdades","Acumalada",85,200,138,120,85105988]
[147,"Sociocultural  y espiritual",22,"22. Educación ","2201","Calidad, cobertura y fortalecimiento de la educación inicial, prescolar, básica y media","220107500","Eventos de promoción y prevención de los derechos  realizados","Número",0,96,16,"16. Paz, justicia e instituciones solidas","Acumalada",24,24,24,24,65059324]
[148,"Sociocultural  y espiritual",41,"41. Inclusión Social y Reconciliación","4102","Desarrollo integral de la primera infancia a la juventud, y fortalecimiento de las capacidades de las familias de niñas, niños y adolescentes","410204200","Acciones ejecutadas con las comunidades","Número",0,48,16,"16. Paz, justicia e instituciones solidas","Acumalada",12,12,12,12,20945838]
[149,"Sociocultural  y espiritual",41,"41. Inclusión Social y Reconciliación","4102","Desarrollo integral de la primera infancia a la juventud, y fortalecimiento de las capacidades de las familias de niñas, niños y adolescentes","410204200","Acciones ejecutadas con las comunidades","Número",4,16,16,"16. Paz, justicia e instituciones solidas","Acumalada",4,4,4,4,55855565]
[150,"Sociocultural  y espiritual",41,"41. Inclusión Social y Reconciliación","4102","Desarrollo integral de la primera infancia a la juventud, y fortalecimiento de las capacidades de las familias de niñas, niños y adolescentes","410204200","Acciones ejecutadas con las comunidades","Número",0,48,16,"16. Paz, justicia e instituciones solidas","Acumalada",12,12,12,12,20945838]
[151,"Sociocultural  y espiritual",41,"41. Inclusión Social y Reconciliación","4102","Desarrollo integral de la primera infancia a la juventud, y fortalecimiento de las capacidades de las familias de niñas, niños y adolescentes","410205200","Niños, niñas, adolescentes y jóvenes beneficiados","Número",0,13240,16,"16. Paz, justicia e instituciones solidas","Acumalada",1990,3310,3970,3970,41891673]
[152,"Sociocultural  y espiritual",45,"45. Gobierno Territorial","4502","Fortalecimiento del buen gobierno para el respeto y garantía de los derechos humanos","450200100","Espacios de participación promovidos","Número",0,16,16,"16. Paz, justicia e instituciones solidas","Acumalada",4,4,4,4,29650848]
[153,"Sociocultural  y espiritual",45,"45. Gobierno Territorial","4502","Fortalecimiento del buen gobierno para el respeto y garantía de los derechos humanos","450200100","Espacios de participación promovidos","Número",0,48,16,"16. Paz, justicia e instituciones solidas","Acumalada",12,12,12,12,29650848]
[154,"Sociocultural  y espiritual",45,"45. Gobierno Territorial","4502","Fortalecimiento del buen gobierno para el respeto y garantía de los derechos humanos","450203900","Personas y empresas beneficiadas","Número",0,40,5,"5. Igualdad de genero","Acumalada",10,10,10,10,29650848]
[155,"Sociocultural  y espiritual",45,"45. Gobierno Territorial","4502","Fortalecimiento del buen gobierno para el respeto y garantía de los derechos humanos","450203800","Estrategias de promoción de la garantía de derechos implementadas","Número",0,40,5,"5. Igualdad de genero","Acumalada",10,10,10,10,29650848]
[156,"Sociocultural  y espiritual",12,"12. Justicia y del Derecho","1202","Promoción al acceso a la justicia","120202000","Campañas de divulgación ejecutadas","Número",0,48,16,"16. Paz, justicia e instituciones solidas","Acumalada",12,12,12,12,114060687]
[157,"Sociocultural  y espiritual",45,"45. Gobierno Territorial","4599","Fortalecimiento a la gestión y dirección de la administración pública territorial","459901900","Documentos de planeación realizados","Número",0,1,17,"17. Alianzas para lograr los objetivos","No acumalada",0.1,0.5,0.4,0,291254201]
[158,"Sociocultural  y espiritual",45,"45. Gobierno Territorial","4501","Fortalecimiento de la convivencia y la seguridad ciudadana","450106100","Animales atendidos","Número",3870,4500,3,"3. Salud y bienestar","Acumalada",450,1350,1800,900,196171925]
[159,"Sociocultural  y espiritual",45,"45. Gobierno Territorial","4501","Fortalecimiento de la convivencia y la seguridad ciudadana","450106100","Animales atendidos","Número",969,1500,3,"3. Salud y bienestar","Acumalada",150,450,600,300,196171925]
[160,"Sociocultural  y espiritual",45,"45. Gobierno Territorial","4501","Fortalecimiento de la convivencia y la seguridad ciudadana","450106100","Animales atendidos","Número",260,400,3,"3. Salud y bienestar","Acumalada",40,120,160,80,98085962]
[161,"Sociocultural  y espiritual",45,"45. Gobierno Territorial","4501","Fortalecimiento de la convivencia y la seguridad ciudadana","450106100","Animales atendidos","Número",11000,12000,3,"3. Salud y bienestar","Acumalada",1200,3600,4800,2400,490429811]
[162,"Sociocultural  y espiritual",45,"45. Gobierno Territorial","4599","Fortalecimiento a la gestión y dirección de la administración pública territorial","459901900","Documentos de planeación realizados","Número",0,1,17,"17. Alianzas para lograr los objetivos","Acumalada",0.3,0.3,0.2,0.2,72448003]
[163,"Sociocultural  y espiritual",32,"32. Ambiente y Desarrollo Sostenible",3204,"Gestión de la información y el conocimiento ambiental","320404900","Documentos divulgados","Número",14,48,16,"16. Paz, justicia e instituciones solidas","Acumalada",12,12,12,12,332602011]
[164,"Económica",36,"36.  Trabajo","3605","Fomento de la investigación, desarrollo tecnológico e innovación del sector trabajo","360501200","Estrategias implementadas","Número",2,8,8,"8. Trabajo decente y crecimiento económico ","Acumalada",1,3,2,2,56752335]
[165,"Económica",36,"36.  Trabajo","3605","Fomento de la investigación, desarrollo tecnológico e innovación del sector trabajo","360501200","Estrategias implementadas","Número",2,10,8,"8. Trabajo decente y crecimiento económico ","Acumalada",2,3,3,2,132422112]
[166,"Económica",45,"45. Gobierno Territorial","4501","Fortalecimiento de la convivencia y la seguridad ciudadana","450103100","Documentos normativos realizados","Número",0,1,16,"16. Paz, justicia e instituciones solidas","No acumalada",0.3,0.7,0,0,186052661]
[167,"Económica",45,"45. Gobierno Territorial","4502","Fortalecimiento del buen gobierno para el respeto y garantía de los derechos humanos",450203408,"Estrategias para el ejercicio de derechos desde un enfoque diferencial implementadas","Número",22,50,4,"4. Educación de calidad","Acumalada",5,15,15,15,123744971]
[168,"Económica",45,"45. Gobierno Territorial","4502","Fortalecimiento del buen gobierno para el respeto y garantía de los derechos humanos","450203408","Estrategias para el ejercicio de derechos desde un enfoque diferencial implementadas","Número",0,25,4,"4. Educación de calidad","Acumalada",4,10,6,5,92808729]
[169,"Económica",45,"45. Gobierno Territorial","4502","Fortalecimiento del buen gobierno para el respeto y garantía de los derechos humanos","450200100","Espacios de participación promovidos","Número",0,16,16,"16. Paz, justicia e instituciones solidas","Acumalada",4,4,4,4,92808729]
[170,"Económica",36,"36.  Trabajo","3602","Generación y formalización del empleo","360203200","Emprendimientos asesorados","Número",130,200,8,"8. Trabajo decente y crecimiento económico ","Acumalada",25,60,70,45,56365899]
[171,"Económica",36,"36.  Trabajo","3602","Generación y formalización del empleo","360203200","Emprendimientos asesorados","Número",0,15,8,"8. Trabajo decente y crecimiento económico ","Acumalada",2,3,5,5,90185438]
[172,"Económica",36,"36.  Trabajo","3602","Generación y formalización del empleo","360203201","Emprendimientos fortalecidos","Número",19,200,8,"8. Trabajo decente y crecimiento económico ","Acumalada",25,60,70,45,78912257]
[173,"Económica",35,"35. Comercio, Industria y Turismo","3502","Productividad y competitividad de las empresas colombianas","350200200","Documentos de lineamientos técnicos elaborados","Número",0,1,9,"9. Industria, innovación e infraestructura","Acumalada",0.1,0.3,0.2,0.4,638316437]
[174,"Económica",35,"35. Comercio, Industria y Turismo","3502","Productividad y competitividad de las empresas colombianas","350200900","Unidades productivas  beneficiadas en la implementación de estrategias para incrementar su productividad ","Número",78,320,4,"4. Educación de calidad","Acumalada",50,100,90,80,82918004]
[175,"Económica",35,"35. Comercio, Industria y Turismo","3502","Productividad y competitividad de las empresas colombianas","350201100","Personas formadas en habilidades y competencias ","Número",0,80,8,"8. Trabajo decente y crecimiento económico ","Acumalada",20,20,20,20,55278669]
[176,"Económica",35,"35. Comercio, Industria y Turismo","3502","Productividad y competitividad de las empresas colombianas","350204600","Campañas realizadas","Número",0,32,2,"2. Hambre cero","Acumalada",8,8,8,8,138196673]
[177,"Económica",17,"17. Agricultura y desarrollo rural","1708","Ciencia, tecnología e innovación agropecuaria","170804100","Productores atendidos con servicio de extensión agropecuaria","Número",530,800,1,"1. Fin de la pobreza","Acumalada",200,200,200,200,392771901]
[178,"Económica",17,"17. Agricultura y desarrollo rural","1702","Inclusión productiva de pequeños productores rurales","170201800","Documentos de lineamientos técnicos elaborados","Número",0,1,1,"1. Fin de la pobreza","No acumalada",0.4,0.6,0,0,281401205]
[179,"Económica",17,"17. Agricultura y desarrollo rural","1702","Inclusión productiva de pequeños productores rurales","170201000","Pequeños productores rurales asistidos técnicamente","Número",240,960,1,"1. Fin de la pobreza","Acumalada",240,240,240,240,140700604]
[180,"Económica",17,"17. Agricultura y desarrollo rural","1702","Inclusión productiva de pequeños productores rurales",170200701,"Pequeños productores apoyados","Número",20,200,16,"16. Paz, justicia e instituciones solidas","Acumalada",50,50,50,50,140700604]
[181,"Económica",17,"17. Agricultura y desarrollo rural","1707","Sanidad agropecuaria e inocuidad agroalimentaria","170706901","Asistentes informados","Número",0,16,11,"11. Ciudades y comunidades sostenibles","Acumalada",4,4,4,4,349138924]
[182,"Económica",32,"32. Ambiente y Desarrollo Sostenible","3201","Fortalecimiento del desempeño ambiental de los sectores productivos","320101500","Documentos de lineamientos técnicos para  promover la gestión sostenible del suelo elaborados ","Número",0,2,9,"9. Industria, innovación e infraestructura","Acumalada",0,1,1,0,114059868]
[183,"Económica",24,"24. Transporte","2402","Infraestructura red vial regional",240204100,"Vía terciaria mejorada","Kilómetros",0.1,6,16,"16. Paz, justicia e instituciones solidas","Acumalada",0,2,2,2,6596109676]
[184,"Económica",40,"40. Vivienda, Ciudad y Territorio","4002","Ordenamiento territorial y desarrollo urbano","400203400","Estudios o diseños realizados ","Número",0,1,16,"16. Paz, justicia e instituciones solidas","No acumalada",0,0.7,0.3,0,13167572]
[185,"Económica",40,"40. Vivienda, Ciudad y Territorio","4002","Ordenamiento territorial y desarrollo urbano","400203400","Estudios o diseños realizados ","Número",0,1,16,"16. Paz, justicia e instituciones solidas","No acumalada",0,0.7,0.3,0,6583788]
[186,"Económica",40,"40. Vivienda, Ciudad y Territorio","4002","Ordenamiento territorial y desarrollo urbano","400203400","Estudios o diseños realizados ","Número",0,1,16,"16. Paz, justicia e instituciones solidas","No acumalada",0,0.5,0.5,0,6583788]
[187,"Económica",40,"40. Vivienda, Ciudad y Territorio","4002","Ordenamiento territorial y desarrollo urbano","400203400","Estudios o diseños realizados ","Número",0,1,16,"16. Paz, justicia e instituciones solidas","No acumalada",0,1,0,0,6583785]
[188,"Económica",40,"40. Vivienda, Ciudad y Territorio","4002","Ordenamiento territorial y desarrollo urbano","400203400","Estudios o diseños realizados ","Número",1,6,16,"16. Paz, justicia e instituciones solidas","Acumalada",0,2,2,2,19751357]
[189,"Económica",40,"40. Vivienda, Ciudad y Territorio","4002","Ordenamiento territorial y desarrollo urbano","400203400","Estudios o diseños realizados ","Número",0,1,16,"16. Paz, justicia e instituciones solidas","No acumalada",0,0.7,0.3,0,26335146]
[190,"Económica",40,"40. Vivienda, Ciudad y Territorio","4002","Ordenamiento territorial y desarrollo urbano","400203400","Estudios o diseños realizados ","Número",0,1,11,"11. Ciudades y comunidades sostenibles","No acumalada",0,1,0,0,13167572]
[191,"Económica",40,"40. Vivienda, Ciudad y Territorio","4002","Ordenamiento territorial y desarrollo urbano","400203400","Estudios o diseños realizados ","Número",0,1,11,"11. Ciudades y comunidades sostenibles","No acumalada",0,0,1,0,13167572]
[192,"Económica",40,"40. Vivienda, Ciudad y Territorio","4002","Ordenamiento territorial y desarrollo urbano","400201600","Documentos de planeación elaborados","Número",0,1,9,"9. Industria, innovación e infraestructura","Acumalada",0.3,0.3,0.2,0.2,13167572]
[193,"Económica",40,"40. Vivienda, Ciudad y Territorio","4002","Ordenamiento territorial y desarrollo urbano","400201300","Proyectos apoyados financieramente en Mejoramiento Integral de Barrios","Número",0,2,9,"9. Industria, innovación e infraestructura","Acumalada",0,0,1,1,13167572]
[194,"Económica",{"$f":"IF(LEN(D198)>0,VALUE(MID(D198,1,FIND(\".\",D198,1)-1)),\"\")","v":35},"35. Comercio, Industria y Turismo","3502","Productividad y competitividad de las empresas colombianas","350200900","Unidades productivas  beneficiadas en la implementación de estrategias para incrementar su productividad ","Número",0,4,{"$f":"IF(LEN(M198)>0,VALUE(MID(M198,1,FIND(\".\",M198,1)-1)),\"\")","v":9},"9. Industria, innovación e infraestructura","Acumalada",1,1,1,1,327815150]
[195,"Económica",24,"24. Transporte","2402","Infraestructura red vial regional","240200600","Vía secundaria mejorada","Kilómetros",2.5,2,9,"9. Industria, innovación e infraestructura","Acumalada",0.1,1,0.4,0.5,53143948]
[196,"Económica",24,"24. Transporte","2402","Infraestructura red vial regional","240200600","Vía secundaria mejorada","Kilómetros",0,1.5,9,"9. Industria, innovación e infraestructura","Acumalada",0.05,0,1,0.45,106287902]
[197,"Económica",24,"24. Transporte","2402","Infraestructura red vial regional","240200600","Vía secundaria mejorada","Kilómetros",0,1,9,"9. Industria, innovación e infraestructura","Acumalada",0.05,0,0.95,0,53143948]
[198,"Económica",24,"24. Transporte",2402,"Infraestructura red vial regional","240204100","Vía terciaria mejorada","Kilómetros",0,6,9,"9. Industria, innovación e infraestructura","Acumalada",0.05,2,2,1.95,159431846]
[199,"Económica",24,"24. Transporte","2402","Infraestructura red vial regional","240200100","Vía secundaria construida ","Kilómetros",0,1,11,"11. Ciudades y comunidades sostenibles","Acumalada",0.05,0,0.95,0,265719745]
[200,"Económica",24,"24. Transporte","2402","Infraestructura red vial regional","240211400","Vía urbana mejorada ","Kilómetros",0,1.5,11,"11. Ciudades y comunidades sostenibles","Acumalada",0.05,0,0.95,0.5,53143948]
[201,"Económica",25,"25. Organismos de Contro","2402","Infraestructura red vial regional","240211400","Vía urbana mejorada ","Kilómetros",0,1,3,"3. Salud y bienestar","Acumalada",0,0,1,0,53143948]
[202,"Económica",24,"24. Transporte","2402","Infraestructura red vial regional","240212800","Andenes de la red urbana mejorados","Metros ",0,2000,8,"8. Trabajo decente y crecimiento económico ","Acumalada",100,500,800,600,318863693]
[203,"Económica",24,"24. Transporte","2407","Infraestructura y servicios de logística de transporte","240700200","Plataformas logísticas operando","Número",0,1,11,"11. Ciudades y comunidades sostenibles","Acumalada",0,0,1,0,73384956]
[204,"Económica",24,"24. Transporte","2408","Prestación de servicios de transporte público de pasajeros","240803900","Estrategias de seguridad ciudadana implementadas","Número",0,48,11,"11. Ciudades y comunidades sostenibles","Acumalada",12,12,12,12,3055566055]
[205,"Económica",35,"35. Comercio, Industria y Turismo","3502","Productividad y competitividad de las empresas colombianas","350205600","Senderos construidos","Número",0,2,11,"11. Ciudades y comunidades sostenibles","Acumalada",0,1,0,1,316699270]
[206,"Económica",24,"24. Transporte","2409","Seguridad de transporte","240900800","Documentos de lineamientos técnicos realizados","Número",0,1,8,"8. Trabajo decente y crecimiento económico ","Acumalada",0.4,0.6,0,0,642306028]
[207,"Económica",24,"24. Transporte","2409","Seguridad de transporte",240900900,"Estrategias implementadas","Número",0,1,11,"11. Ciudades y comunidades sostenibles","Acumalada",0.1,0,0.5,0.4,128461207]
[208,"Económica",24,"24. Transporte","2409","Seguridad de transporte","240905800","Cicloinfraestructura construida","Kilómetros",0,1.5,11,"11. Ciudades y comunidades sostenibles","Acumalada",0,0,1,0.5,47816503]
[209,"Económica",24,"24. Transporte","2409","Seguridad de transporte","240905800","Cicloinfraestructura construida","Kilómetros",0,1.5,11,"11. Ciudades y comunidades sostenibles","Acumalada",0,0,1,0.5,47816503]
[210,"Económica",24,"24. Transporte","2409","Seguridad de transporte","240901600","Estudios de preinversión realizados","Número",0,1,11,"11. Ciudades y comunidades sostenibles","Acumalada",0.05,0,0.95,0,385383621]
[211,"Económica",24,"24. Transporte","2409","Seguridad de transporte","240900800","Documentos de lineamientos técnicos realizados","Número",0,1,9,"9. Industria, innovación e infraestructura","Acumalada",0.4,0.6,0,0,642306028]
[212,"Económica",24,"24. Transporte","2409","Seguridad de transporte",240900900,"Estrategias implementadas","Número",0,27,11,"11. Ciudades y comunidades sostenibles","Acumalada",4,3,12,8,642306028]
[213,"Económica",24,"24. Transporte","2409","Seguridad de transporte","240900900","Estrategias implementadas","Número",1,16,11,"11. Ciudades y comunidades sostenibles","Acumalada",4,4,4,4,128461207]
[214,"Ambiental",32,"32. Ambiente y Desarrollo Sostenible","3202","Conservación de la biodiversidad y sus servicios ecosistémicos","320203300","Infraestructura ecoturística construida ","Número",0,1,11,"11. Ciudades y comunidades sostenibles","Acumalada",0,0,1,0,570822143]
[215,"Ambiental",45,"45. Gobierno Territorial","4599","Fortalecimiento a la gestión y dirección de la administración pública territorial","459901900","Documentos de planeación realizados","Número",0,1,8,"8. Trabajo decente y crecimiento económico ","No acumalada",0,1,0,0,152090334]
[216,"Ambiental",32,"32. Ambiente y Desarrollo Sostenible","3201","Fortalecimiento del desempeño ambiental de los sectores productivos","320100500","Documentos de estudios técnicos con la evaluación ambiental estratégica realizados","Número",0,1,17,"17. Alianzas para lograr los objetivos","No acumalada",0,0,1,0,571750159]
[217,"Ambiental",32,"32. Ambiente y Desarrollo Sostenible","3203","Gestión integral del recurso hídrico","320305000","Áreas protegidas","Hectáreas",35,40,15,"15. Vida de ecosistemas terrestres","Acumalada",0.5,10,15,14.5,1264200916]
[218,"Ambiental",32,"32. Ambiente y Desarrollo Sostenible","3205","Ordenamiento ambiental territorial","320500100","Documentos de lineamientos técnicos realizados","Número",0,6,6,"6. Agua limpia y saneamiento","Acumalada",0,2,2,2,190583386]
[219,"Ambiental",32,"32. Ambiente y Desarrollo Sostenible","3205","Ordenamiento ambiental territorial","320500100","Documentos de lineamientos técnicos realizados","Número",1,1,11,"11. Ciudades y comunidades sostenibles","No acumalada",0,0,1,0,114350033]
[220,"Ambiental",32,"32. Ambiente y Desarrollo Sostenible","3205","Ordenamiento ambiental territorial","320500100","Documentos de lineamientos técnicos realizados","Número",0,4,11,"11. Ciudades y comunidades sostenibles","Acumalada",1,1,1,1,76233352]
[221,"Ambiental",32,"32. Ambiente y Desarrollo Sostenible","3205","Ordenamiento ambiental territorial","320500100","Documentos de lineamientos técnicos realizados","Número",0,1,11,"11. Ciudades y comunidades sostenibles","No acumalada",0,0,1,0,38116678]
[222,"Ambiental",32,"32. Ambiente y Desarrollo Sostenible","3205","Ordenamiento ambiental territorial","320500100","Documentos de lineamientos técnicos realizados","Número",2,2,11,"11. Ciudades y comunidades sostenibles","Acumalada",0,1,1,0,114350033]
[223,"Ambiental",32,"32. Ambiente y Desarrollo Sostenible","3205","Ordenamiento ambiental territorial","320500100","Documentos de lineamientos técnicos realizados","Número",0,1,11,"11. Ciudades y comunidades sostenibles","Acumalada",0,0,1,0,76233355]
[224,"Ambiental",32,"32. Ambiente y Desarrollo Sostenible","3205","Ordenamiento ambiental territorial","320500600","Campañas realizadas","Número",0,2,11,"11. Ciudades y comunidades sostenibles","Acumalada",0,1,0,1,152466707]
[225,"Ambiental",35,"35. Comercio, Industria y Turismo","3502","Productividad y competitividad de las empresas colombianas","350204600","Campañas realizadas","Número",0,8,16,"16. Paz, justicia e instituciones solidas","Acumalada",2,2,2,2,95409391]
[226,"Ambiental",35,"35. Comercio, Industria y Turismo","3502","Productividad y competitividad de las empresas colombianas","350204600","Campañas realizadas","Número",0,8,8,"8. Trabajo decente y crecimiento económico ","Acumalada",2,2,2,2,95409391]
[227,"Ambiental",35,"35. Comercio, Industria y Turismo","3502","Productividad y competitividad de las empresas colombianas","350204600","Campañas realizadas","Número",0,16,8,"8. Trabajo decente y crecimiento económico ","Acumalada",4,4,4,4,95409391]
[228,"Ambiental",35,"35. Comercio, Industria y Turismo","3502","Productividad y competitividad de las empresas colombianas","350204600","Campañas realizadas","Número",0,24,8,"8. Trabajo decente y crecimiento económico ","Acumalada",6,6,6,6,31803131]
[229,"Ambiental",45,"45. Gobierno Territorial","4599","Fortalecimiento a la gestión y dirección de la administración pública territorial","459900100","Documentos de evaluación elaborados","Número",0,1,8,"8. Trabajo decente y crecimiento económico ","Acumalada",0.4,0.6,0,0,170332055]
[230,"Ambiental",45,"45. Gobierno Territorial","4503","Gestión del riesgo de desastres y emergencias","450300200","Personas capacitadas","Número",0,200,16,"16. Paz, justicia e instituciones solidas","Acumalada",50,50,50,50,2390850638]
[231,"Ambiental",45,"45. Gobierno Territorial","4503","Gestión del riesgo de desastres y emergencias","450302400","Documentos normativos realizados","Número",0,1,13,"13. Acción por el clima","Acumalada",0.4,0.6,0,0,689623901]
[232,"Ambiental",45,"45. Gobierno Territorial","4503","Gestión del riesgo de desastres y emergencias","450303400","Documentos de evaluación elaborados","Número",0,4,11,"11. Ciudades y comunidades sostenibles","Acumalada",1,1,1,1,95105176]
[233,"Ambiental",45,"45. Gobierno Territorial","4503","Gestión del riesgo de desastres y emergencias","450301700","Estudios de riesgo de desastres elaborados","Número",0,1,16,"16. Paz, justicia e instituciones solidas","Acumalada",0.4,0.6,0,0,95105176]
[234,"Ambiental",32,"32. Ambiente y Desarrollo Sostenible","3205","Ordenamiento ambiental territorial","320500200","Documentos de estudios técnicos para el conocimiento y reducción del riesgo de desastres elaborados","Número",0,1,11,"11. Ciudades y comunidades sostenibles","Acumalada",0.4,0.6,0,0,1154483203]
[235,"Ambiental",32,"32. Ambiente y Desarrollo Sostenible","3205","Ordenamiento ambiental territorial","320501700","Documentos con diseños de obra para la reducción y mitigación del riesgo de desastres elaborados ","Número",0,4,11,"11. Ciudades y comunidades sostenibles","Acumalada",1,1,1,1,288620801]
[236,"Ambiental",45,"45. Gobierno Territorial","4599","Fortalecimiento a la gestión y dirección de la administración pública territorial","459902800","Sistemas de información actualizados","Número",0,1,11,"11. Ciudades y comunidades sostenibles","No acumalada",0,1,0,0,263351447]
[237,"Ambiental",45,"45. Gobierno Territorial","4599","Fortalecimiento a la gestión y dirección de la administración pública territorial","459903200","Documentos de política elaborados","Número",3,4,17,"17. Alianzas para lograr los objetivos","Acumalada",0,1,2,1,263351447]
[238,"Ambiental",45,"45. Gobierno Territorial","4599","Fortalecimiento a la gestión y dirección de la administración pública territorial","459903200","Documentos de política elaborados","Número",3,4,16,"16. Paz, justicia e instituciones solidas","Acumalada",1,1,1,1,628104243]
[239,"Ambiental",4,"4. Información Estadística","0406","Generación de la información geográfica del territorio nacional","040600600","Documentos normativos elaborados","Número",0,1,16,"16. Paz, justicia e instituciones solidas","Acumalada",0.2,0.8,0,0,552039213]
[240,"Ambiental",4,"4. Información Estadística","0406","Generación de la información geográfica del territorio nacional","040602100","Mapas Temáticos desarrollados","Número",11,27,17,"17. Alianzas para lograr los objetivos","No acumalada",27,0,0,0,368026141]
[241,"Ambiental",32,"32. Ambiente y Desarrollo Sostenible","3204","Gestión de la información y el conocimiento ambiental","320404600","Documentos técnicos para la planificación sectorial y la gestión ambiental formulado","Número",1,3,17,"17. Alianzas para lograr los objetivos","Acumalada",0,1,1,1,196950663]
[242,"Ambiental",4,"4. Información Estadística","0401","Levantamiento y actualización de información estadística de calidad","040110600","Estrategias implementadas","Número",0,8,15,"15. Vida de ecosistemas terrestres","Acumalada",2,2,2,2,281126388]
[243,"Ambiental",4,"4. Información Estadística","0401","Levantamiento y actualización de información estadística de calidad","040110600","Estrategias implementadas","Número",0,5,16,"16. Paz, justicia e instituciones solidas","Acumalada",2,1,1,1,187417592]
[244,"Ambiental",40,"40. Vivienda, Ciudad y Territorio","4002","Ordenamiento territorial y desarrollo urbano","400201600","Documentos de planeación elaborados","Número",1,1,16,"16. Paz, justicia e instituciones solidas","No acumalada",0,0,1,0,233677208]
[245,"Político institucional",24,"24. Transporte","2402","Infraestructura red vial regional","240211400","Vía urbana mejorada ","Kilómetros",0,5,11,"11. Ciudades y comunidades sostenibles","Acumalada",0,1,2,2,4273833370]
[246,"Político institucional",40,"40. Vivienda, Ciudad y Territorio","4002","Ordenamiento territorial y desarrollo urbano","400201300","Proyectos apoyados financieramente en Mejoramiento Integral de Barrios","Número",0,1,9,"9. Industria, innovación e infraestructura","Acumalada",0,0,1,0,314803719]
[247,"Político institucional",40,"40. Vivienda, Ciudad y Territorio","4002","Ordenamiento territorial y desarrollo urbano","400201300","Proyectos apoyados financieramente en Mejoramiento Integral de Barrios","Número",0,4,11,"11. Ciudades y comunidades sostenibles","Acumalada",0,1,2,1,314803716]
[248,"Político institucional",40,"40. Vivienda, Ciudad y Territorio","4002","Ordenamiento territorial y desarrollo urbano","400201300","Proyectos apoyados financieramente en Mejoramiento Integral de Barrios","Número",0,1,11,"11. Ciudades y comunidades sostenibles","Acumalada",0,0,1,0,314803716]
[249,"Político institucional",40,"40. Vivienda, Ciudad y Territorio","4002","Ordenamiento territorial y desarrollo urbano","400201300","Proyectos apoyados financieramente en Mejoramiento Integral de Barrios","Número",0,1,11,"11. Ciudades y comunidades sostenibles","Acumalada",0,0,1,0,314803716]
[250,"Político institucional",40,"40. Vivienda, Ciudad y Territorio","4002","Ordenamiento territorial y desarrollo urbano","400201300","Proyectos apoyados financieramente en Mejoramiento Integral de Barrios","Número",0,1,11,"11. Ciudades y comunidades sostenibles","Acumalada",0,0,1,0,314803716]
[251,"Político institucional",40,"40. Vivienda, Ciudad y Territorio","4002","Ordenamiento territorial y desarrollo urbano","400201300","Proyectos apoyados financieramente en Mejoramiento Integral de Barrios","Número",0,4,11,"11. Ciudades y comunidades sostenibles","Acumalada",0,1,2,1,314803716]
[252,"Político institucional",40,"40. Vivienda, Ciudad y Territorio","4002","Ordenamiento territorial y desarrollo urbano","400201600","Documentos de planeación elaborados","Número",0,1,11,"11. Ciudades y comunidades sostenibles","Acumalada",0,0,1,0,314803716]
[253,"Político institucional",40,"40. Vivienda, Ciudad y Territorio","4002","Ordenamiento territorial y desarrollo urbano","400201600","Documentos de planeación elaborados","Número",0,1,11,"11. Ciudades y comunidades sostenibles","No acumalada",0,1,0,0,314803716]
[254,"Político institucional",40,"40. Vivienda, Ciudad y Territorio","4002","Ordenamiento territorial y desarrollo urbano","400201900","Espacio publico construido","Metros cuadrados",2000,2000,11,"11. Ciudades y comunidades sostenibles","Acumalada",100,500,800,600,3364476738]
[255,"Político institucional",40,"40. Vivienda, Ciudad y Territorio","4002","Ordenamiento territorial y desarrollo urbano","400201900","Espacio publico construido","Metros cuadrados",0,1200,11,"11. Ciudades y comunidades sostenibles","Acumalada",0,400,500,300,314803716]
[256,"Político institucional",40,"40. Vivienda, Ciudad y Territorio","4002","Ordenamiento territorial y desarrollo urbano","400201900","Espacio publico construido","Metros cuadrados",0,50,11,"11. Ciudades y comunidades sostenibles","No acumalada",13,0,20,17,3364476738]
[257,"Político institucional",40,"40. Vivienda, Ciudad y Territorio","4002","Ordenamiento territorial y desarrollo urbano","400202000","Espacio publico adecuado","Metros cuadrados",300,300,11,"11. Ciudades y comunidades sostenibles","Acumalada",15,75,120,90,1682238369]
[258,"Político institucional",{"$f":"IF(LEN(D262)>0,VALUE(MID(D262,1,FIND(\".\",D262,1)-1)),\"\")","v":40},"40. Vivienda, Ciudad y Territorio","4002","Ordenamiento territorial y desarrollo urbano","400202000","Espacio publico adecuado","Metros cuadrados",0,500,{"$f":"IF(LEN(M262)>0,VALUE(MID(M262,1,FIND(\".\",M262,1)-1)),\"\")","v":11},"11. Ciudades y comunidades sostenibles","Acumalada",25,150,150,175,1682238369]
[259,"Político institucional",40,"40. Vivienda, Ciudad y Territorio","4002","Ordenamiento territorial y desarrollo urbano","400202000","Espacio publico adecuado","Metros cuadrados",0,200,11,"11. Ciudades y comunidades sostenibles","Acumalada",10,0,150,40,1682238369]
[260,"Político institucional",40,"40. Vivienda, Ciudad y Territorio","4002","Ordenamiento territorial y desarrollo urbano","400202000","Espacio publico adecuado","Metros cuadrados",0,75,11,"11. Ciudades y comunidades sostenibles","Acumalada",5,25,30,15,1682238369]
[261,"Político institucional",40,"40. Vivienda, Ciudad y Territorio","4002","Ordenamiento territorial y desarrollo urbano","400202000","Espacio publico adecuado","Metros cuadrados",0,100,11,"11. Ciudades y comunidades sostenibles","Acumalada",5,0,50,45,1682238369]
[262,"Político institucional",40,"40. Vivienda, Ciudad y Territorio","4002","Ordenamiento territorial y desarrollo urbano","400202000","Espacio publico adecuado","Metros cuadrados",0,6000,11,"11. Ciudades y comunidades sostenibles","Acumalada",300,1200,2100,2400,8212270862]
[263,"Político institucional",40,"40. Vivienda, Ciudad y Territorio","4002","Ordenamiento territorial y desarrollo urbano","400203000","Plazas construidas","Metros cuadrados",0,300,11,"11. Ciudades y comunidades sostenibles","Acumalada",50,100,100,50,1682238369]
[264,"Político institucional",40,"40. Vivienda, Ciudad y Territorio","4002","Ordenamiento territorial y desarrollo urbano","400203400","Estudios o diseños realizados ","Número",0,1,16,"16. Paz, justicia e instituciones solidas","Acumalada",0,0,1,0,314803716]
[265,"Político institucional",36,"36.  Trabajo","3604","Derechos fundamentales del trabajo y fortalecimiento del diálogo social","360401900","Personas asistidas técnicamente","Número",107,116,8,"8. Trabajo decente y crecimiento económico ","Acumalada",116,0,0,0,1495556693]
[266,"Político institucional",45,"45. Gobierno Territorial","4501","Fortalecimiento de la convivencia y la seguridad ciudadana","450100800","Sistemas de información actualizados","Número",1,1,16,"16. Paz, justicia e instituciones solidas","Acumalada",0.25,0.75,0,0,710663080]
[267,"Político institucional",45,"45. Gobierno Territorial","4599","Fortalecimiento a la gestión y dirección de la administración pública territorial","459901900","Documentos de planeación realizados","Número",1,1,17,"17. Alianzas para lograr los objetivos","Acumalada",0.25,0.75,0,0,710663080]
[268,"Político institucional",45,"45. Gobierno Territorial","4502","Fortalecimiento del buen gobierno para el respeto y garantía de los derechos humanos","450200100","Espacios de participación promovidos","Número",0,16,16,"16. Paz, justicia e instituciones solidas","Acumalada",4,4,4,4,102653386]
[269,"Político institucional",45,"45. Gobierno Territorial","4502","Fortalecimiento del buen gobierno para el respeto y garantía de los derechos humanos","450200100","Espacios de participación promovidos","Número",0,16,16,"16. Paz, justicia e instituciones solidas","Acumalada",4,4,4,4,102653386]
[270,"Político institucional",4,"4. Información Estadística","0401","Levantamiento y actualización de información estadística de calidad","040110200","Sistemas de información implementados","Número",0,1,16,"16. Paz, justicia e instituciones solidas","Acumalada",0,1,0,0,281841581]
[271,"Político institucional",4,"4. Información Estadística","0401","Levantamiento y actualización de información estadística de calidad",40110200,"Sistemas de información implementados","Número",0,1,16,"16. Paz, justicia e instituciones solidas","Acumalada",0,1,0,0,136871181]
[272,"Político institucional",45,"45. Gobierno Territorial","4501","Fortalecimiento de la convivencia y la seguridad ciudadana","450108100","Casos atendidos","Número",3161,4800,16,"16. Paz, justicia e instituciones solidas","Acumalada",1920,1440,960,480,1743618596]
[273,"Político institucional",45,"45. Gobierno Territorial","4501","Fortalecimiento de la convivencia y la seguridad ciudadana","450102800","Cámaras de seguridad instaladas","Número",40,60,9,"9. Industria, innovación e infraestructura","Acumalada",20,30,10,0,1743618596]
[274,"Político institucional",45,"45. Gobierno Territorial","4501","Fortalecimiento de la convivencia y la seguridad ciudadana","450107800","Unidades policiales dotadas","Número",4,32,16,"16. Paz, justicia e instituciones solidas","Acumalada",8,8,8,8,1743618596]
[275,"Político institucional",45,"45. Gobierno Territorial","4501","Fortalecimiento de la convivencia y la seguridad ciudadana","450104905","Capacitaciones realizadas","Número",1,96,16,"16. Paz, justicia e instituciones solidas","Acumalada",24,24,24,24,1743618591]
[276,"Político institucional",12,"12. Justicia y del Derecho","1207","Fortalecimiento de la política criminal del Estado colombiano","120701700","Asistencias técnicas en prevención del delito realizadas","Número",54,96,16,"16. Paz, justicia e instituciones solidas","Acumalada",24,24,24,24,1011040855]
[277,"Político institucional",45,"45. Gobierno Territorial","4502","Fortalecimiento del buen gobierno para el respeto y garantía de los derechos humanos","450200100","Espacios de participación promovidos","Número",3,24,16,"16. Paz, justicia e instituciones solidas","Acumalada",6,6,6,6,1199489391]
[278,"Político institucional",12,"12. Justicia y del Derecho","1202","Promoción al acceso a la justicia","120200200","Ciudadanos con servicio de justicia prestado","Número",645,1800,16,"16. Paz, justicia e instituciones solidas","Acumalada",720,540,360,180,1557483399]
[279,"Político institucional",45,"45. Gobierno Territorial","4502","Fortalecimiento del buen gobierno para el respeto y garantía de los derechos humanos","450200100","Espacios de participación promovidos","Número",31,16,16,"16. Paz, justicia e instituciones solidas","Acumalada",4,4,4,4,327689022]
[280,"Político institucional",45,"45. Gobierno Territorial","4502","Fortalecimiento del buen gobierno para el respeto y garantía de los derechos humanos","450200200","Salones comunales construidos y dotados","Número",0,4,8,"8. Trabajo decente y crecimiento económico ","Acumalada",1,1,1,1,764607716]
[281,"Político institucional",41,"41. Inclusión Social y Reconciliación","4103","Inclusión social y productiva para la población en situación de vulnerabilidad","410300500","Proyectos productivos formulados","Número",0,4,16,"16. Paz, justicia e instituciones solidas","Acumalada",1,1,1,1,789754483]
[282,"Político institucional",45,"45. Gobierno Territorial","4599","Fortalecimiento a la gestión y dirección de la administración pública territorial","459900200","Programa de sanemiento fiscal y financiero ejecutado","Porcentaje",0,1,16,"16. Paz, justicia e instituciones solidas","Acumalada",0.3,0.7,0,0,646555008]
[283,"Político institucional",45,"45. Gobierno Territorial","4599","Fortalecimiento a la gestión y dirección de la administración pública territorial","459900200","Programa de sanemiento fiscal y financiero ejecutado","Porcentaje",1,8,16,"16. Paz, justicia e instituciones solidas","Acumalada",2,2,2,2,646555008]
[284,"Político institucional",45,"45. Gobierno Territorial","4599","Fortalecimiento a la gestión y dirección de la administración pública territorial","459900200","Programa de sanemiento fiscal y financiero ejecutado","Porcentaje",1,8,8,"8. Trabajo decente y crecimiento económico ","Acumalada",2,2,2,2,146848181]
[285,"Político institucional",36,"36.  Trabajo","3602","Generación y formalización del empleo","360203300","Planes de negocios financiados","Número",0,4,12,"12. Producción y consumo responsables","Acumalada",1,1,1,1,205306772]
[286,"Político institucional",35,"35. Comercio, Industria y Turismo","3502","Productividad y competitividad de las empresas colombianas","350209600","Proyectos cofinanciados para la gestión y el uso eficiente de recursos","Número",8,20,12,"12. Producción y consumo responsables","Acumalada",5,5,5,5,1482795079]
[287,"Político institucional",35,"35. Comercio, Industria y Turismo","3502","Productividad y competitividad de las empresas colombianas","350209600","Proyectos cofinanciados para la gestión y el uso eficiente de recursos","Número",0,4,16,"16. Paz, justicia e instituciones solidas","Acumalada",1,1,1,1,567713062]
[288,"Político institucional",45,"45. Gobierno Territorial","4599","Fortalecimiento a la gestión y dirección de la administración pública territorial","459900600","Estudios de preinversión elaborados","Número",0,4,16,"16. Paz, justicia e instituciones solidas","Acumalada",0,1,2,1,205306772]
[289,"Político institucional",45,"45. Gobierno Territorial","4501","Fortalecimiento de la convivencia y la seguridad ciudadana","450102600","Planes estratégicos elaborados","Número",0,1,16,"16. Paz, justicia e instituciones solidas","Acumalada",0.1,0,0.9,0,446614964]
[290,"Político institucional",35,"35. Comercio, Industria y Turismo","3502","Productividad y competitividad de las empresas colombianas","350209600","Proyectos cofinanciados para la gestión y el uso eficiente de recursos","Número",0,7,12,"12. Producción y consumo responsables","Acumalada",0,2,3,2,102653386]
[291,"Político institucional",35,"35. Comercio, Industria y Turismo",3502,"Productividad y competitividad de las empresas colombianas","350209600","Proyectos cofinanciados para la gestión y el uso eficiente de recursos","Número",0,11,12,"12. Producción y consumo responsables","Acumalada",0,3,5,3,102653386]
[292,"Tecnológica",23,"23. Tecnologias de la Información y Las Comunicaciones ","2301","Facilitar el acceso y uso de las Tecnologías de la Información y las Comunicaciones en todo el territorio nacional","230106100","Centro Integrado de Servicios adecuado","Número",0,1,16,"16. Paz, justicia e instituciones solidas","Acumalada",0.35,0.65,0,0,1256595799]
[293,"Tecnológica",23,"23. Tecnologias de la Información y Las Comunicaciones ","2301","Facilitar el acceso y uso de las Tecnologías de la Información y las Comunicaciones en todo el territorio nacional","230103100","Personas de la comunidad capacitadas en uso básico de tecnologías de la información y las comunicaciones.","Número",0,800,9,"9. Industria, innovación e infraestructura","Acumalada",200,200,200,200,594613080]
[294,"Tecnológica",23,"23. Tecnologias de la Información y Las Comunicaciones ","2302","Fomento del desarrollo de aplicaciones, software y contenidos para impulsar la apropiación de las Tecnologías de la Información y las Comunicaciones (TIC)","230200300","Productos digitales desarrollados","Número",1,1,9,"9. Industria, innovación e infraestructura","Acumalada",0.25,0.75,0,0,109977948]
[295,"Tecnológica",23,"23. Tecnologias de la Información y Las Comunicaciones ","2302","Fomento del desarrollo de aplicaciones, software y contenidos para impulsar la apropiación de las Tecnologías de la Información y las Comunicaciones (TIC)",230205100,"Eventos para difundir instrumentos de promoción de la innovación en la industria TI  realizados","Número",0,4,16,"16. Paz, justicia e instituciones solidas","Acumalada",1,1,1,1,47133406]
[296,null,"",null,null,null,null,null,null,null,null,""]
[297,null,"",null,null,null,null,null,null,null,null,""]
[298,null,"",null,null,null,null,null,null,null,null,""]
[299,null,"",null,null,null,null,null,null,null,null,""]
[300,null,"",null,null,null,null,null,null,null,null,""]
[301,null,"",null,null,null,null,null,null,null,null,""]
[302,null,"",null,null,null,null,null,null,null,null,""]
[303,null,"",null,null,null,null,null,null,null,null,""]
[304,null,"",null,null,null,null,null,null,null,null,""]
[305,null,"",null,null,null,null,null,null,null,null,""]
[306,null,"",null,null,null,null,null,null,null,null,""]
[307,null,"",null,null,null,null,null,null,null,null,""]
[308,null,"",null,null,null,null,null,null,null,null,""]
[309,null,"",null,null,null,null,null,null,null,null,""]
[310,null,"",null,null,null,null,null,null,null,null,""]
[311,null,"",null,null,null,null,null,null,null,null,""]
[312,null,"",null,null,null,null,null,null,null,null,""]
[313,null,"",null,null,null,null,null,null,null,null,""]
[314,null,"",null,null,null,null,null,null,null,null,""]
[315,null,"",null,null,null,null,null,null,null,null,""]
[316,null,"",null,null,null,null,null,null,null,null,""]
[317,null,"",null,null,null,null,null,null,null,null,""]
[318,null,"",null,null,null,null,null,null,null,null,""]
[319,null,"",null,null,null,null,null,null,null,null,""]
[320,null,"",null,null,null,null,null,null,null,null,""]
[321,null,"",null,null,null,null,null,null,null,null,""]
[322,null,{"$f":"IF(LEN(D326)>0,VALUE(MID(D326,1,FIND(\".\",D326,1)-1)),\"\")","v":""},null,null,null,null,null,null,null,null,{"$f":"IF(LEN(M326)>0,VALUE(MID(M326,1,FIND(\".\",M326,1)-1)),\"\")","v":""}]
[323,null,"",null,null,null,null,null,null,null,null,""]
[324,null,"",null,null,null,null,null,null,null,null,""]
[325,null,"",null,null,null,null,null,null,null,null,""]
[326,null,"",null,null,null,null,null,null,null,null,""]
[327,null,"",null,null,null,null,null,null,null,null,""]
[328,null,"",null,null,null,null,null,null,null,null,""]
[329,null,"",null,null,null,null,null,null,null,null,""]
[330,null,"",null,null,null,null,null,null,null,null,""]
[331,null,"",null,null,null,null,null,null,null,null,""]
[332,null,"",null,null,null,null,null,null,null,null,""]
[333,null,"",null,null,null,null,null,null,null,null,""]
[334,null,"",null,null,null,null,null,null,null,null,""]
[335,null,"",null,null,null,null,null,null,null,null,""]
[336,null,"",null,null,null,null,null,null,null,null,""]
[337,null,"",null,null,null,null,null,null,null,null,""]
[338,null,"",null,null,null,null,null,null,null,null,""]
[339,null,"",null,null,null,null,null,null,null,null,""]
[340,null,"",null,null,null,null,null,null,null,null,""]
[341,null,"",null,null,null,null,null,null,null,null,""]
[342,null,"",null,null,null,null,null,null,null,null,""]
[343,null,"",null,null,null,null,null,null,null,null,""]
[344,null,"",null,null,null,null,null,null,null,null,""]
[345,null,"",null,null,null,null,null,null,null,null,""]
[346,null,"",null,null,null,null,null,null,null,null,""]
[347,null,"",null,null,null,null,null,null,null,null,""]
[348,null,"",null,null,null,null,null,null,null,null,""]
[349,null,"",null,null,null,null,null,null,null,null,""]
[350,null,"",null,null,null,null,null,null,null,null,""]
[351,null,"",null,null,null,null,null,null,null,null,""]
[352,null,"",null,null,null,null,null,null,null,null,""]
[353,null,"",null,null,null,null,null,null,null,null,""]
[354,null,"",null,null,null,null,null,null,null,null,""]
[355,null,"",null,null,null,null,null,null,null,null,""]
[356,null,"",null,null,null,null,null,null,null,null,""]
[357,null,"",null,null,null,null,null,null,null,null,""]
[358,null,"",null,null,null,null,null,null,null,null,""]
[359,null,"",null,null,null,null,null,null,null,null,""]
[360,null,"",null,null,null,null,null,null,null,null,""]
[361,null,"",null,null,null,null,null,null,null,null,""]
[362,null,"",null,null,null,null,null,null,null,null,""]
[363,null,"",null,null,null,null,null,null,null,null,""]
[364,null,"",null,null,null,null,null,null,null,null,""]
[365,null,"",null,null,null,null,null,null,null,null,""]
[366,null,"",null,null,null,null,null,null,null,null,""]
[367,null,"",null,null,null,null,null,null,null,null,""]
[368,null,"",null,null,null,null,null,null,null,null,""]
[369,null,"",null,null,null,null,null,null,null,null,""]
[370,null,"",null,null,null,null,null,null,null,null,""]
[371,null,"",null,null,null,null,null,null,null,null,""]
[372,null,"",null,null,null,null,null,null,null,null,""]
[373,null,"",null,null,null,null,null,null,null,null,""]
[374,null,"",null,null,null,null,null,null,null,null,""]
[375,null,"",null,null,null,null,null,null,null,null,""]
[376,null,"",null,null,null,null,null,null,null,null,""]
[377,null,"",null,null,null,null,null,null,null,null,""]
[378,null,"",null,null,null,null,null,null,null,null,""]
[379,null,"",null,null,null,null,null,null,null,null,""]
[380,null,"",null,null,null,null,null,null,null,null,""]
[381,null,"",null,null,null,null,null,null,null,null,""]
[382,null,"",null,null,null,null,null,null,null,null,""]
[383,null,"",null,null,null,null,null,null,null,null,""]
[384,null,"",null,null,null,null,null,null,null,null,""]
[385,null,"",null,null,null,null,null,null,null,null,""]
[386,null,{"$f":"IF(LEN(D390)>0,VALUE(MID(D390,1,FIND(\".\",D390,1)-1)),\"\")","v":""},null,null,null,null,null,null,null,null,{"$f":"IF(LEN(M390)>0,VALUE(MID(M390,1,FIND(\".\",M390,1)-1)),\"\")","v":""}]
[387,null,"",null,null,null,null,null,null,null,null,""]
[388,null,"",null,null,null,null,null,null,null,null,""]
[389,null,"",null,null,null,null,null,null,null,null,""]
[390,null,"",null,null,null,null,null,null,null,null,""]
[391,null,"",null,null,null,null,null,null,null,null,""]
[392,null,"",null,null,null,null,null,null,null,null,""]
[393,null,"",null,null,null,null,null,null,null,null,""]
[394,null,"",null,null,null,null,null,null,null,null,""]
[395,null,"",null,null,null,null,null,null,null,null,""]
[396,null,"",null,null,null,null,null,null,null,null,""]
[397,null,"",null,null,null,null,null,null,null,null,""]
[398,null,"",null,null,null,null,null,null,null,null,""]
[399,null,"",null,null,null,null,null,null,null,null,""]
[400,null,"",null,null,null,null,null,null,null,null,""]
[401,null,"",null,null,null,null,null,null,null,null,""]
[402,null,"",null,null,null,null,null,null,null,null,""]
[403,null,"",null,null,null,null,null,null,null,null,""]
[404,null,"",null,null,null,null,null,null,null,null,""]
[405,null,"",null,null,null,null,null,null,null,null,""]
[406,null,"",null,null,null,null,null,null,null,null,""]
[407,null,"",null,null,null,null,null,null,null,null,""]
[408,null,"",null,null,null,null,null,null,null,null,""]
[409,null,"",null,null,null,null,null,null,null,null,""]
[410,null,"",null,null,null,null,null,null,null,null,""]
[411,null,"",null,null,null,null,null,null,null,null,""]
[412,null,"",null,null,null,null,null,null,null,null,""]
[413,null,"",null,null,null,null,null,null,null,null,""]
[414,null,"",null,null,null,null,null,null,null,null,""]
[415,null,"",null,null,null,null,null,null,null,null,""]
[416,null,"",null,null,null,null,null,null,null,null,""]
[417,null,"",null,null,null,null,null,null,null,null,""]
[418,null,"",null,null,null,null,null,null,null,null,""]
[419,null,"",null,null,null,null,null,null,null,null,""]
[420,null,"",null,null,null,null,null,null,null,null,""]
[421,null,"",null,null,null,null,null,null,null,null,""]
[422,null,"",null,null,null,null,null,null,null,null,""]
[423,null,"",null,null,null,null,null,null,null,null,""]
[424,null,"",null,null,null,null,null,null,null,null,""]
[425,null,"",null,null,null,null,null,null,null,null,""]
[426,null,"",null,null,null,null,null,null,null,null,""]
[427,null,"",null,null,null,null,null,null,null,null,""]
[428,null,"",null,null,null,null,null,null,null,null,""]
[429,null,"",null,null,null,null,null,null,null,null,""]
[430,null,"",null,null,null,null,null,null,null,null,""]
[431,null,"",null,null,null,null,null,null,null,null,""]
[432,null,"",null,null,null,null,null,null,null,null,""]
[433,null,"",null,null,null,null,null,null,null,null,""]
[434,null,"",null,null,null,null,null,null,null,null,""]
[435,null,"",null,null,null,null,null,null,null,null,""]
[436,null,"",null,null,null,null,null,null,null,null,""]
[437,null,"",null,null,null,null,null,null,null,null,""]
[438,null,"",null,null,null,null,null,null,null,null,""]
[439,null,"",null,null,null,null,null,null,null,null,""]
[440,null,"",null,null,null,null,null,null,null,null,""]
[441,null,"",null,null,null,null,null,null,null,null,""]
[442,null,"",null,null,null,null,null,null,null,null,""]
[443,null,"",null,null,null,null,null,null,null,null,""]
[444,null,"",null,null,null,null,null,null,null,null,""]
[445,null,"",null,null,null,null,null,null,null,null,""]
[446,null,"",null,null,null,null,null,null,null,null,""]
[447,null,"",null,null,null,null,null,null,null,null,""]
[448,null,"",null,null,null,null,null,null,null,null,""]
[449,null,"",null,null,null,null,null,null,null,null,""]
[450,null,{"$f":"IF(LEN(D454)>0,VALUE(MID(D454,1,FIND(\".\",D454,1)-1)),\"\")","v":""},null,null,null,null,null,null,null,null,{"$f":"IF(LEN(M454)>0,VALUE(MID(M454,1,FIND(\".\",M454,1)-1)),\"\")","v":""}]
[451,null,"",null,null,null,null,null,null,null,null,""]
[452,null,"",null,null,null,null,null,null,null,null,""]
[453,null,"",null,null,null,null,null,null,null,null,""]
[454,null,"",null,null,null,null,null,null,null,null,""]
[455,null,"",null,null,null,null,null,null,null,null,""]
[456,null,"",null,null,null,null,null,null,null,null,""]
[457,null,"",null,null,null,null,null,null,null,null,""]
[458,null,"",null,null,null,null,null,null,null,null,""]
[459,null,"",null,null,null,null,null,null,null,null,""]
[460,null,"",null,null,null,null,null,null,null,null,""]
[461,null,"",null,null,null,null,null,null,null,null,""]
[462,null,"",null,null,null,null,null,null,null,null,""]
[463,null,"",null,null,null,null,null,null,null,null,""]
[464,null,"",null,null,null,null,null,null,null,null,""]
[465,null,"",null,null,null,null,null,null,null,null,""]
[466,null,"",null,null,null,null,null,null,null,null,""]
[467,null,"",null,null,null,null,null,null,null,null,""]
[468,null,"",null,null,null,null,null,null,null,null,""]
[469,null,"",null,null,null,null,null,null,null,null,""]
[470,null,"",null,null,null,null,null,null,null,null,""]
[471,null,"",null,null,null,null,null,null,null,null,""]
[472,null,"",null,null,null,null,null,null,null,null,""]
[473,null,"",null,null,null,null,null,null,null,null,""]
[474,null,"",null,null,null,null,null,null,null,null,""]
[475,null,"",null,null,null,null,null,null,null,null,""]
[476,null,"",null,null,null,null,null,null,null,null,""]
[477,null,"",null,null,null,null,null,null,null,null,""]
[478,null,"",null,null,null,null,null,null,null,null,""]
[479,null,"",null,null,null,null,null,null,null,null,""]
[480,null,"",null,null,null,null,null,null,null,null,""]
[481,null,"",null,null,null,null,null,null,null,null,""]
[482,null,"",null,null,null,null,null,null,null,null,""]
[483,null,"",null,null,null,null,null,null,null,null,""]
[484,null,"",null,null,null,null,null,null,null,null,""]
[485,null,"",null,null,null,null,null,null,null,null,""]
[486,null,"",null,null,null,null,null,null,null,null,""]
[487,null,"",null,null,null,null,null,null,null,null,""]
[488,null,"",null,null,null,null,null,null,null,null,""]
[489,null,"",null,null,null,null,null,null,null,null,""]
[490,null,"",null,null,null,null,null,null,null,null,""]
[491,null,"",null,null,null,null,null,null,null,null,""]
[492,null,"",null,null,null,null,null,null,null,null,""]
[493,null,"",null,null,null,null,null,null,null,null,""]
[494,null,"",null,null,null,null,null,null,null,null,""]
[495,null,"",null,null,null,null,null,null,null,null,""]
[496,null,"",null,null,null,null,null,null,null,null,""]
[497,null,"",null,null,null,null,null,null,null,null,""]
[498,null,"",null,null,null,null,null,null,null,null,""]
[499,null,"",null,null,null,null,null,null,null,null,""]
[500,null,"",null,null,null,null,null,null,null,null,""]
[501,null,"",null,null,null,null,null,null,null,null,""]
[502,null,"",null,null,null,null,null,null,null,null,""]
[503,null,"",null,null,null,null,null,null,null,null,""]
[504,null,"",null,null,null,null,null,null,null,null,""]
[505,null,"",null,null,null,null,null,null,null,null,""]
[506,null,"",null,null,null,null,null,null,null,null,""]
[507,null,"",null,null,null,null,null,null,null,null,""]
[508,null,"",null,null,null,null,null,null,null,null,""]
[509,null,"",null,null,null,null,null,null,null,null,""]
[510,null,"",null,null,null,null,null,null,null,null,""]
[511,null,"",null,null,null,null,null,null,null,null,""]
[512,null,"",null,null,null,null,null,null,null,null,""]
[513,null,"",null,null,null,null,null,null,null,null,""]
[514,null,{"$f":"IF(LEN(D518)>0,VALUE(MID(D518,1,FIND(\".\",D518,1)-1)),\"\")","v":""},null,null,null,null,null,null,null,null,{"$f":"IF(LEN(M518)>0,VALUE(MID(M518,1,FIND(\".\",M518,1)-1)),\"\")","v":""}]
[515,null,"",null,null,null,null,null,null,null,null,""]
[516,null,"",null,null,null,null,null,null,null,null,""]
[517,null,"",null,null,null,null,null,null,null,null,""]
[518,null,"",null,null,null,null,null,null,null,null,""]
[519,null,"",null,null,null,null,null,null,null,null,""]
[520,null,"",null,null,null,null,null,null,null,null,""]
[521,null,"",null,null,null,null,null,null,null,null,""]
[522,null,"",null,null,null,null,null,null,null,null,""]
[523,null,"",null,null,null,null,null,null,null,null,""]
[524,null,"",null,null,null,null,null,null,null,null,""]
[525,null,"",null,null,null,null,null,null,null,null,""]
[526,null,"",null,null,null,null,null,null,null,null,""]
[527,null,"",null,null,null,null,null,null,null,null,""]
[528,null,"",null,null,null,null,null,null,null,null,""]
[529,null,"",null,null,null,null,null,null,null,null,""]
[530,null,"",null,null,null,null,null,null,null,null,""]
[531,null,"",null,null,null,null,null,null,null,null,""]
[532,null,"",null,null,null,null,null,null,null,null,""]
[533,null,"",null,null,null,null,null,null,null,null,""]
[534,null,"",null,null,null,null,null,null,null,null,""]
[535,null,"",null,null,null,null,null,null,null,null,""]
[536,null,"",null,null,null,null,null,null,null,null,""]
[537,null,"",null,null,null,null,null,null,null,null,""]
[538,null,"",null,null,null,null,null,null,null,null,""]
[539,null,"",null,null,null,null,null,null,null,null,""]
[540,null,"",null,null,null,null,null,null,null,null,""]
[541,null,"",null,null,null,null,null,null,null,null,""]
[542,null,"",null,null,null,null,null,null,null,null,""]
[543,null,"",null,null,null,null,null,null,null,null,""]
[544,null,"",null,null,null,null,null,null,null,null,""]
[545,null,"",null,null,null,null,null,null,null,null,""]
[546,null,"",null,null,null,null,null,null,null,null,""]
[547,null,"",null,null,null,null,null,null,null,null,""]
[548,null,"",null,null,null,null,null,null,null,null,""]
[549,null,"",null,null,null,null,null,null,null,null,""]
[550,null,"",null,null,null,null,null,null,null,null,""]
[551,null,"",null,null,null,null,null,null,null,null,""]
[552,null,"",null,null,null,null,null,null,null,null,""]
[553,null,"",null,null,null,null,null,null,null,null,""]
[554,null,"",null,null,null,null,null,null,null,null,""]
[555,null,"",null,null,null,null,null,null,null,null,""]
[556,null,"",null,null,null,null,null,null,null,null,""]
[557,null,"",null,null,null,null,null,null,null,null,""]
[558,null,"",null,null,null,null,null,null,null,null,""]
[559,null,"",null,null,null,null,null,null,null,null,""]
[560,null,"",null,null,null,null,null,null,null,null,""]
[561,null,"",null,null,null,null,null,null,null,null,""]
[562,null,"",null,null,null,null,null,null,null,null,""]
[563,null,"",null,null,null,null,null,null,null,null,""]
[564,null,"",null,null,null,null,null,null,null,null,""]
[565,null,"",null,null,null,null,null,null,null,null,""]
[566,null,"",null,null,null,null,null,null,null,null,""]
[567,null,"",null,null,null,null,null,null,null,null,""]
[568,null,"",null,null,null,null,null,null,null,null,""]
[569,null,"",null,null,null,null,null,null,null,null,""]
[570,null,"",null,null,null,null,null,null,null,null,""]
[571,null,"",null,null,null,null,null,null,null,null,""]
[572,null,"",null,null,null,null,null,null,null,null,""]
[573,null,"",null,null,null,null,null,null,null,null,""]
[574,null,"",null,null,null,null,null,null,null,null,""]
[575,null,"",null,null,null,null,null,null,null,null,""]
[576,null,"",null,null,null,null,null,null,null,null,""]
[577,null,"",null,null,null,null,null,null,null,null,""]
[578,null,{"$f":"IF(LEN(D582)>0,VALUE(MID(D582,1,FIND(\".\",D582,1)-1)),\"\")","v":""},null,null,null,null,null,null,null,null,{"$f":"IF(LEN(M582)>0,VALUE(MID(M582,1,FIND(\".\",M582,1)-1)),\"\")","v":""}]
[579,null,"",null,null,null,null,null,null,null,null,""]
[580,null,"",null,null,null,null,null,null,null,null,""]
[581,null,"",null,null,null,null,null,null,null,null,""]
[582,null,"",null,null,null,null,null,null,null,null,""]
[583,null,"",null,null,null,null,null,null,null,null,""]
[584,null,"",null,null,null,null,null,null,null,null,""]
[585,null,"",null,null,null,null,null,null,null,null,""]
[586,null,"",null,null,null,null,null,null,null,null,""]
[587,null,"",null,null,null,null,null,null,null,null,""]
[588,null,"",null,null,null,null,null,null,null,null,""]
[589,null,"",null,null,null,null,null,null,null,null,""]
[590,null,"",null,null,null,null,null,null,null,null,""]
[591,null,"",null,null,null,null,null,null,null,null,""]
[592,null,"",null,null,null,null,null,null,null,null,""]
[593,null,"",null,null,null,null,null,null,null,null,""]
[594,null,"",null,null,null,null,null,null,null,null,""]
[595,null,"",null,null,null,null,null,null,null,null,""]
[596,null,"",null,null,null,null,null,null,null,null,""]
[597,null,"",null,null,null,null,null,null,null,null,""]
[598,null,"",null,null,null,null,null,null,null,null,""]
[599,null,"",null,null,null,null,null,null,null,null,""]
[600,null,"",null,null,null,null,null,null,null,null,""]
[601,null,"",null,null,null,null,null,null,null,null,""]
[602,null,"",null,null,null,null,null,null,null,null,""]
[603,null,"",null,null,null,null,null,null,null,null,""]
[604,null,"",null,null,null,null,null,null,null,null,""]
[605,null,"",null,null,null,null,null,null,null,null,""]
[606,null,"",null,null,null,null,null,null,null,null,""]
[607,null,"",null,null,null,null,null,null,null,null,""]
[608,null,"",null,null,null,null,null,null,null,null,""]
[609,null,"",null,null,null,null,null,null,null,null,""]
[610,null,"",null,null,null,null,null,null,null,null,""]
[611,null,"",null,null,null,null,null,null,null,null,""]
[612,null,"",null,null,null,null,null,null,null,null,""]
[613,null,"",null,null,null,null,null,null,null,null,""]
[614,null,"",null,null,null,null,null,null,null,null,""]
[615,null,"",null,null,null,null,null,null,null,null,""]
[616,null,"",null,null,null,null,null,null,null,null,""]
[617,null,"",null,null,null,null,null,null,null,null,""]
[618,null,"",null,null,null,null,null,null,null,null,""]
[619,null,"",null,null,null,null,null,null,null,null,""]
[620,null,"",null,null,null,null,null,null,null,null,""]
[621,null,"",null,null,null,null,null,null,null,null,""]
[622,null,"",null,null,null,null,null,null,null,null,""]
[623,null,"",null,null,null,null,null,null,null,null,""]
[624,null,"",null,null,null,null,null,null,null,null,""]
[625,null,"",null,null,null,null,null,null,null,null,""]
[626,null,"",null,null,null,null,null,null,null,null,""]
[627,null,"",null,null,null,null,null,null,null,null,""]
[628,null,"",null,null,null,null,null,null,null,null,""]
[629,null,"",null,null,null,null,null,null,null,null,""]
[630,null,"",null,null,null,null,null,null,null,null,""]
[631,null,"",null,null,null,null,null,null,null,null,""]
[632,null,"",null,null,null,null,null,null,null,null,""]
[633,null,"",null,null,null,null,null,null,null,null,""]
[634,null,"",null,null,null,null,null,null,null,null,""]
[635,null,"",null,null,null,null,null,null,null,null,""]
[636,null,"",null,null,null,null,null,null,null,null,""]
[637,null,"",null,null,null,null,null,null,null,null,""]
[638,null,"",null,null,null,null,null,null,null,null,""]
[639,null,"",null,null,null,null,null,null,null,null,""]
[640,null,"",null,null,null,null,null,null,null,null,""]
[641,null,"",null,null,null,null,null,null,null,null,""]
[642,null,{"$f":"IF(LEN(D646)>0,VALUE(MID(D646,1,FIND(\".\",D646,1)-1)),\"\")","v":""},null,null,null,null,null,null,null,null,{"$f":"IF(LEN(M646)>0,VALUE(MID(M646,1,FIND(\".\",M646,1)-1)),\"\")","v":""}]
[643,null,"",null,null,null,null,null,null,null,null,""]
[644,null,"",null,null,null,null,null,null,null,null,""]
[645,null,"",null,null,null,null,null,null,null,null,""]
[646,null,"",null,null,null,null,null,null,null,null,""]
[647,null,"",null,null,null,null,null,null,null,null,""]
[648,null,"",null,null,null,null,null,null,null,null,""]
[649,null,"",null,null,null,null,null,null,null,null,""]
[650,null,"",null,null,null,null,null,null,null,null,""]
[651,null,"",null,null,null,null,null,null,null,null,""]
[652,null,"",null,null,null,null,null,null,null,null,""]
[653,null,"",null,null,null,null,null,null,null,null,""]
[654,null,"",null,null,null,null,null,null,null,null,""]
[655,null,"",null,null,null,null,null,null,null,null,""]
[656,null,"",null,null,null,null,null,null,null,null,""]
[657,null,"",null,null,null,null,null,null,null,null,""]
[658,null,"",null,null,null,null,null,null,null,null,""]
[659,null,"",null,null,null,null,null,null,null,null,""]
[660,null,"",null,null,null,null,null,null,null,null,""]
[661,null,"",null,null,null,null,null,null,null,null,""]
[662,null,"",null,null,null,null,null,null,null,null,""]
[663,null,"",null,null,null,null,null,null,null,null,""]
[664,null,"",null,null,null,null,null,null,null,null,""]
[665,null,"",null,null,null,null,null,null,null,null,""]
[666,null,"",null,null,null,null,null,null,null,null,""]
[667,null,"",null,null,null,null,null,null,null,null,""]
[668,null,"",null,null,null,null,null,null,null,null,""]
[669,null,"",null,null,null,null,null,null,null,null,""]
[670,null,"",null,null,null,null,null,null,null,null,""]
[671,null,"",null,null,null,null,null,null,null,null,""]
[672,null,"",null,null,null,null,null,null,null,null,""]
[673,null,"",null,null,null,null,null,null,null,null,""]
[674,null,"",null,null,null,null,null,null,null,null,""]
[675,null,"",null,null,null,null,null,null,null,null,""]
[676,null,"",null,null,null,null,null,null,null,null,""]
[677,null,"",null,null,null,null,null,null,null,null,""]
[678,null,"",null,null,null,null,null,null,null,null,""]
[679,null,"",null,null,null,null,null,null,null,null,""]
[680,null,"",null,null,null,null,null,null,null,null,""]
[681,null,"",null,null,null,null,null,null,null,null,""]
[682,null,"",null,null,null,null,null,null,null,null,""]
[683,null,"",null,null,null,null,null,null,null,null,""]
[684,null,"",null,null,null,null,null,null,null,null,""]
[685,null,"",null,null,null,null,null,null,null,null,""]
[686,null,"",null,null,null,null,null,null,null,null,""]
[687,null,"",null,null,null,null,null,null,null,null,""]
[688,null,"",null,null,null,null,null,null,null,null,""]
[689,null,"",null,null,null,null,null,null,null,null,""]
[690,null,"",null,null,null,null,null,null,null,null,""]
[691,null,"",null,null,null,null,null,null,null,null,""]
[692,null,"",null,null,null,null,null,null,null,null,""]
[693,null,"",null,null,null,null,null,null,null,null,""]
[694,null,"",null,null,null,null,null,null,null,null,""]
[695,null,"",null,null,null,null,null,null,null,null,""]
[696,null,"",null,null,null,null,null,null,null,null,""]
[697,null,"",null,null,null,null,null,null,null,null,""]
[698,null,"",null,null,null,null,null,null,null,null,""]
[699,null,"",null,null,null,null,null,null,null,null,""]
[700,null,"",null,null,null,null,null,null,null,null,""]
[701,null,"",null,null,null,null,null,null,null,null,""]
[702,null,"",null,null,null,null,null,null,null,null,""]
[703,null,"",null,null,null,null,null,null,null,null,""]
[704,null,"",null,null,null,null,null,null,null,null,""]
[705,null,"",null,null,null,null,null,null,null,null,""]
[706,null,{"$f":"IF(LEN(D710)>0,VALUE(MID(D710,1,FIND(\".\",D710,1)-1)),\"\")","v":""},null,null,null,null,null,null,null,null,{"$f":"IF(LEN(M710)>0,VALUE(MID(M710,1,FIND(\".\",M710,1)-1)),\"\")","v":""}]
[707,null,"",null,null,null,null,null,null,null,null,""]
[708,null,"",null,null,null,null,null,null,null,null,""]
[709,null,"",null,null,null,null,null,null,null,null,""]
[710,null,"",null,null,null,null,null,null,null,null,""]
[711,null,"",null,null,null,null,null,null,null,null,""]
[712,null,"",null,null,null,null,null,null,null,null,""]
[713,null,"",null,null,null,null,null,null,null,null,""]
[714,null,"",null,null,null,null,null,null,null,null,""]
[715,null,"",null,null,null,null,null,null,null,null,""]
[716,null,"",null,null,null,null,null,null,null,null,""]
[717,null,"",null,null,null,null,null,null,null,null,""]
[718,null,"",null,null,null,null,null,null,null,null,""]
[719,null,"",null,null,null,null,null,null,null,null,""]
[720,null,"",null,null,null,null,null,null,null,null,""]
[721,null,"",null,null,null,null,null,null,null,null,""]
[722,null,"",null,null,null,null,null,null,null,null,""]
[723,null,"",null,null,null,null,null,null,null,null,""]
[724,null,"",null,null,null,null,null,null,null,null,""]
[725,null,"",null,null,null,null,null,null,null,null,""]
[726,null,"",null,null,null,null,null,null,null,null,""]
[727,null,"",null,null,null,null,null,null,null,null,""]
[728,null,"",null,null,null,null,null,null,null,null,""]
[729,null,"",null,null,null,null,null,null,null,null,""]
[730,null,"",null,null,null,null,null,null,null,null,""]
[731,null,"",null,null,null,null,null,null,null,null,""]
[732,null,"",null,null,null,null,null,null,null,null,""]
[733,null,"",null,null,null,null,null,null,null,null,""]
[734,null,"",null,null,null,null,null,null,null,null,""]
[735,null,"",null,null,null,null,null,null,null,null,""]
[736,null,"",null,null,null,null,null,null,null,null,""]
[737,null,"",null,null,null,null,null,null,null,null,""]
[738,null,"",null,null,null,null,null,null,null,null,""]
[739,null,"",null,null,null,null,null,null,null,null,""]
[740,null,"",null,null,null,null,null,null,null,null,""]
[741,null,"",null,null,null,null,null,null,null,null,""]
[742,null,"",null,null,null,null,null,null,null,null,""]
[743,null,"",null,null,null,null,null,null,null,null,""]
[744,null,"",null,null,null,null,null,null,null,null,""]
[745,null,"",null,null,null,null,null,null,null,null,""]
[746,null,"",null,null,null,null,null,null,null,null,""]
[747,null,"",null,null,null,null,null,null,null,null,""]
[748,null,"",null,null,null,null,null,null,null,null,""]
[749,null,"",null,null,null,null,null,null,null,null,""]
[750,null,"",null,null,null,null,null,null,null,null,""]
[751,null,"",null,null,null,null,null,null,null,null,""]
[752,null,"",null,null,null,null,null,null,null,null,""]
[753,null,"",null,null,null,null,null,null,null,null,""]
[754,null,"",null,null,null,null,null,null,null,null,""]
[755,null,"",null,null,null,null,null,null,null,null,""]
[756,null,"",null,null,null,null,null,null,null,null,""]
[757,null,"",null,null,null,null,null,null,null,null,""]
[758,null,"",null,null,null,null,null,null,null,null,""]
[759,null,"",null,null,null,null,null,null,null,null,""]
[760,null,"",null,null,null,null,null,null,null,null,""]
[761,null,"",null,null,null,null,null,null,null,null,""]
[762,null,"",null,null,null,null,null,null,null,null,""]
[763,null,"",null,null,null,null,null,null,null,null,""]
[764,null,"",null,null,null,null,null,null,null,null,""]
[765,null,"",null,null,null,null,null,null,null,null,""]
[766,null,"",null,null,null,null,null,null,null,null,""]
[767,null,"",null,null,null,null,null,null,null,null,""]
[768,null,"",null,null,null,null,null,null,null,null,""]
[769,null,"",null,null,null,null,null,null,null,null,""]
[770,null,{"$f":"IF(LEN(D774)>0,VALUE(MID(D774,1,FIND(\".\",D774,1)-1)),\"\")","v":""},null,null,null,null,null,null,null,null,{"$f":"IF(LEN(M774)>0,VALUE(MID(M774,1,FIND(\".\",M774,1)-1)),\"\")","v":""}]
[771,null,"",null,null,null,null,null,null,null,null,""]
[772,null,"",null,null,null,null,null,null,null,null,""]
[773,null,"",null,null,null,null,null,null,null,null,""]
[774,null,"",null,null,null,null,null,null,null,null,""]
[775,null,"",null,null,null,null,null,null,null,null,""]
[776,null,"",null,null,null,null,null,null,null,null,""]
[777,null,"",null,null,null,null,null,null,null,null,""]
[778,null,"",null,null,null,null,null,null,null,null,""]
[779,null,"",null,null,null,null,null,null,null,null,""]
[780,null,"",null,null,null,null,null,null,null,null,""]
[781,null,"",null,null,null,null,null,null,null,null,""]
[782,null,"",null,null,null,null,null,null,null,null,""]
[783,null,"",null,null,null,null,null,null,null,null,""]
[784,null,"",null,null,null,null,null,null,null,null,""]
[785,null,"",null,null,null,null,null,null,null,null,""]
[786,null,"",null,null,null,null,null,null,null,null,""]
[787,null,"",null,null,null,null,null,null,null,null,""]
[788,null,"",null,null,null,null,null,null,null,null,""]
[789,null,"",null,null,null,null,null,null,null,null,""]
[790,null,"",null,null,null,null,null,null,null,null,""]
[791,null,"",null,null,null,null,null,null,null,null,""]
[792,null,"",null,null,null,null,null,null,null,null,""]
[793,null,"",null,null,null,null,null,null,null,null,""]
[794,null,"",null,null,null,null,null,null,null,null,""]
[795,null,"",null,null,null,null,null,null,null,null,""]
[796,null,"",null,null,null,null,null,null,null,null,""]
[797,null,"",null,null,null,null,null,null,null,null,""]
[798,null,"",null,null,null,null,null,null,null,null,""]
[799,null,"",null,null,null,null,null,null,null,null,""]
[800,null,"",null,null,null,null,null,null,null,null,""]
["TOTALES",null,null,null,null,null,null,null,null,null,null,null,null,null,null,null,null,null,{"$f":"SUM(S5:S804)","v":341869989268}]

{"sheet":"Indicadores de resultado","index":1,"n_rows":255,"n_cols":24,"rows_kept":255,"cut":false,"hidden":false,"merged":[[2,22,2,23],[2,4,2,11],[2,0,2,3],[2,13,2,14],[2,16,2,17],[2,19,2,20]]}
[]
[null,"Solo texto","Solo numero","BLANCO O SELECCIONAR DE LA LISTA","Solo numero",null,"Solo texto","SOLO PUEDE ESCRIBIR DEL AÑO 2010 AL 2024, SI NO EN BLANCO","Bloquear solo formato numerico con dos decimales","Bloquear solo formato numerico con dos decimales"," SELECCIONAR DE LA LISTA","Solo texto",null,"Bloquear solo formato numerico con dos decimales","SOLO PUEDE ESCRIBIR DEL AÑO 2010 AL 2024, SI NO EN BLANCO",null,"Bloquear solo formato numerico con dos decimales","SOLO PUEDE ESCRIBIR DEL AÑO 2010 AL 2025, SI NO EN BLANCO",null,"Bloquear solo formato numerico con dos decimales","SOLO PUEDE ESCRIBIR DEL AÑO 2010 AL 2026, SI NO EN BLANCO",null,"Bloquear solo formato numerico con dos decimales","SOLO PUEDE ESCRIBIR DEL AÑO 2010 AL 2027, SI NO EN BLANCO"]
[null,null,null,null,"Datos del Indicador de Resultado",null,null,null,null,null,null,null,null,"Ejecución fisica 2024",null,null,"Ejecución fisica 2025",null,null,"Ejecución  fisica 2026",null,null,"Ejecución  fisica 2027"]
["#","Nombre Linea Estrategica","Codigo del Sector","Nombre del Sector","Codigo Indicador de Resultado","Nombre Indicador de Resultado","Unidad de Medida","Año de la Linea Base","Valor de la Linea Base","Meta del  Cuatrenio","Orientación Indicador de Resultado\n(Incrementar  o Reducir)","Fuente de Datos de  Ejecución Meta de Resultado",null,"Ejecución Meta de Resultado Año 2024","Año de Medición Ejecución Meta de Resultado Año 2024",null,"Ejecución Meta de Resultado Año 2025","Año de Medición Ejecución Meta de Resultado Año 2025",null,"Ejecución Meta de Resultado Año 2026","Año de Medición Ejecución Meta de Resultado Año 2026",null,"Ejecución Meta de Resultado Año 2027","Año de Medición Ejecución Meta de Resultado Año 2027"]
[1,"Sociocultural y Espiritual",{"$f":"IF(LEN(D5)>0,VALUE(MID(D5,1,FIND(\".\",D5,1)-1)),\"\")","v":22},"22. Educación ",40010001,"Educación - Cobertura bruta en transición","Porcentaje",2023,49.97,100,"Incrementar","Secretaria de Educación Pagina Web  proantioquia.org.co/lea",null,103.8,2023]
[{"$f":"+A5+1","v":2},"Sociocultural y Espiritual",{"$f":"IF(LEN(D6)>0,VALUE(MID(D6,1,FIND(\".\",D6,1)-1)),\"\")","v":22},"22. Educación ","040010002","Educación - Cobertura bruta en educación primaria","Porcentaje",2023,94.43,100,"Incrementar","Secretaria de Educación Pagina Web  proantioquia.org.co/lea",null,105.73,2023]
[{"$f":"+A6+1","v":3},"Sociocultural y Espiritual",22,"22. Educación ","040010003","Educación - Cobertura bruta en educación secundaria","Porcentaje",2023,92,100,"Incrementar","Secretaria de Educación Pagina Web  proantioquia.org.co/lea",null,109.01,2023]
[4,"Sociocultural y Espiritual",22,"22. Educación ","040010004","Educación - Cobertura bruta en educación media","Porcentaje",2023,86.25,90,"Incrementar","Secretaria de Educación Pagina Web  proantioquia.org.co/lea",null,90.38,2023]
[5,"Sociocultural y Espiritual",22,"22. Educación ","040010007","Educación - Cobertura neta en transición","Porcentaje",2023,90.01,95,"Incrementar","Secretaria de Educación Pagina Web  proantioquia.org.co/lea",null,89.16,2023]
[6,"Sociocultural y Espiritual",22,"22. Educación ","040010008","Educación - Cobertura neta en educación primaria","Porcentaje",2023,89.57,95,"Incrementar","Secretaria de Educación Pagina Web  proantioquia.org.co/lea",null,94.6,2023]
[7,"Sociocultural y Espiritual",22,"22. Educación ","040010009","Educación - Cobertura neta en educación secundaria","Porcentaje",2023,82.72,90,"Incrementar","Secretaria de Educación Pagina Web  proantioquia.org.co/lea",null,83.67,2023]
[8,"Sociocultural y Espiritual",22,"22. Educación ","040010010","Educación - Cobertura neta en educación media","Porcentaje",2023,67.48,60,"Incrementar","Secretaria de Educación Pagina Web  proantioquia.org.co/lea",null,58.08,2023]
[9,"Sociocultural y Espiritual",22,"22. Educación ","040020001","Educación - Tasa de deserción intra-anual del sector oficial en educación básica y media (Desde transición hasta once)","Porcentaje",2023,4.07,3,"Reducir","Secretaria de Educación Pagina Web  proantioquia.org.co/lea",null,6.73,2023]
[10,"Sociocultural y Espiritual",22,"22. Educación ","040020002","Educación - Tasa de repitencia del sector oficial en educación básica y media (Desde transición hasta once)","Porcentaje",2022,8.69,5,"Reducir","Secretaria de Educación Pagina Web  proantioquia.org.co/lea",null,6.72,2023]
[11,"Sociocultural y Espiritual",22,"22. Educación ","040040001","Educación - Puntaje promedio Pruebas Saber 11 - Matemáticas","Porcentaje",2022,342,70,"Incrementar","Secretaria de Educación ",null,55.3,2024]
[12,"Sociocultural y Espiritual",22,"22. Educación ","040040002","Educación - Puntaje promedio Pruebas Saber 11 - Lectura crítica","Porcentaje",2022,386,70,"Incrementar","Secretaria de Educación ",null,56,2024]
[13,"Sociocultural y Espiritual",22,"22. Educación ","040040005","Educación - Porcentaje de niños y niñas de preescolar que reciben requerimiento nutricional a través del PAE","Porcentaje",2023,3.6,50,"Incrementar","Secretaria de Educación ",null,23,2024]
[14,"Sociocultural y Espiritual",22,"22. Educación ",null,"Sedes educativas intervenidas, con mantenimiento o dotación","Porcentaje",2023,13,35,"Incrementar","Secretaria de Educación",null,3,2024]
[15,"Sociocultural y Espiritual",19,"19. Salud y Protección Social",50010002,"Salud - Afiliados al régimen subsidiado","Personas",2021,21471,22809,"Reducir","Secretaria de Salud",null,21015,2024]
[16,"Sociocultural y Espiritual",19,"19. Salud y Protección Social",50010004,"Salud - Cobertura del régimen subsidiado","Porcentaje (el valor está multiplicado por 100)",2020,99.02,100,"Incrementar","Secretaria de Salud",null,23.34,2024]
[17,"Sociocultural y Espiritual",19,"19. Salud y Protección Social",50020001,"Salud - Tasa de mortalidad (x cada 1.000 habitantes)","Casos por cada 1.000 habitantes",2021,5.95,2,"Reducir","Secretaria de Salud",null,5.5,2024]
[18,"Sociocultural y Espiritual",19,"19. Salud y Protección Social",50020003,"Salud - Tasa de mortalidad infantil en menores de 1 año (x cada 1.000 nacidos vivos)","Casos por cada 1.000 nacidos vivos",2016,10.5,5,"Reducir","Secretaria de Salud",null,6.6,2024]
[19,"Sociocultural y Espiritual",19,"19. Salud y Protección Social",50020004,"Salud - Tasa de fecundidad (x cada 1.000 mujeres en edad fértil)","Casos por cada 1.000 mujeres en edad fértil",2020,38.69,40,"Incrementar","Secretaria de Salud",null,26.5,2024]
[20,"Sociocultural y Espiritual",19,"19. Salud y Protección Social",50020005,"Salud - Cobertura vacunación pentavalente en menores de 1 año","Porcentaje (el valor está multiplicado por 100)",2021,86.12,95,"Incrementar","Secretaria de Salud",null,97.1,2024]
[21,"Sociocultural y Espiritual",19,"19. Salud y Protección Social",50020014,"Salud - Tasa de mortalidad infantil en menores de 5 años","Casos por cada 1.000 nacidos vivos",2020,10.5,5,"Reducir","Secretaria de Salud",null,8.2899999999999991,2024]
[22,"Sociocultural y Espiritual",19,"19. Salud y Protección Social",50020015,"Salud - Mortalidad en menores de 5 años por enfermedad diarreica aguda (EDA)","Casos por cada 1.000 nacidos vivos",2020,0,0,"Reducir","Secretaria de Salud",null,0,2024]
[23,"Sociocultural y Espiritual",19,"19. Salud y Protección Social",50020016,"Salud - Mortalidad en menores de 5 años por infección respiratoria aguda (IRA)","Casos por cada 1.000 nacidos vivos",2020,0,0,"Reducir","Secretaria de Salud",null,0,2024]
[24,"Sociocultural y Espiritual",19,"19. Salud y Protección Social",50020019,"Salud - Cobertura de vacunación triple viral","Porcentaje (el valor está multiplicado por 100)",2020,85.14,95,"Incrementar","Secretaria de Salud",null,95.7,2024]
[25,"Sociocultural y Espiritual",19,"19. Salud y Protección Social",50020027,"Salud - Tasa ajustada de mortalidad por tumor maligno de la mama de la mujer","Defunciones por cada 100.000 mujeres",2020,8.58,6,"Reducir","Secretaria de Salud",null,16.100000000000001,2024]
[26,"Sociocultural y Espiritual",19,"19. Salud y Protección Social",50020028,"Salud - Tasa ajustada de mortalidad por tumor maligno del cuello del útero","Defunciones por cada 100.000 mujeres",2020,1.56,1,"Reducir","Secretaria de Salud",null,2.7,2024]
[27,"Sociocultural y Espiritual",19,"19. Salud y Protección Social",50020029,"Salud - Tasa ajustada de mortalidad por tumor maligno de la próstata","Defunciones por cada 100.000 hombres",2020,11.38,10,"Reducir","Secretaria de Salud",null,19.600000000000001,2024]
[28,"Sociocultural y Espiritual",19,"19. Salud y Protección Social",50020030,"Salud - Tasa ajustada de mortalidad por lesiones auto infligidas intencionalmente (suicidios)","Defunciones por cada 100.000 habitantes",2020,2.8,1.5,"Reducir","Secretaria de Salud",null,2.3199999999999998,2024]
[29,"Sociocultural y Espiritual",19,"19. Salud y Protección Social",50020044,"Salud - Tasa de mortalidad neonatal","Defunciones por cada 1.000 nacidos vivos",2021,5.25,2,"Reducir","Secretaria de Salud",null,1.68,2024]
[30,"Sociocultural y Espiritual",19,"19. Salud y Protección Social",50020074,"Salud - Mujeres con suministro de métodos de anticoncepción","Porcentaje",2020,47.68,55,"Incrementar","Secretaria de Salud",null,47.68,2020]
[31,"Sociocultural y Espiritual",19,"19. Salud y Protección Social",50020076,"Salud - Cobertura de vacunación con BCG en nacidos vivos","Porcentaje",null,null,100,"Incrementar","Secretaria de Salud",null,66.3,2024]
[32,"Sociocultural y Espiritual",19,"19. Salud y Protección Social",50020078,"Salud - Porcentaje de niñas y niños en primera infancia con valoración integral para la promoción y mantenimiento de la salud","Porcentaje",2022,7.17,20,"Incrementar","Secretaria de Salud",null,7.17,2020]
[33,"Sociocultural y Espiritual",19,"19. Salud y Protección Social",50020081,"Salud - Índice de Riesgo de la Calidad del Agua - IRCA urbano nacional","índice",2023,53.7,45,"Reducir","Secretaria de Salud",null,0.33,2024]
[34,"Sociocultural y Espiritual",33,"33. Cultura ",270010001,"Cultura - Infraestructuras de uso cultural","Número",2022,6,8,"Incrementar","Casa de la Cultura",null,3,2024]
[35,"Sociocultural y Espiritual",33,"33. Cultura ",270010003,"Cultura - Dotaciones entregadas para procesos artísticos y culturales","Número",2022,0,1,"Incrementar","Casa de la Cultura",null,1,2024]
[36,"Sociocultural y Espiritual",33,"33. Cultura ",270020001,"Cultura - Existencia del consejo de cultura mediante acto administrativo","Nivel",2022,0,1,"Incrementar","Casa de la Cultura",null,1,2024]
[37,"Sociocultural y Espiritual",33,"33. Cultura ",270020002,"Cultura - Operatividad del consejo de cultura","Nivel",2022,0,1,"Incrementar","Casa de la Cultura",null,1,2024]
[38,"Sociocultural y Espiritual",33,"33. Cultura ",270020003,"Cultura - Número de integrantes del consejo según acto administrativo","Número",2022,17,17,"Incrementar","Casa de la Cultura",null,12,2024]
[39,"Sociocultural y Espiritual",33,"33. Cultura ",270030001,"Cultura - Número de estímulos, incentivos y proyectos culturales apoyados a través de convocatorias públicas","Número",2022,22,50,"Incrementar","Casa de la Cultura",null,3,2024]
[40,"Sociocultural y Espiritual",33,"33. Cultura ",270030002,"Cultura - Tasa de cobertura municipal con beneficiarios de convocatorias públicas de las culturas, las artes y los saberes","Número",2023,6800,10400,"Incrementar","Casa de la Cultura",null,3390,2024]
[41,"Sociocultural y Espiritual",45,"45. Gobierno Territorial",null,"Política Pública Implementada","Número",2023,0,100,"Incrementar","Mujer y Familia",null,0,2024]
[42,"Sociocultural y Espiritual",43,"43. Deporte y Recreación",270030003,"Cultura - Beneficiarios participantes en deporte, recreación, actividad física y jornada escolar complementaria","Número",2023,0,15000,"Incrementar","INDEC",null,11893,2024]
[43,"Sociocultural y Espiritual",43,"43. Deporte y Recreación",270040001,"Cultura - Escenarios deportivos y recreativos en condiciones de calidad para el desarrollo de programas","Número",2022,4,15,"Incrementar","INDEC",null,15,2024]
[44,"Sociocultural y Espiritual",43,"43. Deporte y Recreación",270040002,"Cultura - Niñas, niños y adolescentes que acceden a servicios deportivos recreativos, de actividad física y aprovechamiento del tiempo libre","Personas",2022,581,4800,"Incrementar","INDEC",null,849,2024]
[45,"Sociocultural y Espiritual",40,"40. Vivienda, Ciudad y Territorio",30010038,"Vivienda y acceso a servicios públicos - Déficit habitacional cuantitativo rural","Porcentaje",2018,4.97,4.13,"Reducir","Secretaria de Infraestructura",null,4.97,2018]
[46,"Sociocultural y Espiritual",40,"40. Vivienda, Ciudad y Territorio",30010039,"Vivienda y acceso a servicios públicos - Déficit habitacional cualitativo rural","Porcentaje",2018,83.43,82.37,"Reducir","Secretaria de Infraestructura",null,83.43,2018]
[47,"Sociocultural y Espiritual",40,"40. Vivienda, Ciudad y Territorio",30010040,"Vivienda y acceso a servicios públicos - Déficit habitacional cuantitativo urbano","Porcentaje",2018,0.91,0.75,"Reducir","Secretaria de Infraestructura",null,0.91,2018]
[48,"Sociocultural y Espiritual",40,"40. Vivienda, Ciudad y Territorio",30010041,"Vivienda y acceso a servicios públicos - Déficit habitacional cualitativo urbano","Porcentaje",2018,32.03,31.83,"Reducir","Secretaria de Infraestructura",null,32.03,2018]
[49,"Sociocultural y Espiritual",40,"40. Vivienda, Ciudad y Territorio",30010004,"Vivienda y acceso a servicios públicos - Cobertura de acueducto (Censo)","Porcentaje (el valor está multiplicado por 100)",2018,95.15,97,"Incrementar","Secretaria de Planación",null,100,2024]
[50,"Sociocultural y Espiritual",40,"40. Vivienda, Ciudad y Territorio",30010006,"Vivienda y acceso a servicios públicos - Cobertura de alcantarillado (Censo)","Porcentaje (el valor está multiplicado por 100)",2018,88.44,90,"Incrementar","Secretaria de Planación",null,88,2024]
[51,"Sociocultural y Espiritual",40,"40. Vivienda, Ciudad y Territorio",30010016,"Vivienda y acceso a servicios públicos - Cobertura de alcantarillado urbana (Censo)","Porcentaje",2018,98.3,98.5,"Incrementar","Secretaria de Planación",null,98,2024]
[52,"Sociocultural y Espiritual",40,"40. Vivienda, Ciudad y Territorio",30010017,"Vivienda y acceso a servicios públicos - Cobertura de alcantarillado rural (Censo)","Porcentaje",2018,46.88,50,"Incrementar","Secretaria de Planación",null,46,2024]
[53,"Sociocultural y Espiritual",40,"40. Vivienda, Ciudad y Territorio",30010019,"Vivienda y acceso a servicios públicos - Cobertura de aseo (Censo)","Porcentaje",2018,97.11,99,"Incrementar","Secretaria de Planeación",null,99,2024]
[54,"Sociocultural y Espiritual",40,"40. Vivienda, Ciudad y Territorio",30010027,"Vivienda y acceso a servicios públicos - Cobertura de Energía Eléctrica (Censo)","Porcentaje (el valor está multiplicado por 100)",2018,99.71,99.8,"Incrementar","Secretaria de Planeación",null,99,2024]
[55,"Sociocultural y Espiritual",40,"40. Vivienda, Ciudad y Territorio",30010033,"Vivienda y acceso a servicios públicos - Cobertura de Aseo Urbana (Censo)","Porcentaje (el valor está multiplicado por 100)",2018,99.63,100,"Incrementar","Secretaria de Planeación",null,99,2024]
[56,"Sociocultural y Espiritual",40,"40. Vivienda, Ciudad y Territorio",30010034,"Vivienda y acceso a servicios públicos - Cobertura de Aseo Rural (Censo)","Porcentaje (el valor está multiplicado por 100)",2018,86.48,90,"Incrementar","Secretaria de Planeación",null,80,2024]
[57,"Sociocultural y Espiritual",40,"40. Vivienda, Ciudad y Territorio",30010035,"Vivienda y acceso a servicios públicos - Cobertura de Internet (Censo)","Porcentaje (el valor está multiplicado por 100)",2018,63.6,70,"Incrementar","Oficina de Comunicaciones y Tic´s",null,63.6,2018]
[58,"Sociocultural y Espiritual",22,"22. Educación ",40040003,"Educación - Número de niñas, niños y mujeres gestantes con educación inicial en el marco de la atención integral a la primera infancia","Numero",2022,1180,1880,"Incrementar","Secretaria de Educación",null,617,2024]
[59,"Sociocultural y Espiritual",22,"22. Educación ",40040007,"Educación - Porcentaje de niños y niñas en primera infancia atendidos en educación inicial en el marco de la atención integral con esquema de vacunación completo para la edad","Porcentaje",2023,95,97,"Incrementar","Secretaria de Salud",null,100,2024]
[60,"Sociocultural y Espiritual",41,"41. Inclusión Social y Reconciliación",60020020,"Convivencia y seguridad ciudadana - Tasa de violencia contra niños y niñas de primera infancia","Tasa",2021,297.67,290,"Reducir","Secretaria de Seguridad y Convivencia ",null,141,2024]
[61,"Sociocultural y Espiritual",41,"41. Inclusión Social y Reconciliación",null,"Salud - Porcentaje de adulto mayor con valoración integral para la promoción y mantenimiento de la salud","Porcentaje",2023,2950,12640,"Incrementar","Secretaria de Salud",null,2950,2024]
[62,"Sociocultural y Espiritual",45,"45. Gobierno Territorial",60010005,"Convivencia y seguridad ciudadana - Tasa de homicidios en mujeres por cada 100.000 habitantes","Tasa por cada 100.000 habitantes",2021,4.51,4,"Reducir","Secretaria de la Mujer y Familia",null,4.47,2024]
[63,"Sociocultural y Espiritual",45,"45. Gobierno Territorial",60010015,"Convivencia y seguridad ciudadana - Tasa de homicidio intencional en mujeres por cada 100.000 habitantes","Tasa por cada 100.000 habitantes",2022,2.2200000000000002,2,"Reducir","Secretaria de la Mujer y Familia",null,2.2200000000000002,2022]
[64,"Sociocultural y Espiritual",45,"45. Gobierno Territorial",60020008,"Convivencia y seguridad ciudadana - Tasa de exámenes por presunto delito sexual a mujeres por cada 100 mil habitantes","Tasa por cada 100.000 habitantes",2022,2,2,"Reducir","Secretaria de Seguridad y Convivencia ",null,45,2024]
[65,"Sociocultural y Espiritual",41,"41. Inclusión Social y Reconciliación",60020025,"Convivencia y seguridad ciudadana - Porcentaje de mujeres víctimas de violencias de género con atención en salud física y mental por sospecha de violencia física, psicológica y sexual","Tasa por cada 100.000 habitantes",2023,0,30,"Incrementar","Secretaria de la Mujer y Familia",null,30,2024]
[66,"Sociocultural y Espiritual",{"$f":"IF(LEN(D70)>0,VALUE(MID(D70,1,FIND(\".\",D70,1)-1)),\"\")","v":41},"41. Inclusión Social y Reconciliación",null,"Personas inscritas y atendidas con el programa de discapacidad","Personas",2021,172,250,"Incrementar","Secretaria de Salud",null,101,2024]
[{"$f":"+A70+1","v":67},"Sociocultural y Espiritual",41,"41. Inclusión Social y Reconciliación",260020004,"Paz y víctimas - Iniciativas y acciones de memoria histórica","Número",2022,0,8,"Incrementar","Secretaria de Seguridad y Convivencia ",null,2,2024]
[68,"Sociocultural y Espiritual",41,"41. Inclusión Social y Reconciliación",260020010,"Paz y víctimas - Víctimas que superaron la situación de vulnerabilidad (con una nueva medición)","Número",2023,0,5202,"Incrementar","Secretaria de Seguridad y Convivencia Ficha estrategica Unida de Victimas",null,1625,2024]
[69,"Sociocultural y Espiritual",41,"41. Inclusión Social y Reconciliación",140010004,"Pobreza - Índice de pobreza multidimensional - IPM","Porcentaje (el valor está multiplicado por 100)",2018,16,15.5,"Reducir","Secretaria de Planeación",null,16,2018]
[70,"Sociocultural y Espiritual",41,"41. Inclusión Social y Reconciliación",140010045,"Pobreza - Índice de Necesidades Básicas Insatisfechas - NBI - en el área urbana","Puntos porcentuales",2018,5.47,5,"Reducir","Secretaria de Planeación",null,5.47,2018]
[71,"Sociocultural y Espiritual",41,"41. Inclusión Social y Reconciliación",140010046,"Pobreza - Índice de Necesidades Básicas Insatisfechas - NBI - en el área rural","Puntos porcentuales",2018,9,8.9,"Reducir","Secretaria de Planeación",null,9,2018]
[72,"Sociocultural y Espiritual",19,"19. Salud y Protección Social",20100045,"Demografía y población - Proporción de la población migrante clasificada en el Sisbén frente a la población migrante en el municipio","Número",2021,0.17,0.2,"Incrementar","Secretaria de Salud",null,2092,2024]
[73,"Sociocultural y Espiritual",22,"22. Educación ",20100046,"Demografía y población - Beneficiarios de programa de Alimentación Escolar para migrantes","Número",2021,301,350,"Incrementar","Secretaria de Educación",null,301,2021]
[74,"Sociocultural y Espiritual",22,"22. Educación ",20100048,"Demografía y población - Proporción de NNA matriculados en IE ajustado por la proporción de población migrante sobre el total de población escolar","Número",2021,5.76,6,"Incrementar","Secretaria de Educación",null,5.76,2021]
[75,"Sociocultural y Espiritual",45,"45. Gobierno Territorial",60010016,"Convivencia y seguridad ciudadana - Tasa de homicidio intencional en áreas urbanas por cada 100.000 habitantes","Tasa por cada 100.000 habitantes",2022,12.81,12,"Reducir","Secretaria de Seguridad y Convivencia ",null,3,2024]
[76,"Sociocultural y Espiritual",45,"45. Gobierno Territorial",null,"Cobertura de vacunación antirrábica","Porcentaje",2023,57,80,"Incrementar","Secretaria de Salud",null,74.12,2024]
[77,"Sociocultural y Espiritual",45,"45. Gobierno Territorial",null,"Animales víctimas de violencia o vulnerabilidad, atendidos","Número",2019,2000,3000,"Incrementar","Secretaria de Desarrollo Social y Economico ",null,6,2024]
[78,"Económica",36,"36.  Trabajo",160090004,"Mercado laboral - Personas ocupadas en actividades asociadas a turismo","Número",2023,0,40,"Incrementar","Secretaria de Desarrollo Social y Economico ",null,4,2024]
[79,"Económica",36,"36.  Trabajo",160090005,"Mercado laboral - Tasa de formalidad laboral ","Tasa",2023,0,48,"Incrementar","Secretaria de Desarrollo Social y Economico ",null,48.1,2024]
[80,"Económica",17,"17. Agricultura y desarrollo rural",null,"Economía - Total de UPAs","Número",2014,408,500,"Incrementar","Secretaria de Desarrollo Social y Economico ",null,270,2024]
[81,"Económica",17,"17. Agricultura y desarrollo rural",null,"Ordenamiento Territorial - Porcentaje OSPR - Consejos comunitarios","Porcentaje (el valor está multiplicado por 100)",2017,0,16,"Incrementar","Secretaria de Planeación",null,1,2024]
[82,"Económica",40,"40. Vivienda, Ciudad y Territorio",150070001,"Ordenamiento Territorial - Total de predios","Millones de pesos corrientes",2021,27109,32530.799999999999,"Incrementar","Secretaria de Planeación",null,0,2024]
[83,"Económica",40,"40. Vivienda, Ciudad y Territorio",150080003,"Ordenamiento Territorial - Porcentaje de avalúo catastral urbano","Porcentaje (el valor está multiplicado por 100)",2020,79.55,87.51,"Incrementar","Secretaria de Planeación",null,81,2024]
[84,"Económica",40,"40. Vivienda, Ciudad y Territorio",150080004,"Ordenamiento Territorial - Porcentaje de avalúo catastral rural","Porcentaje (el valor está multiplicado por 100)",2020,20.45,28.63,"Incrementar","Secretaria de Planeación",null,55,2024]
[85,"Económica",24,"24. Transporte",60010011,"Convivencia y seguridad ciudadana - Tasa de lesiones en accidentes de tránsito por cada 100.000 habitantes","Tasa por cada 100.000 habitantes",2022,56.94,50,"Reducir","Secretaria de Movilidad",null,11,2024]
[86,"Económica",24,"24. Transporte",60010012,"Convivencia y seguridad ciudadana - Tasa de homicidios en accidentes de tránsito por cada 100.000 habitantes","Tasa por cada 100.000 habitantes",2022,23.24,20,"Reducir","Secretaria de Movilidad",null,11,2024]
[87,"Económica",24,"24. Transporte",60010018,"Convivencia y seguridad ciudadana - Fallecidos por siniestros viales","Numero",2023,10,10,"Reducir","Secretaria de Movilidad",null,11,2024]
[88,"Ambiental",32,"32. Ambiente y Desarrollo Sostenible",110070014,"Ambiente - Porcentaje de ingresos corrientes destinados a adquisición de predios o PSA en cuencas abastecedoras de acueducto","Porcentaje",2020,0,1,"Incrementar","Secretaria de Planeación",null,0,2024]
[89,"Ambiental",32,"32. Ambiente y Desarrollo Sostenible",110130003,"Ambiente - Inversión en adaptación al cambio climático","Pesos corrientes",2020,0,249224544,"Incrementar","Secretaria de Planeación",null,8000000,2024]
[90,"Ambiental",32,"32. Ambiente y Desarrollo Sostenible",110130006,"Ambiente - Inversión pública en cambio climático (mitigación, adaptación e integral)","pesos colombianos",2023,0,850000000,"Incrementar","Secretaria de Planeación",null,5000000,2024]
[91,"Ambiental",45,"45. Gobierno Territorial",110080002,"Ambiente - Porcentaje en reducción del riesgo","Porcentaje (el valor está multiplicado por 100)",2020,80.2,70,"Reducir","Secretaria de Infraestructura",null,80.2,2020]
[92,"Ambiental",45,"45. Gobierno Territorial",140010004,"Pobreza - Índice de pobreza multidimensional - IPM","Porcentaje (el valor está multiplicado por 100)",2018,16,15.8,"Reducir","Secretaria de Planeación",null,16,2018]
[93,"Ambiental",45,"45. Gobierno Territorial",140010045,"Pobreza - Índice de Necesidades Básicas Insatisfechas - NBI - en el área urbana","Puntos porcentuales",2018,4.62,4,"Reducir","Secretaria de Planeación",null,4.62,2018]
[94,"Ambiental",45,"45. Gobierno Territorial",140010046,"Pobreza - Índice de Necesidades Básicas Insatisfechas - NBI - en el área rural","Puntos porcentuales",2018,9,8.5,"Reducir","Secretaria de Planeación",null,9,2018]
[95,"Ambiental",45,"45. Gobierno Territorial",110070013,"Ambiente - Acuerdos territoriales para el ordenamiento alrededor del agua","Número de acuerdos territoriales para el ordenamiento alrededor del agua",2023,0,1,"Incrementar","Secretaria de Planeación",null,2,2024]
[96,"Político institucional",40,"40. Vivienda, Ciudad y Territorio",0,"Déficit de espacio público","M2/Hab",2022,2.09,2,"Reducir","Secretaria de Infraestructura",null,13.9,2024]
[97,"Político institucional",45,"45. Gobierno Territorial",300010001,"Administración pública - Índice de Desempeño Institucional","Puntos",2022,61.28,80,"Incrementar","Secretaria De Planeación",null,59.4,2024]
[98,"Político institucional",45,"45. Gobierno Territorial",80010013,"Medición de desempeño municipal - Posición nacional del indicador final MDM","Número",2022,66.13,80,"Incrementar","Secretaria de Planeación",null,72,2024]
[99,"Político institucional",4,"4. Información Estadística",null,"Observatorio de Política Pública implementado","Porcentaje",2023,0,1,"Incrementar","Secretaria de Planeación",null,0,2024]
[100,"Político institucional",45,"45. Gobierno Territorial",60010001,"Convivencia y seguridad ciudadana - Tasa de hurto a personas por cada 100.000 habitantes","Tasa por cada 100.000 habitantes",2022,413.75,325.58,"Reducir","Secretaria de Seguridad y Convivencia ",null,317,2024]
[101,"Político institucional",45,"45. Gobierno Territorial",60010003,"Convivencia y seguridad ciudadana - Tasa de homicidios por cada 100.000 habitantes","Tasa por cada 100.000 habitantes",2022,22.08,16.5,"Reducir","Secretaria de Seguridad y Convivencia ",null,16,2024]
[102,"Político institucional",45,"45. Gobierno Territorial",60010009,"Convivencia y seguridad ciudadana - Tasa de secuestro por cada 100.000 habitantes","Tasa por cada 100.000 habitantes",2021,1,0,"Reducir","Secretaria de Seguridad y Convivencia ",null,0,2024]
[103,"Político institucional",45,"45. Gobierno Territorial",60010010,"Convivencia y seguridad ciudadana - Tasa de extorsión por cada 100.000 habitantes","Tasa por cada 100.000 habitantes",2021,23.6,18.88,"Reducir","Secretaria de Seguridad y Convivencia ",null,26,2024]
[104,"Político institucional",45,"45. Gobierno Territorial",60020001,"Convivencia y seguridad ciudadana - Tasa de violencia intrafamiliar por cada 100.000 habitantes","Tasa por cada 100.000 habitantes",2022,185.96,116.1,"Reducir","Secretaria de Seguridad y Convivencia ",null,313,2024]
[105,"Político institucional",45,"45. Gobierno Territorial",150040003,"Ordenamiento Territorial - Porcentaje OSPR  - Consejos comunitarios","Porcentaje (el valor está multiplicado por 100)",2017,0,16,"Incrementar","Secretraia de Planeación",null,1,2024]
[106,"Político institucional",45,"45. Gobierno Territorial",70130012,"Finanzas públicas - Nuevo IDF Puntaje nuevo Índice de Desempeño Fiscal","Puntos",2022,59.36,65,"Incrementar","Secretaria de Hacienda",null,77.86,2024]
[107,"Político institucional",45,"45. Gobierno Territorial",70130008,"Finanzas públicas - Nuevo IDF Capacidad de Ejecución de Inversión","Porcentaje",2022,89.77,91,"Incrementar","Secretaria de Hacienda",null,80,2024]
[108,"Tecnológica",23,"23. Tecnologias de la Información y Las Comunicaciones ",30010035,"Vivienda y acceso a servicios públicos - Cobertura de Internet (Censo)","Porcentaje (el valor está multiplicado por 100)",2018,63.6,68,"Incrementar","Oficina de Comunicaciones y Tic´s",null,63.6,2018]
[109,"Tecnológica",23,"23. Tecnologias de la Información y Las Comunicaciones ",30010036,"Vivienda y acceso a servicios públicos - Cobertura de Internet Urbana (Censo)","Porcentaje (el valor está multiplicado por 100)",2018,71.069999999999993,73,"Incrementar","Oficina de Comunicaciones y Tic´s",null,71.069999999999993,2018]
[110,"Tecnológica",23,"23. Tecnologias de la Información y Las Comunicaciones ",30010037,"Vivienda y acceso a servicios públicos - Cobertura de Internet Rural (Censo)","Porcentaje (el valor está multiplicado por 100)",2018,32.270000000000003,37,"Incrementar","Oficina de Comunicaciones y Tic´s",null,32.270000000000003,2018]
[111,null,""]
[112,null,""]
[113,null,""]
[114,null,""]
[115,null,""]
[116,null,""]
[117,null,""]
[118,null,""]
[119,null,""]
[120,null,""]
[121,null,""]
[122,null,""]
[123,null,""]
[124,null,""]
[125,null,""]
[126,null,""]
[127,null,""]
[128,null,""]
[129,null,""]
[130,null,{"$f":"IF(LEN(D134)>0,VALUE(MID(D134,1,FIND(\".\",D134,1)-1)),\"\")","v":""}]
[{"$f":"+A134+1","v":131},null,""]
[132,null,""]
[133,null,""]
[134,null,""]
[135,null,""]
[136,null,""]
[137,null,""]
[138,null,""]
[139,null,""]
[140,null,""]
[141,null,""]
[142,null,""]
[143,null,""]
[144,null,""]
[145,null,""]
[146,null,""]
[147,null,""]
[148,null,""]
[149,null,""]
[150,null,""]
[151,null,""]
[152,null,""]
[153,null,""]
[154,null,""]
[155,null,""]
[156,null,""]
[157,null,""]
[158,null,""]
[159,null,""]
[160,null,""]
[161,null,""]
[162,null,""]
[163,null,""]
[164,null,""]
[165,null,""]
[166,null,""]
[167,null,""]
[168,null,""]
[169,null,""]
[170,null,""]
[171,null,""]
[172,null,""]
[173,null,""]
[174,null,""]
[175,null,""]
[176,null,""]
[177,null,""]
[178,null,""]
[179,null,""]
[180,null,""]
[181,null,""]
[182,null,""]
[183,null,""]
[184,null,""]
[185,null,""]
[186,null,""]
[187,null,""]
[188,null,""]
[189,null,""]
[190,null,""]
[191,null,""]
[192,null,""]
[193,null,""]
[194,null,{"$f":"IF(LEN(D198)>0,VALUE(MID(D198,1,FIND(\".\",D198,1)-1)),\"\")","v":""}]
[{"$f":"+A198+1","v":195},null,""]
[196,null,""]
[197,null,""]
[198,null,""]
[199,null,""]
[200,null,""]
[201,null,""]
[202,null,""]
[203,null,""]
[204,null,""]
[205,null,""]
[206,null,""]
[207,null,""]
[208,null,""]
[209,null,""]
[210,null,""]
[211,null,""]
[212,null,""]
[213,null,""]
[214,null,""]
[215,null,""]
[216,null,""]
[217,null,""]
[218,null,""]
[219,null,""]
[220,null,""]
[221,null,""]
[222,null,""]
[223,null,""]
[224,null,""]
[225,null,""]
[226,null,""]
[227,null,""]
[228,null,""]
[229,null,""]
[230,null,""]
[231,null,""]
[232,null,""]
[233,null,""]
[234,null,""]
[235,null,""]
[236,null,""]
[237,null,""]
[238,null,""]
[239,null,""]
[240,null,""]
[241,null,""]
[242,null,""]
[243,null,""]
[244,null,""]
[245,null,""]
[246,null,""]
[247,null,""]
[248,null,""]
[249,null,""]
[250,null,""]
[null,null,{"$f":"IF(LEN($D255)>0,_xlfn.XLOOKUP($D255,listados!$L$3:$L$32,listados!$K$3:$K$32,\"\",0),\"\")","v":""}]

{"sheet":"Plan de acción","index":2,"n_rows":805,"n_cols":28,"rows_kept":805,"cut":false,"hidden":false,"merged":[[0,3,0,10],[2,12,2,15],[2,16,2,19],[2,20,2,23],[2,24,2,27],[2,0,2,5],[2,6,2,10]]}
[null,null,null,null,null,null,null,null,null,null,null,null,null,null,"$","$",null,null,"$","$",null,null,"$","$",null,null,"$","$"]
[null,null,null,null,null,null,null,null,null,"Bloquear solo formato numerico con dos decimales","Bloquear solo formato numerico con dos decimales",null,"Bloquear solo formato numerico con dos decimales","Bloquear solo formato numerico con dos decimales","Bloquear solo formato numerico sin decimales, categoria moneda ","Bloquear solo formato numerico sin decimales, categoria moneda ","Bloquear solo formato numerico con dos decimales","Bloquear solo formato numerico con dos decimales","Bloquear solo formato numerico sin decimales, categoria moneda ","Bloquear solo formato numerico sin decimales, categoria moneda ","Bloquear solo formato numerico con dos decimales","Bloquear solo formato numerico con dos decimales","Bloquear solo formato numerico sin decimales, categoria moneda ","Bloquear solo formato numerico sin decimales, categoria moneda ","Bloquear solo formato numerico con dos decimales","Bloquear solo formato numerico con dos decimales","Bloquear solo formato numerico sin decimales, categoria moneda ","Bloquear solo formato numerico sin decimales, categoria moneda "]
["Ubicación Estratégica",null,null,null,null,null,"Datos del Indicador de Producto",null,null,null,null,null,2024,null,null,null,2025,null,null,null,2026,null,null,null,2027]
["#","Línea estratégica","Código del sector","Sector","Código del programa","Programa","Código de indicador de producto","Indicador de Producto","Unidad de medida","Línea base","Meta del cuatrienio",null,"Programación Física  Plan de Acción 2024","Ejecución Física  Plan de Acción 2024","Apropiación Presupuestal 2024 (Pesos)","Obligación Presupuestal 2024 (Pesos)","Programación Física  Plan de Acción 2025","Ejecución Física  Plan de Acción 2025","Apropiación Presupuestal 2025 (Pesos)","Obligación Presupuestal 2025 (Pesos)","Programación Física  Plan de Acción 2026","Ejecución Física  Plan de Acción 2026","Apropiación Presupuestal 2026 (Pesos)","Obligación Presupuestal 2026 (Pesos)","Programación Física  Plan de Acción 2027","Ejecución Física  Plan de Acción 2027","Apropiación Presupuestal 2027 (Pesos)","Obligación Presupuestal 2027 (Pesos)"]
[{"$f":"+'Plan Indicativo (Productos)'!A5","v":1},{"$f":"+'Plan Indicativo (Productos)'!B5","v":"Sociocultural  y espiritual"},{"$f":"+'Plan Indicativo (Productos)'!C5","v":22},{"$f":"+'Plan Indicativo (Productos)'!D5","v":"22. Educación "},{"$f":"+'Plan Indicativo (Productos)'!E5","v":2202},{"$f":"+'Plan Indicativo (Productos)'!F5","v":"Calidad y fomento de la educación superior"},{"$f":"+'Plan Indicativo (Productos)'!G5","v":"220206200"},{"$f":"+'Plan Indicativo (Productos)'!H5","v":"Beneficiarios de estrategias o programas de  fomento para el acceso a la educación superior"},{"$f":"+'Plan Indicativo (Productos)'!I5","v":"Número"},{"$f":"+'Plan Indicativo (Productos)'!J5","v":0},{"$f":"+'Plan Indicativo (Productos)'!K5","v":150},null,23,23,115626900,115626900]
[{"$f":"+'Plan Indicativo (Productos)'!A6","v":2},{"$f":"+'Plan Indicativo (Productos)'!B6","v":"Sociocultural  y espiritual"},{"$f":"+'Plan Indicativo (Productos)'!C6","v":22},{"$f":"+'Plan Indicativo (Productos)'!D6","v":"22. Educación "},{"$f":"+'Plan Indicativo (Productos)'!E6","v":2202},{"$f":"+'Plan Indicativo (Productos)'!F6","v":"Calidad y fomento de la educación superior"},{"$f":"+'Plan Indicativo (Productos)'!G6","v":"220206113"},{"$f":"+'Plan Indicativo (Productos)'!H6","v":"Beneficiarios de estrategias o programas de  apoyo financiero para la permanencia en la educación superior    - Mejores Bachilleres"},{"$f":"+'Plan Indicativo (Productos)'!I6","v":"Número"},{"$f":"+'Plan Indicativo (Productos)'!J6","v":80},{"$f":"+'Plan Indicativo (Productos)'!K6","v":100},null,25,25,269796100,269796100]
[{"$f":"+'Plan Indicativo (Productos)'!A7","v":3},{"$f":"+'Plan Indicativo (Productos)'!B7","v":"Sociocultural  y espiritual"},{"$f":"+'Plan Indicativo (Productos)'!C7","v":22},{"$f":"+'Plan Indicativo (Productos)'!D7","v":"22. Educación "},{"$f":"+'Plan Indicativo (Productos)'!E7","v":2201},{"$f":"+'Plan Indicativo (Productos)'!F7","v":"Calidad, cobertura y fortalecimiento de la educación inicial, prescolar, básica y media"},{"$f":"+'Plan Indicativo (Productos)'!G7","v":220100100},{"$f":"+'Plan Indicativo (Productos)'!H7","v":"Documentos de planeación para la educación inicial, preescolar, básica y media emitidos"},{"$f":"+'Plan Indicativo (Productos)'!I7","v":"Número"},{"$f":"+'Plan Indicativo (Productos)'!J7","v":1},{"$f":"+'Plan Indicativo (Productos)'!K7","v":1},null,0.4,0.4,183014199,183014199]
[{"$f":"+'Plan Indicativo (Productos)'!A8","v":4},{"$f":"+'Plan Indicativo (Productos)'!B8","v":"Sociocultural  y espiritual"},{"$f":"+'Plan Indicativo (Productos)'!C8","v":22},{"$f":"+'Plan Indicativo (Productos)'!D8","v":"22. Educación "},{"$f":"+'Plan Indicativo (Productos)'!E8","v":2201},{"$f":"+'Plan Indicativo (Productos)'!F8","v":"Calidad, cobertura y fortalecimiento de la educación inicial, prescolar, básica y media"},{"$f":"+'Plan Indicativo (Productos)'!G8","v":220104900},{"$f":"+'Plan Indicativo (Productos)'!H8","v":"Personas beneficiadas con procesos de formación informal"},{"$f":"+'Plan Indicativo (Productos)'!I8","v":"Número"},{"$f":"+'Plan Indicativo (Productos)'!J8","v":395},{"$f":"+'Plan Indicativo (Productos)'!K8","v":1880},null,190,190,44682952,44682952]
[{"$f":"+'Plan Indicativo (Productos)'!A9","v":5},{"$f":"+'Plan Indicativo (Productos)'!B9","v":"Sociocultural  y espiritual"},{"$f":"+'Plan Indicativo (Productos)'!C9","v":22},{"$f":"+'Plan Indicativo (Productos)'!D9","v":"22. Educación "},{"$f":"+'Plan Indicativo (Productos)'!E9","v":2201},{"$f":"+'Plan Indicativo (Productos)'!F9","v":"Calidad, cobertura y fortalecimiento de la educación inicial, prescolar, básica y media"},{"$f":"+'Plan Indicativo (Productos)'!G9","v":"220103600"},{"$f":"+'Plan Indicativo (Productos)'!H9","v":"Contenidos educativos para la educación inicial, preescolar, básica y media producidos "},{"$f":"+'Plan Indicativo (Productos)'!I9","v":"Número"},{"$f":"+'Plan Indicativo (Productos)'!J9","v":0},{"$f":"+'Plan Indicativo (Productos)'!K9","v":3},null,1,1,41245802,41245802]
[{"$f":"+'Plan Indicativo (Productos)'!A10","v":6},{"$f":"+'Plan Indicativo (Productos)'!B10","v":"Sociocultural  y espiritual"},{"$f":"+'Plan Indicativo (Productos)'!C10","v":22},{"$f":"+'Plan Indicativo (Productos)'!D10","v":"22. Educación "},{"$f":"+'Plan Indicativo (Productos)'!E10","v":2201},{"$f":"+'Plan Indicativo (Productos)'!F10","v":"Calidad, cobertura y fortalecimiento de la educación inicial, prescolar, básica y media"},{"$f":"+'Plan Indicativo (Productos)'!G10","v":220100100},{"$f":"+'Plan Indicativo (Productos)'!H10","v":"Documentos de planeación para la educación inicial, preescolar, básica y media emitidos"},{"$f":"+'Plan Indicativo (Productos)'!I10","v":"Número"},{"$f":"+'Plan Indicativo (Productos)'!J10","v":0},{"$f":"+'Plan Indicativo (Productos)'!K10","v":1},null,0.3,0.3,78434657,78434657]
[{"$f":"+'Plan Indicativo (Productos)'!A11","v":7},{"$f":"+'Plan Indicativo (Productos)'!B14","v":"Sociocultural  y espiritual"},{"$f":"+'Plan Indicativo (Productos)'!C11","v":22},{"$f":"+'Plan Indicativo (Productos)'!D11","v":"22. Educación "},{"$f":"+'Plan Indicativo (Productos)'!E11","v":2201},{"$f":"+'Plan Indicativo (Productos)'!F11","v":"Calidad, cobertura y fortalecimiento de la educación inicial, prescolar, básica y media"},{"$f":"+'Plan Indicativo (Productos)'!G11","v":220102900},{"$f":"+'Plan Indicativo (Productos)'!H11","v":"Beneficiarios de transporte escolar"},{"$f":"+'Plan Indicativo (Productos)'!I11","v":"Número"},{"$f":"+'Plan Indicativo (Productos)'!J11","v":287},{"$f":"+'Plan Indicativo (Productos)'!K11","v":5030},null,1255,1178,286278766,286278766]
[{"$f":"+'Plan Indicativo (Productos)'!A12","v":8},{"$f":"+'Plan Indicativo (Productos)'!B13","v":"Sociocultural  y espiritual"},{"$f":"+'Plan Indicativo (Productos)'!C12","v":22},{"$f":"+'Plan Indicativo (Productos)'!D12","v":"22. Educación "},{"$f":"+'Plan Indicativo (Productos)'!E12","v":2201},{"$f":"+'Plan Indicativo (Productos)'!F12","v":"Calidad, cobertura y fortalecimiento de la educación inicial, prescolar, básica y media"},{"$f":"+'Plan Indicativo (Productos)'!G12","v":220106900},{"$f":"+'Plan Indicativo (Productos)'!H12","v":"Sedes dotadas"},{"$f":"+'Plan Indicativo (Productos)'!I12","v":"Número"},{"$f":"+'Plan Indicativo (Productos)'!J12","v":0},{"$f":"+'Plan Indicativo (Productos)'!K12","v":24},null,4,4,286278766,286278766]
[{"$f":"+'Plan Indicativo (Productos)'!A13","v":9},{"$f":"+'Plan Indicativo (Productos)'!#REF!","v":{"$error":"#REF!"}},{"$f":"+'Plan Indicativo (Productos)'!C13","v":22},{"$f":"+'Plan Indicativo (Productos)'!D13","v":"22. Educación "},{"$f":"+'Plan Indicativo (Productos)'!E13","v":2201},{"$f":"+'Plan Indicativo (Productos)'!F13","v":"Calidad, cobertura y fortalecimiento de la educación inicial, prescolar, básica y media"},{"$f":"+'Plan Indicativo (Productos)'!G13","v":220102800},{"$f":"+'Plan Indicativo (Productos)'!H13","v":"Raciones contratadas"},{"$f":"+'Plan Indicativo (Productos)'!I13","v":"Número"},{"$f":"+'Plan Indicativo (Productos)'!J13","v":3119},{"$f":"+'Plan Indicativo (Productos)'!K13","v":2245680},null,561420,556173,3400785362,3400785362]
[{"$f":"+'Plan Indicativo (Productos)'!A14","v":10},{"$f":"+'Plan Indicativo (Productos)'!B14","v":"Sociocultural  y espiritual"},{"$f":"+'Plan Indicativo (Productos)'!C14","v":22},{"$f":"+'Plan Indicativo (Productos)'!D14","v":"22. Educación "},{"$f":"+'Plan Indicativo (Productos)'!E14","v":2201},{"$f":"+'Plan Indicativo (Productos)'!F14","v":"Calidad, cobertura y fortalecimiento de la educación inicial, prescolar, básica y media"},{"$f":"+'Plan Indicativo (Productos)'!G14","v":220108100},{"$f":"+'Plan Indicativo (Productos)'!H14","v":"Sedes educativas apoyadas en la implementación de la ruta de atención integral para la convivencia escolar"},{"$f":"+'Plan Indicativo (Productos)'!I14","v":"Número"},{"$f":"+'Plan Indicativo (Productos)'!J14","v":24},{"$f":"+'Plan Indicativo (Productos)'!K14","v":24},null,6,6,286278766,286278766]
[{"$f":"+'Plan Indicativo (Productos)'!A15","v":11},{"$f":"+'Plan Indicativo (Productos)'!B15","v":"Sociocultural  y espiritual"},{"$f":"+'Plan Indicativo (Productos)'!C15","v":22},{"$f":"+'Plan Indicativo (Productos)'!D15","v":"22. Educación "},{"$f":"+'Plan Indicativo (Productos)'!E15","v":2201},{"$f":"+'Plan Indicativo (Productos)'!F15","v":"Calidad, cobertura y fortalecimiento de la educación inicial, prescolar, básica y media"},{"$f":"+'Plan Indicativo (Productos)'!G15","v":220108400},{"$f":"+'Plan Indicativo (Productos)'!H15","v":"Sedes educativas con apoyo pedagógico para  la oferta de educación inclusiva para preescolar, básica y media"},{"$f":"+'Plan Indicativo (Productos)'!I15","v":"Número"},{"$f":"+'Plan Indicativo (Productos)'!J15","v":24},{"$f":"+'Plan Indicativo (Productos)'!K15","v":24},null,6,6,286278766,286278766]
[{"$f":"+'Plan Indicativo (Productos)'!A16","v":12},{"$f":"+'Plan Indicativo (Productos)'!B16","v":"Sociocultural  y espiritual"},{"$f":"+'Plan Indicativo (Productos)'!C16","v":22},{"$f":"+'Plan Indicativo (Productos)'!D16","v":"22. Educación "},{"$f":"+'Plan Indicativo (Productos)'!E16","v":2201},{"$f":"+'Plan Indicativo (Productos)'!F16","v":"Calidad, cobertura y fortalecimiento de la educación inicial, prescolar, básica y media"},{"$f":"+'Plan Indicativo (Productos)'!G16","v":220103400},{"$f":"+'Plan Indicativo (Productos)'!H16","v":"Estudiantes beneficiados con estrategias de promoción del bilingüismo"},{"$f":"+'Plan Indicativo (Productos)'!I16","v":"Número"},{"$f":"+'Plan Indicativo (Productos)'!J16","v":0},{"$f":"+'Plan Indicativo (Productos)'!K16","v":600},null,150,150,103114505,103114505]
[{"$f":"+'Plan Indicativo (Productos)'!A17","v":13},{"$f":"+'Plan Indicativo (Productos)'!B17","v":"Sociocultural  y espiritual"},{"$f":"+'Plan Indicativo (Productos)'!C17","v":22},{"$f":"+'Plan Indicativo (Productos)'!D17","v":"22. Educación "},{"$f":"+'Plan Indicativo (Productos)'!E17","v":2201},{"$f":"+'Plan Indicativo (Productos)'!F17","v":"Calidad, cobertura y fortalecimiento de la educación inicial, prescolar, básica y media"},{"$f":"+'Plan Indicativo (Productos)'!G17","v":"220103500"},{"$f":"+'Plan Indicativo (Productos)'!H17","v":"Programas y proyectos de educación pertinente articulados con el sector productivo "},{"$f":"+'Plan Indicativo (Productos)'!I17","v":"Número"},{"$f":"+'Plan Indicativo (Productos)'!J17","v":0},{"$f":"+'Plan Indicativo (Productos)'!K17","v":8},null,2,2,17185751,17185751]
[{"$f":"+'Plan Indicativo (Productos)'!A18","v":14},{"$f":"+'Plan Indicativo (Productos)'!B18","v":"Sociocultural  y espiritual"},{"$f":"+'Plan Indicativo (Productos)'!C18","v":22},{"$f":"+'Plan Indicativo (Productos)'!D18","v":"22. Educación "},{"$f":"+'Plan Indicativo (Productos)'!E18","v":2201},{"$f":"+'Plan Indicativo (Productos)'!F18","v":"Calidad, cobertura y fortalecimiento de la educación inicial, prescolar, básica y media"},{"$f":"+'Plan Indicativo (Productos)'!G18","v":220107309},{"$f":"+'Plan Indicativo (Productos)'!H18","v":"Estudiantes evaluados a través de simulacros"},{"$f":"+'Plan Indicativo (Productos)'!I18","v":"Número"},{"$f":"+'Plan Indicativo (Productos)'!J18","v":165},{"$f":"+'Plan Indicativo (Productos)'!K18","v":660},null,120,120,17185751,17185751]
[{"$f":"+'Plan Indicativo (Productos)'!A19","v":15},{"$f":"+'Plan Indicativo (Productos)'!B19","v":"Sociocultural  y espiritual"},{"$f":"+'Plan Indicativo (Productos)'!C19","v":22},{"$f":"+'Plan Indicativo (Productos)'!D19","v":"22. Educación "},{"$f":"+'Plan Indicativo (Productos)'!E19","v":2201},{"$f":"+'Plan Indicativo (Productos)'!F19","v":"Calidad, cobertura y fortalecimiento de la educación inicial, prescolar, básica y media"},{"$f":"+'Plan Indicativo (Productos)'!G19","v":"220103100"},{"$f":"+'Plan Indicativo (Productos)'!H19","v":"Personas beneficiarias de ciclos lectivos especiales integrados"},{"$f":"+'Plan Indicativo (Productos)'!I19","v":"Número"},{"$f":"+'Plan Indicativo (Productos)'!J19","v":207},{"$f":"+'Plan Indicativo (Productos)'!K19","v":1000},null,250,220,17185751,17185751]
[{"$f":"+'Plan Indicativo (Productos)'!A20","v":16},{"$f":"+'Plan Indicativo (Productos)'!B20","v":"Sociocultural  y espiritual"},{"$f":"+'Plan Indicativo (Productos)'!C20","v":22},{"$f":"+'Plan Indicativo (Productos)'!D20","v":"22. Educación "},{"$f":"+'Plan Indicativo (Productos)'!E20","v":2201},{"$f":"+'Plan Indicativo (Productos)'!F20","v":"Calidad, cobertura y fortalecimiento de la educación inicial, prescolar, básica y media"},{"$f":"+'Plan Indicativo (Productos)'!G20","v":"220107100"},{"$f":"+'Plan Indicativo (Productos)'!H20","v":"Establecimientos educativos en operación"},{"$f":"+'Plan Indicativo (Productos)'!I20","v":"Número"},{"$f":"+'Plan Indicativo (Productos)'!J20","v":23},{"$f":"+'Plan Indicativo (Productos)'!K20","v":24},null,23,23,500087000,500087000]
[{"$f":"+'Plan Indicativo (Productos)'!A21","v":17},{"$f":"+'Plan Indicativo (Productos)'!B21","v":"Sociocultural  y espiritual"},{"$f":"+'Plan Indicativo (Productos)'!C21","v":22},{"$f":"+'Plan Indicativo (Productos)'!D21","v":"22. Educación "},{"$f":"+'Plan Indicativo (Productos)'!E21","v":2201},{"$f":"+'Plan Indicativo (Productos)'!F21","v":"Calidad, cobertura y fortalecimiento de la educación inicial, prescolar, básica y media"},{"$f":"+'Plan Indicativo (Productos)'!G21","v":220104700},{"$f":"+'Plan Indicativo (Productos)'!H21","v":"Establecimientos educativos apoyados para la  implementación de modelos de innovación educativa "},{"$f":"+'Plan Indicativo (Productos)'!I21","v":"Número"},{"$f":"+'Plan Indicativo (Productos)'!J21","v":0},{"$f":"+'Plan Indicativo (Productos)'!K21","v":9},null,2,2,51557253,51557253]
[{"$f":"+'Plan Indicativo (Productos)'!A22","v":18},{"$f":"+'Plan Indicativo (Productos)'!B22","v":"Sociocultural  y espiritual"},{"$f":"+'Plan Indicativo (Productos)'!C22","v":22},{"$f":"+'Plan Indicativo (Productos)'!D22","v":"22. Educación "},{"$f":"+'Plan Indicativo (Productos)'!E22","v":2201},{"$f":"+'Plan Indicativo (Productos)'!F22","v":"Calidad, cobertura y fortalecimiento de la educación inicial, prescolar, básica y media"},{"$f":"+'Plan Indicativo (Productos)'!G22","v":220103000},{"$f":"+'Plan Indicativo (Productos)'!H22","v":"Beneficiarios atendidos con modelos educativos flexibles"},{"$f":"+'Plan Indicativo (Productos)'!I22","v":"Número"},{"$f":"+'Plan Indicativo (Productos)'!J22","v":532},{"$f":"+'Plan Indicativo (Productos)'!K22","v":2400},null,600,800,51557253,51557253]
[{"$f":"+'Plan Indicativo (Productos)'!A23","v":19},{"$f":"+'Plan Indicativo (Productos)'!B23","v":"Sociocultural  y espiritual"},{"$f":"+'Plan Indicativo (Productos)'!C23","v":22},{"$f":"+'Plan Indicativo (Productos)'!D23","v":"22. Educación "},{"$f":"+'Plan Indicativo (Productos)'!E23","v":2299},{"$f":"+'Plan Indicativo (Productos)'!F23","v":"Fortalecimiento de la gestión y dirección del sector Educación"},{"$f":"+'Plan Indicativo (Productos)'!G23","v":"229906200"},{"$f":"+'Plan Indicativo (Productos)'!H23","v":"Sistemas de información actualizados"},{"$f":"+'Plan Indicativo (Productos)'!I23","v":"Número"},{"$f":"+'Plan Indicativo (Productos)'!J23","v":1},{"$f":"+'Plan Indicativo (Productos)'!K23","v":2},null,2,2,578070000,578070000]
[{"$f":"+'Plan Indicativo (Productos)'!A24","v":20},{"$f":"+'Plan Indicativo (Productos)'!B24","v":"Sociocultural  y espiritual"},{"$f":"+'Plan Indicativo (Productos)'!C24","v":22},{"$f":"+'Plan Indicativo (Productos)'!D24","v":"22. Educación "},{"$f":"+'Plan Indicativo (Productos)'!E24","v":2201},{"$f":"+'Plan Indicativo (Productos)'!F24","v":"Calidad, cobertura y fortalecimiento de la educación inicial, prescolar, básica y media"},{"$f":"+'Plan Indicativo (Productos)'!G24","v":"220105200"},{"$f":"+'Plan Indicativo (Productos)'!H24","v":"Sedes educativas mejoradas "},{"$f":"+'Plan Indicativo (Productos)'!I24","v":"Número"},{"$f":"+'Plan Indicativo (Productos)'!J24","v":14},{"$f":"+'Plan Indicativo (Productos)'!K24","v":9},null,2,2,247147796,247147796]
[{"$f":"+'Plan Indicativo (Productos)'!A25","v":21},{"$f":"+'Plan Indicativo (Productos)'!B25","v":"Sociocultural  y espiritual"},{"$f":"+'Plan Indicativo (Productos)'!C25","v":22},{"$f":"+'Plan Indicativo (Productos)'!D25","v":"22. Educación "},{"$f":"+'Plan Indicativo (Productos)'!E25","v":2201},{"$f":"+'Plan Indicativo (Productos)'!F25","v":"Calidad, cobertura y fortalecimiento de la educación inicial, prescolar, básica y media"},{"$f":"+'Plan Indicativo (Productos)'!G25","v":"220106200"},{"$f":"+'Plan Indicativo (Productos)'!H25","v":"Sedes mantenidas"},{"$f":"+'Plan Indicativo (Productos)'!I25","v":"Número"},{"$f":"+'Plan Indicativo (Productos)'!J25","v":6},{"$f":"+'Plan Indicativo (Productos)'!K25","v":24},null,4,4,247147796,247147796]
[{"$f":"+'Plan Indicativo (Productos)'!A26","v":22},{"$f":"+'Plan Indicativo (Productos)'!B26","v":"Sociocultural  y espiritual"},{"$f":"+'Plan Indicativo (Productos)'!C26","v":22},{"$f":"+'Plan Indicativo (Productos)'!D26","v":"22. Educación "},{"$f":"+'Plan Indicativo (Productos)'!E26","v":2201},{"$f":"+'Plan Indicativo (Productos)'!F26","v":"Calidad, cobertura y fortalecimiento de la educación inicial, prescolar, básica y media"},{"$f":"+'Plan Indicativo (Productos)'!G26","v":220105100},{"$f":"+'Plan Indicativo (Productos)'!H26","v":"Sedes educativas nuevas construidas "},{"$f":"+'Plan Indicativo (Productos)'!I26","v":"Número"},{"$f":"+'Plan Indicativo (Productos)'!J27","v":21471},{"$f":"+'Plan Indicativo (Productos)'!K27","v":1350},null,0.1,0.1,211840968,211840968]
[{"$f":"+'Plan Indicativo (Productos)'!A27","v":23},{"$f":"+'Plan Indicativo (Productos)'!B27","v":"Sociocultural  y espiritual"},{"$f":"+'Plan Indicativo (Productos)'!C27","v":19},{"$f":"+'Plan Indicativo (Productos)'!D27","v":"19. Salud y Protección Social"},{"$f":"+'Plan Indicativo (Productos)'!E27","v":1905},{"$f":"+'Plan Indicativo (Productos)'!F27","v":"Salud Pública"},{"$f":"+'Plan Indicativo (Productos)'!G27","v":"190505000"},{"$f":"+'Plan Indicativo (Productos)'!H27","v":"Asistencias técnicas realizadas"},{"$f":"+'Plan Indicativo (Productos)'!I27","v":"Número"},{"$f":"+'Plan Indicativo (Productos)'!#REF!","v":{"$error":"#REF!"}},{"$f":"+'Plan Indicativo (Productos)'!#REF!","v":{"$error":"#REF!"}},null,200,337,18853409277,18853409277]
[{"$f":"+'Plan Indicativo (Productos)'!A28","v":24},{"$f":"+'Plan Indicativo (Productos)'!B28","v":"Sociocultural  y espiritual"},{"$f":"+'Plan Indicativo (Productos)'!C28","v":19},{"$f":"+'Plan Indicativo (Productos)'!D28","v":"19. Salud y Protección Social"},{"$f":"+'Plan Indicativo (Productos)'!E28","v":1906},{"$f":"+'Plan Indicativo (Productos)'!F28","v":"Aseguramiento y prestación integral de servicios de salud"},{"$f":"+'Plan Indicativo (Productos)'!G28","v":190604400},{"$f":"+'Plan Indicativo (Productos)'!H28","v":"Personas afiliadas al régimen subsidiado"},{"$f":"+'Plan Indicativo (Productos)'!I28","v":"Número"},{"$f":"+'Plan Indicativo (Productos)'!J28","v":3000},{"$f":"+'Plan Indicativo (Productos)'!K28","v":1000},null,150,300,18853409277,18853409277]
[{"$f":"+'Plan Indicativo (Productos)'!A29","v":25},{"$f":"+'Plan Indicativo (Productos)'!B29","v":"Sociocultural  y espiritual"},{"$f":"+'Plan Indicativo (Productos)'!C29","v":19},{"$f":"+'Plan Indicativo (Productos)'!D29","v":"19. Salud y Protección Social"},{"$f":"+'Plan Indicativo (Productos)'!E29","v":1906},{"$f":"+'Plan Indicativo (Productos)'!F29","v":"Aseguramiento y prestación integral de servicios de salud"},{"$f":"+'Plan Indicativo (Productos)'!G29","v":190600400},{"$f":"+'Plan Indicativo (Productos)'!H29","v":"Personas atendidas con servicio de salud"},{"$f":"+'Plan Indicativo (Productos)'!I29","v":"Número"},{"$f":"+'Plan Indicativo (Productos)'!J29","v":1},{"$f":"+'Plan Indicativo (Productos)'!K29","v":1},null,0,0,0,0]
[{"$f":"+'Plan Indicativo (Productos)'!A30","v":26},{"$f":"+'Plan Indicativo (Productos)'!B30","v":"Sociocultural  y espiritual"},{"$f":"+'Plan Indicativo (Productos)'!C30","v":45},{"$f":"+'Plan Indicativo (Productos)'!D30","v":"45. Gobierno Territorial"},{"$f":"+'Plan Indicativo (Productos)'!E30","v":4599},{"$f":"+'Plan Indicativo (Productos)'!F30","v":"Fortalecimiento a la gestión y dirección de la administración pública territorial"},{"$f":"+'Plan Indicativo (Productos)'!G30","v":459900100},{"$f":"+'Plan Indicativo (Productos)'!H30","v":"Documentos de evaluación elaborados"},{"$f":"+'Plan Indicativo (Productos)'!I30","v":"Número"},{"$f":"+'Plan Indicativo (Productos)'!J30","v":4},{"$f":"+'Plan Indicativo (Productos)'!K30","v":4},null,0,0,0,0]
[{"$f":"+'Plan Indicativo (Productos)'!A31","v":27},{"$f":"+'Plan Indicativo (Productos)'!B31","v":"Sociocultural  y espiritual"},{"$f":"+'Plan Indicativo (Productos)'!C31","v":45},{"$f":"+'Plan Indicativo (Productos)'!D31","v":"45. Gobierno Territorial"},{"$f":"+'Plan Indicativo (Productos)'!E31","v":4599},{"$f":"+'Plan Indicativo (Productos)'!F31","v":"Fortalecimiento a la gestión y dirección de la administración pública territorial"},{"$f":"+'Plan Indicativo (Productos)'!G31","v":459900100},{"$f":"+'Plan Indicativo (Productos)'!H31","v":"Documentos de evaluación elaborados"},{"$f":"+'Plan Indicativo (Productos)'!I31","v":"Número"},{"$f":"+'Plan Indicativo (Productos)'!J31","v":19047},{"$f":"+'Plan Indicativo (Productos)'!K31","v":2400},null,480,480,110002718,110002718]
[{"$f":"+'Plan Indicativo (Productos)'!A32","v":28},{"$f":"+'Plan Indicativo (Productos)'!B32","v":"Sociocultural  y espiritual"},{"$f":"+'Plan Indicativo (Productos)'!C32","v":45},{"$f":"+'Plan Indicativo (Productos)'!D32","v":"45. Gobierno Territorial"},{"$f":"+'Plan Indicativo (Productos)'!E32","v":4599},{"$f":"+'Plan Indicativo (Productos)'!F32","v":"Fortalecimiento a la gestión y dirección de la administración pública territorial"},{"$f":"+'Plan Indicativo (Productos)'!G32","v":"459903300"},{"$f":"+'Plan Indicativo (Productos)'!H32","v":"Hogares que realizaron la encuesta"},{"$f":"+'Plan Indicativo (Productos)'!I32","v":"Número"},{"$f":"+'Plan Indicativo (Productos)'!J32","v":0},{"$f":"+'Plan Indicativo (Productos)'!K32","v":1},null,0.1,0.1,31415947,31415947]
[{"$f":"+'Plan Indicativo (Productos)'!A33","v":29},{"$f":"+'Plan Indicativo (Productos)'!B33","v":"Sociocultural  y espiritual"},{"$f":"+'Plan Indicativo (Productos)'!C33","v":19},{"$f":"+'Plan Indicativo (Productos)'!D33","v":"19. Salud y Protección Social"},{"$f":"+'Plan Indicativo (Productos)'!E33","v":1906},{"$f":"+'Plan Indicativo (Productos)'!F33","v":"Aseguramiento y prestación integral de servicios de salud"},{"$f":"+'Plan Indicativo (Productos)'!G33","v":190601300},{"$f":"+'Plan Indicativo (Productos)'!H33","v":"Hospitales de segundo nivel de atención modificados"},{"$f":"+'Plan Indicativo (Productos)'!I33","v":"Número"},{"$f":"+'Plan Indicativo (Productos)'!J33","v":1},{"$f":"+'Plan Indicativo (Productos)'!K33","v":4},null,1,1,195592022,195592022]
[{"$f":"+'Plan Indicativo (Productos)'!A34","v":30},{"$f":"+'Plan Indicativo (Productos)'!B34","v":"Sociocultural  y espiritual"},{"$f":"+'Plan Indicativo (Productos)'!C34","v":19},{"$f":"+'Plan Indicativo (Productos)'!D34","v":"19. Salud y Protección Social"},{"$f":"+'Plan Indicativo (Productos)'!E34","v":1905},{"$f":"+'Plan Indicativo (Productos)'!F34","v":"Salud Pública"},{"$f":"+'Plan Indicativo (Productos)'!G34","v":190505400},{"$f":"+'Plan Indicativo (Productos)'!H34","v":"Estrategias de promoción de la salud implementadas"},{"$f":"+'Plan Indicativo (Productos)'!I34","v":"Número"},{"$f":"+'Plan Indicativo (Productos)'!J34","v":30},{"$f":"+'Plan Indicativo (Productos)'!K34","v":106},null,28,13,195592022,195592022]
[{"$f":"+'Plan Indicativo (Productos)'!A35","v":31},{"$f":"+'Plan Indicativo (Productos)'!B35","v":"Sociocultural  y espiritual"},{"$f":"+'Plan Indicativo (Productos)'!C35","v":19},{"$f":"+'Plan Indicativo (Productos)'!D35","v":"19. Salud y Protección Social"},{"$f":"+'Plan Indicativo (Productos)'!E35","v":1905},{"$f":"+'Plan Indicativo (Productos)'!F35","v":"Salud Pública"},{"$f":"+'Plan Indicativo (Productos)'!G35","v":190502100},{"$f":"+'Plan Indicativo (Productos)'!H35","v":"Campañas de gestión del riesgo en temas de salud sexual y reproductiva implementadas"},{"$f":"+'Plan Indicativo (Productos)'!I35","v":"Número"},{"$f":"+'Plan Indicativo (Productos)'!J35","v":4},{"$f":"+'Plan Indicativo (Productos)'!K35","v":4},null,1,1,195592022,195592022]
[{"$f":"+'Plan Indicativo (Productos)'!A36","v":32},{"$f":"+'Plan Indicativo (Productos)'!B36","v":"Sociocultural  y espiritual"},{"$f":"+'Plan Indicativo (Productos)'!C36","v":19},{"$f":"+'Plan Indicativo (Productos)'!D36","v":"19. Salud y Protección Social"},{"$f":"+'Plan Indicativo (Productos)'!E36","v":1905},{"$f":"+'Plan Indicativo (Productos)'!F36","v":"Salud Pública"},{"$f":"+'Plan Indicativo (Productos)'!G36","v":190505400},{"$f":"+'Plan Indicativo (Productos)'!H36","v":"Estrategias de promoción de la salud implementadas"},{"$f":"+'Plan Indicativo (Productos)'!I36","v":"Número"},{"$f":"+'Plan Indicativo (Productos)'!J36","v":0},{"$f":"+'Plan Indicativo (Productos)'!K36","v":4},null,1,1,195592022,195592022]
[{"$f":"+'Plan Indicativo (Productos)'!A37","v":33},{"$f":"+'Plan Indicativo (Productos)'!B37","v":"Sociocultural  y espiritual"},{"$f":"+'Plan Indicativo (Productos)'!C37","v":19},{"$f":"+'Plan Indicativo (Productos)'!D37","v":"19. Salud y Protección Social"},{"$f":"+'Plan Indicativo (Productos)'!E37","v":1905},{"$f":"+'Plan Indicativo (Productos)'!F37","v":"Salud Pública"},{"$f":"+'Plan Indicativo (Productos)'!G37","v":"190502200"},{"$f":"+'Plan Indicativo (Productos)'!H37","v":"Campañas de gestión del riesgo en temas de trastornos mentales implementadas"},{"$f":"+'Plan Indicativo (Productos)'!I37","v":"Número"},{"$f":"+'Plan Indicativo (Productos)'!J37","v":1},{"$f":"+'Plan Indicativo (Productos)'!K37","v":4},null,1,1,195592022,195592022]
[{"$f":"+'Plan Indicativo (Productos)'!A38","v":34},{"$f":"+'Plan Indicativo (Productos)'!B38","v":"Sociocultural  y espiritual"},{"$f":"+'Plan Indicativo (Productos)'!C38","v":19},{"$f":"+'Plan Indicativo (Productos)'!D38","v":"19. Salud y Protección Social"},{"$f":"+'Plan Indicativo (Productos)'!E38","v":1905},{"$f":"+'Plan Indicativo (Productos)'!F38","v":"Salud Pública"},{"$f":"+'Plan Indicativo (Productos)'!G38","v":190505400},{"$f":"+'Plan Indicativo (Productos)'!H38","v":"Estrategias de promoción de la salud implementadas"},{"$f":"+'Plan Indicativo (Productos)'!I38","v":"Número"},{"$f":"+'Plan Indicativo (Productos)'!J38","v":1},{"$f":"+'Plan Indicativo (Productos)'!K38","v":4},null,1,1,195592022,195592022]
[{"$f":"+'Plan Indicativo (Productos)'!A39","v":35},{"$f":"+'Plan Indicativo (Productos)'!B39","v":"Sociocultural  y espiritual"},{"$f":"+'Plan Indicativo (Productos)'!C39","v":19},{"$f":"+'Plan Indicativo (Productos)'!D39","v":"19. Salud y Protección Social"},{"$f":"+'Plan Indicativo (Productos)'!E39","v":1905},{"$f":"+'Plan Indicativo (Productos)'!F39","v":"Salud Pública"},{"$f":"+'Plan Indicativo (Productos)'!G39","v":190505400},{"$f":"+'Plan Indicativo (Productos)'!H39","v":"Estrategias de promoción de la salud implementadas"},{"$f":"+'Plan Indicativo (Productos)'!I39","v":"Número"},{"$f":"+'Plan Indicativo (Productos)'!J39","v":1},{"$f":"+'Plan Indicativo (Productos)'!K39","v":4},null,1,1,195592022,195592022]
[{"$f":"+'Plan Indicativo (Productos)'!A40","v":36},{"$f":"+'Plan Indicativo (Productos)'!B40","v":"Sociocultural  y espiritual"},{"$f":"+'Plan Indicativo (Productos)'!C40","v":19},{"$f":"+'Plan Indicativo (Productos)'!D40","v":"19. Salud y Protección Social"},{"$f":"+'Plan Indicativo (Productos)'!E40","v":1905},{"$f":"+'Plan Indicativo (Productos)'!F40","v":"Salud Pública"},{"$f":"+'Plan Indicativo (Productos)'!G40","v":190503100},{"$f":"+'Plan Indicativo (Productos)'!H40","v":"Campañas de promoción de la salud  y prevención de riesgos asociados a condiciones no transmisibles implementadas"},{"$f":"+'Plan Indicativo (Productos)'!I40","v":"Número"},{"$f":"+'Plan Indicativo (Productos)'!J40","v":1},{"$f":"+'Plan Indicativo (Productos)'!K40","v":4},null,1,1,195592022,195592022]
[{"$f":"+'Plan Indicativo (Productos)'!A41","v":37},{"$f":"+'Plan Indicativo (Productos)'!B41","v":"Sociocultural  y espiritual"},{"$f":"+'Plan Indicativo (Productos)'!C41","v":19},{"$f":"+'Plan Indicativo (Productos)'!D41","v":"19. Salud y Protección Social"},{"$f":"+'Plan Indicativo (Productos)'!E41","v":1905},{"$f":"+'Plan Indicativo (Productos)'!F41","v":"Salud Pública"},{"$f":"+'Plan Indicativo (Productos)'!G41","v":190503100},{"$f":"+'Plan Indicativo (Productos)'!H41","v":"Campañas de promoción de la salud  y prevención de riesgos asociados a condiciones no transmisibles implementadas"},{"$f":"+'Plan Indicativo (Productos)'!I41","v":"Número"},{"$f":"+'Plan Indicativo (Productos)'!J41","v":1},{"$f":"+'Plan Indicativo (Productos)'!K41","v":4},null,1,1,195592022,195592022]
[{"$f":"+'Plan Indicativo (Productos)'!A42","v":38},{"$f":"+'Plan Indicativo (Productos)'!B42","v":"Sociocultural  y espiritual"},{"$f":"+'Plan Indicativo (Productos)'!C42","v":19},{"$f":"+'Plan Indicativo (Productos)'!D42","v":"19. Salud y Protección Social"},{"$f":"+'Plan Indicativo (Productos)'!E42","v":1905},{"$f":"+'Plan Indicativo (Productos)'!F42","v":"Salud Pública"},{"$f":"+'Plan Indicativo (Productos)'!G42","v":190502000},{"$f":"+'Plan Indicativo (Productos)'!H42","v":"Campañas de gestión del riesgo en temas de consumo de sustancias psicoactivas implementadas"},{"$f":"+'Plan Indicativo (Productos)'!I42","v":"Número"},{"$f":"+'Plan Indicativo (Productos)'!J42","v":5},{"$f":"+'Plan Indicativo (Productos)'!K42","v":5},null,1,1,195592022,195592022]
[{"$f":"+'Plan Indicativo (Productos)'!A43","v":39},{"$f":"+'Plan Indicativo (Productos)'!B43","v":"Sociocultural  y espiritual"},{"$f":"+'Plan Indicativo (Productos)'!C43","v":45},{"$f":"+'Plan Indicativo (Productos)'!D43","v":"45. Gobierno Territorial"},{"$f":"+'Plan Indicativo (Productos)'!E43","v":4599},{"$f":"+'Plan Indicativo (Productos)'!F43","v":"Fortalecimiento a la gestión y dirección de la administración pública territorial"},{"$f":"+'Plan Indicativo (Productos)'!G43","v":459901900},{"$f":"+'Plan Indicativo (Productos)'!H43","v":"Documentos de planeación realizados"},{"$f":"+'Plan Indicativo (Productos)'!I43","v":"Número"},{"$f":"+'Plan Indicativo (Productos)'!J43","v":0},{"$f":"+'Plan Indicativo (Productos)'!K43","v":1},null,0.4,0.4,0,0]
[{"$f":"+'Plan Indicativo (Productos)'!A44","v":40},{"$f":"+'Plan Indicativo (Productos)'!B44","v":"Sociocultural  y espiritual"},{"$f":"+'Plan Indicativo (Productos)'!C44","v":33},{"$f":"+'Plan Indicativo (Productos)'!D44","v":"33. Cultura "},{"$f":"+'Plan Indicativo (Productos)'!E44","v":3302},{"$f":"+'Plan Indicativo (Productos)'!F44","v":"Gestión, protección y salvaguardia del patrimonio cultural colombiano"},{"$f":"+'Plan Indicativo (Productos)'!G44","v":330201900},{"$f":"+'Plan Indicativo (Productos)'!H44","v":"Capacitaciones realizadas"},{"$f":"+'Plan Indicativo (Productos)'!I44","v":"Número"},{"$f":"+'Plan Indicativo (Productos)'!J44","v":0},{"$f":"+'Plan Indicativo (Productos)'!K44","v":8},null,2,3,832154759,832154759]
[{"$f":"+'Plan Indicativo (Productos)'!A45","v":41},{"$f":"+'Plan Indicativo (Productos)'!B45","v":"Sociocultural  y espiritual"},{"$f":"+'Plan Indicativo (Productos)'!C45","v":33},{"$f":"+'Plan Indicativo (Productos)'!D45","v":"33. Cultura "},{"$f":"+'Plan Indicativo (Productos)'!E45","v":3301},{"$f":"+'Plan Indicativo (Productos)'!F45","v":"Promoción y acceso efectivo a procesos culturales y artísticos"},{"$f":"+'Plan Indicativo (Productos)'!G45","v":330101800},{"$f":"+'Plan Indicativo (Productos)'!H45","v":"Casas de la cultura adecuadas"},{"$f":"+'Plan Indicativo (Productos)'!I45","v":"Número"},{"$f":"+'Plan Indicativo (Productos)'!J45","v":0},{"$f":"+'Plan Indicativo (Productos)'!K45","v":1},null,0.1,0.1,61000000,61000000]
[{"$f":"+'Plan Indicativo (Productos)'!A46","v":42},{"$f":"+'Plan Indicativo (Productos)'!B46","v":"Sociocultural  y espiritual"},{"$f":"+'Plan Indicativo (Productos)'!C46","v":33},{"$f":"+'Plan Indicativo (Productos)'!D46","v":"33. Cultura "},{"$f":"+'Plan Indicativo (Productos)'!E46","v":3301},{"$f":"+'Plan Indicativo (Productos)'!F46","v":"Promoción y acceso efectivo a procesos culturales y artísticos"},{"$f":"+'Plan Indicativo (Productos)'!G46","v":330112700},{"$f":"+'Plan Indicativo (Productos)'!H46","v":"Infraestructuras culturales dotadas"},{"$f":"+'Plan Indicativo (Productos)'!I46","v":"Número"},{"$f":"+'Plan Indicativo (Productos)'!J46","v":2},{"$f":"+'Plan Indicativo (Productos)'!K46","v":2},null,0.1,0.1,61800000,61800000]
[{"$f":"+'Plan Indicativo (Productos)'!A47","v":43},{"$f":"+'Plan Indicativo (Productos)'!B47","v":"Sociocultural  y espiritual"},{"$f":"+'Plan Indicativo (Productos)'!C47","v":33},{"$f":"+'Plan Indicativo (Productos)'!D47","v":"33. Cultura "},{"$f":"+'Plan Indicativo (Productos)'!E47","v":3301},{"$f":"+'Plan Indicativo (Productos)'!F47","v":"Promoción y acceso efectivo a procesos culturales y artísticos"},{"$f":"+'Plan Indicativo (Productos)'!G47","v":330112700},{"$f":"+'Plan Indicativo (Productos)'!H47","v":"Infraestructuras culturales dotadas"},{"$f":"+'Plan Indicativo (Productos)'!I47","v":"Número"},{"$f":"+'Plan Indicativo (Productos)'!J47","v":0},{"$f":"+'Plan Indicativo (Productos)'!K47","v":1},null,0.1,0.1,46350000,46350000]
[{"$f":"+'Plan Indicativo (Productos)'!A48","v":44},{"$f":"+'Plan Indicativo (Productos)'!B48","v":"Sociocultural  y espiritual"},{"$f":"+'Plan Indicativo (Productos)'!C48","v":33},{"$f":"+'Plan Indicativo (Productos)'!D48","v":"33. Cultura "},{"$f":"+'Plan Indicativo (Productos)'!E48","v":3301},{"$f":"+'Plan Indicativo (Productos)'!F48","v":"Promoción y acceso efectivo a procesos culturales y artísticos"},{"$f":"+'Plan Indicativo (Productos)'!G48","v":330112700},{"$f":"+'Plan Indicativo (Productos)'!H48","v":"Infraestructuras culturales dotadas"},{"$f":"+'Plan Indicativo (Productos)'!I48","v":"Número"},{"$f":"+'Plan Indicativo (Productos)'!J48","v":0},{"$f":"+'Plan Indicativo (Productos)'!K48","v":1},null,0.1,0.1,46350000,46350000]
[{"$f":"+'Plan Indicativo (Productos)'!A49","v":45},{"$f":"+'Plan Indicativo (Productos)'!B49","v":"Sociocultural  y espiritual"},{"$f":"+'Plan Indicativo (Productos)'!C49","v":33},{"$f":"+'Plan Indicativo (Productos)'!D49","v":"33. Cultura "},{"$f":"+'Plan Indicativo (Productos)'!E49","v":3301},{"$f":"+'Plan Indicativo (Productos)'!F49","v":"Promoción y acceso efectivo a procesos culturales y artísticos"},{"$f":"+'Plan Indicativo (Productos)'!G49","v":330107000},{"$f":"+'Plan Indicativo (Productos)'!H49","v":"Documentos de lineamientos técnicos realizados"},{"$f":"+'Plan Indicativo (Productos)'!I49","v":"Número"},{"$f":"+'Plan Indicativo (Productos)'!J49","v":1},{"$f":"+'Plan Indicativo (Productos)'!K49","v":1},null,0.1,0.2,554951554,554951554]
[{"$f":"+'Plan Indicativo (Productos)'!A50","v":46},{"$f":"+'Plan Indicativo (Productos)'!B50","v":"Sociocultural  y espiritual"},{"$f":"+'Plan Indicativo (Productos)'!C50","v":33},{"$f":"+'Plan Indicativo (Productos)'!D50","v":"33. Cultura "},{"$f":"+'Plan Indicativo (Productos)'!E50","v":3301},{"$f":"+'Plan Indicativo (Productos)'!F50","v":"Promoción y acceso efectivo a procesos culturales y artísticos"},{"$f":"+'Plan Indicativo (Productos)'!G50","v":330105300},{"$f":"+'Plan Indicativo (Productos)'!H50","v":"Eventos de promoción de actividades culturales realizados"},{"$f":"+'Plan Indicativo (Productos)'!I50","v":"Número"},{"$f":"+'Plan Indicativo (Productos)'!J50","v":0},{"$f":"+'Plan Indicativo (Productos)'!K50","v":8},null,2,2,180162408,180162408]
[{"$f":"+'Plan Indicativo (Productos)'!A51","v":47},{"$f":"+'Plan Indicativo (Productos)'!B51","v":"Sociocultural  y espiritual"},{"$f":"+'Plan Indicativo (Productos)'!C51","v":33},{"$f":"+'Plan Indicativo (Productos)'!D51","v":"33. Cultura "},{"$f":"+'Plan Indicativo (Productos)'!E51","v":3301},{"$f":"+'Plan Indicativo (Productos)'!F51","v":"Promoción y acceso efectivo a procesos culturales y artísticos"},{"$f":"+'Plan Indicativo (Productos)'!G51","v":330105300},{"$f":"+'Plan Indicativo (Productos)'!H51","v":"Eventos de promoción de actividades culturales realizados"},{"$f":"+'Plan Indicativo (Productos)'!I51","v":"Número"},{"$f":"+'Plan Indicativo (Productos)'!J51","v":17},{"$f":"+'Plan Indicativo (Productos)'!K51","v":80},null,20,17,270243613,270243613]
[{"$f":"+'Plan Indicativo (Productos)'!A52","v":48},{"$f":"+'Plan Indicativo (Productos)'!B52","v":"Sociocultural  y espiritual"},{"$f":"+'Plan Indicativo (Productos)'!C52","v":33},{"$f":"+'Plan Indicativo (Productos)'!D52","v":"33. Cultura "},{"$f":"+'Plan Indicativo (Productos)'!E52","v":3301},{"$f":"+'Plan Indicativo (Productos)'!F52","v":"Promoción y acceso efectivo a procesos culturales y artísticos"},{"$f":"+'Plan Indicativo (Productos)'!G52","v":330105300},{"$f":"+'Plan Indicativo (Productos)'!H52","v":"Eventos de promoción de actividades culturales realizados"},{"$f":"+'Plan Indicativo (Productos)'!I52","v":"Número"},{"$f":"+'Plan Indicativo (Productos)'!J52","v":100},{"$f":"+'Plan Indicativo (Productos)'!K52","v":440},null,110,112,270243613,270243613]
[{"$f":"+'Plan Indicativo (Productos)'!A53","v":49},{"$f":"+'Plan Indicativo (Productos)'!B53","v":"Sociocultural  y espiritual"},{"$f":"+'Plan Indicativo (Productos)'!C53","v":33},{"$f":"+'Plan Indicativo (Productos)'!D53","v":"33. Cultura "},{"$f":"+'Plan Indicativo (Productos)'!E53","v":3301},{"$f":"+'Plan Indicativo (Productos)'!F53","v":"Promoción y acceso efectivo a procesos culturales y artísticos"},{"$f":"+'Plan Indicativo (Productos)'!G53","v":330108700},{"$f":"+'Plan Indicativo (Productos)'!H53","v":"Cursos realizados"},{"$f":"+'Plan Indicativo (Productos)'!I53","v":"Número"},{"$f":"+'Plan Indicativo (Productos)'!J53","v":0},{"$f":"+'Plan Indicativo (Productos)'!K53","v":15},null,2,2,360324817,360324817]
[{"$f":"+'Plan Indicativo (Productos)'!A54","v":50},{"$f":"+'Plan Indicativo (Productos)'!B54","v":"Sociocultural  y espiritual"},{"$f":"+'Plan Indicativo (Productos)'!C54","v":33},{"$f":"+'Plan Indicativo (Productos)'!D54","v":"33. Cultura "},{"$f":"+'Plan Indicativo (Productos)'!E54","v":3301},{"$f":"+'Plan Indicativo (Productos)'!F54","v":"Promoción y acceso efectivo a procesos culturales y artísticos"},{"$f":"+'Plan Indicativo (Productos)'!G54","v":330105500},{"$f":"+'Plan Indicativo (Productos)'!H54","v":"Personas beneficiadas con apoyos del Programa Nacional de Estímulos"},{"$f":"+'Plan Indicativo (Productos)'!I54","v":"Número"},{"$f":"+'Plan Indicativo (Productos)'!J54","v":0},{"$f":"+'Plan Indicativo (Productos)'!K54","v":4},null,1,1,270243613,270243613]
[{"$f":"+'Plan Indicativo (Productos)'!A55","v":51},{"$f":"+'Plan Indicativo (Productos)'!B55","v":"Sociocultural  y espiritual"},{"$f":"+'Plan Indicativo (Productos)'!C55","v":33},{"$f":"+'Plan Indicativo (Productos)'!D55","v":"33. Cultura "},{"$f":"+'Plan Indicativo (Productos)'!E55","v":3301},{"$f":"+'Plan Indicativo (Productos)'!F55","v":"Promoción y acceso efectivo a procesos culturales y artísticos"},{"$f":"+'Plan Indicativo (Productos)'!G55","v":"430103700"},{"$f":"+'Plan Indicativo (Productos)'!H55","v":"Personas que acceden a servicios deportivos, recreativos y de actividad física"},{"$f":"+'Plan Indicativo (Productos)'!I55","v":"Número"},{"$f":"+'Plan Indicativo (Productos)'!J55","v":8},{"$f":"+'Plan Indicativo (Productos)'!K55","v":38},null,5,7,90081204,90081204]
[{"$f":"+'Plan Indicativo (Productos)'!A56","v":52},{"$f":"+'Plan Indicativo (Productos)'!B56","v":"Sociocultural  y espiritual"},{"$f":"+'Plan Indicativo (Productos)'!C56","v":33},{"$f":"+'Plan Indicativo (Productos)'!D56","v":"33. Cultura "},{"$f":"+'Plan Indicativo (Productos)'!E56","v":"3301"},{"$f":"+'Plan Indicativo (Productos)'!F56","v":"Promoción y acceso efectivo a procesos culturales y artísticos"},{"$f":"+'Plan Indicativo (Productos)'!G56","v":"430103700"},{"$f":"+'Plan Indicativo (Productos)'!H56","v":"Personas que acceden a servicios deportivos, recreativos y de actividad física"},{"$f":"+'Plan Indicativo (Productos)'!I56","v":"Número"},{"$f":"+'Plan Indicativo (Productos)'!J56","v":8},{"$f":"+'Plan Indicativo (Productos)'!K56","v":36},null,6,6,180162409,180162409]
[{"$f":"+'Plan Indicativo (Productos)'!A57","v":53},{"$f":"+'Plan Indicativo (Productos)'!B57","v":"Sociocultural  y espiritual"},{"$f":"+'Plan Indicativo (Productos)'!C57","v":33},{"$f":"+'Plan Indicativo (Productos)'!D57","v":"33. Cultura "},{"$f":"+'Plan Indicativo (Productos)'!E57","v":"3301"},{"$f":"+'Plan Indicativo (Productos)'!F57","v":"Promoción y acceso efectivo a procesos culturales y artísticos"},{"$f":"+'Plan Indicativo (Productos)'!G57","v":"430100200"},{"$f":"+'Plan Indicativo (Productos)'!H57","v":"Personas beneficiadas"},{"$f":"+'Plan Indicativo (Productos)'!I57","v":"Número"},{"$f":"+'Plan Indicativo (Productos)'!J57","v":1500},{"$f":"+'Plan Indicativo (Productos)'!K57","v":6000},null,1500,2200,112797396,112797396]
[{"$f":"+'Plan Indicativo (Productos)'!A58","v":54},{"$f":"+'Plan Indicativo (Productos)'!B58","v":"Sociocultural  y espiritual"},{"$f":"+'Plan Indicativo (Productos)'!C58","v":33},{"$f":"+'Plan Indicativo (Productos)'!D58","v":"33. Cultura "},{"$f":"+'Plan Indicativo (Productos)'!E58","v":"3301"},{"$f":"+'Plan Indicativo (Productos)'!F58","v":"Promoción y acceso efectivo a procesos culturales y artísticos"},{"$f":"+'Plan Indicativo (Productos)'!G58","v":"430100700"},{"$f":"+'Plan Indicativo (Productos)'!H58","v":"Niños, niñas, adolescentes y jóvenes inscritos en Escuelas Deportivas"},{"$f":"+'Plan Indicativo (Productos)'!I58","v":"Número"},{"$f":"+'Plan Indicativo (Productos)'!J58","v":1750},{"$f":"+'Plan Indicativo (Productos)'!K58","v":13600},null,3400,2740,180162409,180162409]
[{"$f":"+'Plan Indicativo (Productos)'!A59","v":55},{"$f":"+'Plan Indicativo (Productos)'!B59","v":"Sociocultural  y espiritual"},{"$f":"+'Plan Indicativo (Productos)'!C59","v":45},{"$f":"+'Plan Indicativo (Productos)'!D59","v":"45. Gobierno Territorial"},{"$f":"+'Plan Indicativo (Productos)'!E59","v":"4502"},{"$f":"+'Plan Indicativo (Productos)'!F59","v":"Fortalecimiento del buen gobierno para el respeto y garantía de los derechos humanos"},{"$f":"+'Plan Indicativo (Productos)'!G59","v":"430200900"},{"$f":"+'Plan Indicativo (Productos)'!H59","v":"Documentos de lineamientos técnicos realizados"},{"$f":"+'Plan Indicativo (Productos)'!I59","v":"Número"},{"$f":"+'Plan Indicativo (Productos)'!J59","v":1},{"$f":"+'Plan Indicativo (Productos)'!K59","v":4},null,1,1,0,0]
[{"$f":"+'Plan Indicativo (Productos)'!A60","v":56},{"$f":"+'Plan Indicativo (Productos)'!B60","v":"Sociocultural  y espiritual"},{"$f":"+'Plan Indicativo (Productos)'!C60","v":45},{"$f":"+'Plan Indicativo (Productos)'!D60","v":"45. Gobierno Territorial"},{"$f":"+'Plan Indicativo (Productos)'!E60","v":"4502"},{"$f":"+'Plan Indicativo (Productos)'!F60","v":"Fortalecimiento del buen gobierno para el respeto y garantía de los derechos humanos"},{"$f":"+'Plan Indicativo (Productos)'!G60","v":"430207500"},{"$f":"+'Plan Indicativo (Productos)'!H60","v":"Organismos deportivos asistidos "},{"$f":"+'Plan Indicativo (Productos)'!I60","v":"Número"},{"$f":"+'Plan Indicativo (Productos)'!J60","v":1},{"$f":"+'Plan Indicativo (Productos)'!K60","v":24},null,6,6,0,0]
[{"$f":"+'Plan Indicativo (Productos)'!A61","v":57},{"$f":"+'Plan Indicativo (Productos)'!B61","v":"Sociocultural  y espiritual"},{"$f":"+'Plan Indicativo (Productos)'!C61","v":45},{"$f":"+'Plan Indicativo (Productos)'!D61","v":"45. Gobierno Territorial"},{"$f":"+'Plan Indicativo (Productos)'!E61","v":"4502"},{"$f":"+'Plan Indicativo (Productos)'!F61","v":"Fortalecimiento del buen gobierno para el respeto y garantía de los derechos humanos"},{"$f":"+'Plan Indicativo (Productos)'!G61","v":"459901900"},{"$f":"+'Plan Indicativo (Productos)'!H61","v":"Documentos de planeación realizados"},{"$f":"+'Plan Indicativo (Productos)'!I61","v":"Número"},{"$f":"+'Plan Indicativo (Productos)'!J61","v":0},{"$f":"+'Plan Indicativo (Productos)'!K61","v":4},null,1,1,0,0]
[{"$f":"+'Plan Indicativo (Productos)'!A62","v":58},{"$f":"+'Plan Indicativo (Productos)'!B62","v":"Sociocultural  y espiritual"},{"$f":"+'Plan Indicativo (Productos)'!C62","v":45},{"$f":"+'Plan Indicativo (Productos)'!D62","v":"45. Gobierno Territorial"},{"$f":"+'Plan Indicativo (Productos)'!E62","v":"4502"},{"$f":"+'Plan Indicativo (Productos)'!F62","v":"Fortalecimiento del buen gobierno para el respeto y garantía de los derechos humanos"},{"$f":"+'Plan Indicativo (Productos)'!G62","v":"430100400"},{"$f":"+'Plan Indicativo (Productos)'!H62","v":"Infraestructura deportiva mantenida"},{"$f":"+'Plan Indicativo (Productos)'!I62","v":"Número"},{"$f":"+'Plan Indicativo (Productos)'!J62","v":2},{"$f":"+'Plan Indicativo (Productos)'!K62","v":8},null,2,2,0,0]
[{"$f":"+'Plan Indicativo (Productos)'!A63","v":59},{"$f":"+'Plan Indicativo (Productos)'!B63","v":"Sociocultural  y espiritual"},{"$f":"+'Plan Indicativo (Productos)'!C63","v":45},{"$f":"+'Plan Indicativo (Productos)'!D63","v":"45. Gobierno Territorial"},{"$f":"+'Plan Indicativo (Productos)'!E63","v":"4502"},{"$f":"+'Plan Indicativo (Productos)'!F63","v":"Fortalecimiento del buen gobierno para el respeto y garantía de los derechos humanos"},{"$f":"+'Plan Indicativo (Productos)'!G63","v":"430206400"},{"$f":"+'Plan Indicativo (Productos)'!H63","v":"Polideportivos construidos"},{"$f":"+'Plan Indicativo (Productos)'!I63","v":"Número"},{"$f":"+'Plan Indicativo (Productos)'!J63","v":0},{"$f":"+'Plan Indicativo (Productos)'!K63","v":4},null,1,1,0,0]
[{"$f":"+'Plan Indicativo (Productos)'!A64","v":60},{"$f":"+'Plan Indicativo (Productos)'!B64","v":"Sociocultural  y espiritual"},{"$f":"+'Plan Indicativo (Productos)'!C64","v":19},{"$f":"+'Plan Indicativo (Productos)'!D64","v":"19. Salud y Protección Social"},{"$f":"+'Plan Indicativo (Productos)'!E64","v":"1905"},{"$f":"+'Plan Indicativo (Productos)'!F64","v":"Salud Pública"},{"$f":"+'Plan Indicativo (Productos)'!G64","v":"430206700"},{"$f":"+'Plan Indicativo (Productos)'!H64","v":"Polideportivos adecuados"},{"$f":"+'Plan Indicativo (Productos)'!I64","v":"Número"},{"$f":"+'Plan Indicativo (Productos)'!J64","v":0},{"$f":"+'Plan Indicativo (Productos)'!K64","v":4},null,1,1,77566677,77566677]
[{"$f":"+'Plan Indicativo (Productos)'!A65","v":61},{"$f":"+'Plan Indicativo (Productos)'!B65","v":"Sociocultural  y espiritual"},{"$f":"+'Plan Indicativo (Productos)'!C65","v":43},{"$f":"+'Plan Indicativo (Productos)'!D65","v":"43. Deporte y Recreación"},{"$f":"+'Plan Indicativo (Productos)'!E65","v":"4301"},{"$f":"+'Plan Indicativo (Productos)'!F65","v":"Fomento a la recreación, la actividad física y el deporte"},{"$f":"+'Plan Indicativo (Productos)'!G65","v":"400104400"},{"$f":"+'Plan Indicativo (Productos)'!H65","v":"Vivienda de Interés Social mejoradas"},{"$f":"+'Plan Indicativo (Productos)'!I65","v":"Número"},{"$f":"+'Plan Indicativo (Productos)'!J65","v":0},{"$f":"+'Plan Indicativo (Productos)'!K65","v":20000},null,4000,5494,109094069,109094069]
[{"$f":"+'Plan Indicativo (Productos)'!A66","v":62},{"$f":"+'Plan Indicativo (Productos)'!B66","v":"Sociocultural  y espiritual"},{"$f":"+'Plan Indicativo (Productos)'!C66","v":43},{"$f":"+'Plan Indicativo (Productos)'!D66","v":"43. Deporte y Recreación"},{"$f":"+'Plan Indicativo (Productos)'!E66","v":"4301"},{"$f":"+'Plan Indicativo (Productos)'!F66","v":"Fomento a la recreación, la actividad física y el deporte"},{"$f":"+'Plan Indicativo (Productos)'!G66","v":"400104200"},{"$f":"+'Plan Indicativo (Productos)'!H66","v":"Vivienda de Interés Social construidas"},{"$f":"+'Plan Indicativo (Productos)'!I66","v":"Número"},{"$f":"+'Plan Indicativo (Productos)'!J66","v":0},{"$f":"+'Plan Indicativo (Productos)'!K66","v":20000},null,4000,5494,72729379,72729379]
[{"$f":"+'Plan Indicativo (Productos)'!A67","v":63},{"$f":"+'Plan Indicativo (Productos)'!B67","v":"Sociocultural  y espiritual"},{"$f":"+'Plan Indicativo (Productos)'!C67","v":43},{"$f":"+'Plan Indicativo (Productos)'!D67","v":"43. Deporte y Recreación"},{"$f":"+'Plan Indicativo (Productos)'!E67","v":"4301"},{"$f":"+'Plan Indicativo (Productos)'!F67","v":"Fomento a la recreación, la actividad física y el deporte"},{"$f":"+'Plan Indicativo (Productos)'!G67","v":"400100200"},{"$f":"+'Plan Indicativo (Productos)'!H67","v":"Entidades territoriales asistidas técnicamente"},{"$f":"+'Plan Indicativo (Productos)'!I67","v":"Número"},{"$f":"+'Plan Indicativo (Productos)'!J67","v":0},{"$f":"+'Plan Indicativo (Productos)'!K67","v":5000},null,1000,1000,109094069,109094069]
[{"$f":"+'Plan Indicativo (Productos)'!A68","v":64},{"$f":"+'Plan Indicativo (Productos)'!B68","v":"Sociocultural  y espiritual"},{"$f":"+'Plan Indicativo (Productos)'!C68","v":43},{"$f":"+'Plan Indicativo (Productos)'!D68","v":"43. Deporte y Recreación"},{"$f":"+'Plan Indicativo (Productos)'!E68","v":"4301"},{"$f":"+'Plan Indicativo (Productos)'!F68","v":"Fomento a la recreación, la actividad física y el deporte"},{"$f":"+'Plan Indicativo (Productos)'!G68","v":"400100200"},{"$f":"+'Plan Indicativo (Productos)'!H68","v":"Entidades territoriales asistidas técnicamente"},{"$f":"+'Plan Indicativo (Productos)'!I68","v":"Número"},{"$f":"+'Plan Indicativo (Productos)'!J68","v":0},{"$f":"+'Plan Indicativo (Productos)'!K68","v":10000},null,1800,1562,72729379,72729379]
[{"$f":"+'Plan Indicativo (Productos)'!A69","v":65},{"$f":"+'Plan Indicativo (Productos)'!B69","v":"Sociocultural  y espiritual"},{"$f":"+'Plan Indicativo (Productos)'!C69","v":43},{"$f":"+'Plan Indicativo (Productos)'!D69","v":"43. Deporte y Recreación"},{"$f":"+'Plan Indicativo (Productos)'!E69","v":"4301"},{"$f":"+'Plan Indicativo (Productos)'!F69","v":"Fomento a la recreación, la actividad física y el deporte"},{"$f":"+'Plan Indicativo (Productos)'!G69","v":"400100100"},{"$f":"+'Plan Indicativo (Productos)'!H69","v":"Entidades territoriales asistidas técnica y jurídicamente"},{"$f":"+'Plan Indicativo (Productos)'!I69","v":"Número"},{"$f":"+'Plan Indicativo (Productos)'!J69","v":0},{"$f":"+'Plan Indicativo (Productos)'!K69","v":900},null,150,272,181823448,181823448]
[{"$f":"+'Plan Indicativo (Productos)'!A70","v":66},{"$f":"+'Plan Indicativo (Productos)'!B70","v":"Sociocultural  y espiritual"},{"$f":"+'Plan Indicativo (Productos)'!C70","v":43},{"$f":"+'Plan Indicativo (Productos)'!D70","v":"43. Deporte y Recreación"},{"$f":"+'Plan Indicativo (Productos)'!E70","v":"4301"},{"$f":"+'Plan Indicativo (Productos)'!F70","v":"Fomento a la recreación, la actividad física y el deporte"},{"$f":"+'Plan Indicativo (Productos)'!G70","v":"400103000"},{"$f":"+'Plan Indicativo (Productos)'!H70","v":"Estudios o diseños realizados "},{"$f":"+'Plan Indicativo (Productos)'!I70","v":"Número"},{"$f":"+'Plan Indicativo (Productos)'!J70","v":0},{"$f":"+'Plan Indicativo (Productos)'!K70","v":4800},null,600,849,181823448,181823448]
[{"$f":"+'Plan Indicativo (Productos)'!A71","v":67},{"$f":"+'Plan Indicativo (Productos)'!B71","v":"Sociocultural  y espiritual"},{"$f":"+'Plan Indicativo (Productos)'!C71","v":43},{"$f":"+'Plan Indicativo (Productos)'!D71","v":"43. Deporte y Recreación"},{"$f":"+'Plan Indicativo (Productos)'!E71","v":"4302"},{"$f":"+'Plan Indicativo (Productos)'!F71","v":"Formación y preparación de deportistas"},{"$f":"+'Plan Indicativo (Productos)'!G71","v":"450200100"},{"$f":"+'Plan Indicativo (Productos)'!H71","v":"Espacios de participación promovidos"},{"$f":"+'Plan Indicativo (Productos)'!I71","v":"Número"},{"$f":"+'Plan Indicativo (Productos)'!J71","v":0},{"$f":"+'Plan Indicativo (Productos)'!K71","v":1},null,0.4,0.4,131120439,131120439]
[{"$f":"+'Plan Indicativo (Productos)'!A72","v":68},{"$f":"+'Plan Indicativo (Productos)'!B72","v":"Sociocultural  y espiritual"},{"$f":"+'Plan Indicativo (Productos)'!C72","v":43},{"$f":"+'Plan Indicativo (Productos)'!D72","v":"43. Deporte y Recreación"},{"$f":"+'Plan Indicativo (Productos)'!E72","v":"4302"},{"$f":"+'Plan Indicativo (Productos)'!F72","v":"Formación y preparación de deportistas"},{"$f":"+'Plan Indicativo (Productos)'!G72","v":"400203400"},{"$f":"+'Plan Indicativo (Productos)'!H72","v":"Estudios o diseños realizados "},{"$f":"+'Plan Indicativo (Productos)'!I72","v":"Número"},{"$f":"+'Plan Indicativo (Productos)'!J72","v":0},{"$f":"+'Plan Indicativo (Productos)'!K72","v":32},null,8,8,305947690,305947690]
[{"$f":"+'Plan Indicativo (Productos)'!A73","v":69},{"$f":"+'Plan Indicativo (Productos)'!B73","v":"Sociocultural  y espiritual"},{"$f":"+'Plan Indicativo (Productos)'!C73","v":45},{"$f":"+'Plan Indicativo (Productos)'!D73","v":"45. Gobierno Territorial"},{"$f":"+'Plan Indicativo (Productos)'!E73","v":"4599"},{"$f":"+'Plan Indicativo (Productos)'!F73","v":"Fortalecimiento a la gestión y dirección de la administración pública territorial"},{"$f":"+'Plan Indicativo (Productos)'!G73","v":"400305200"},{"$f":"+'Plan Indicativo (Productos)'!H73","v":"Asistencias técnicas realizadas"},{"$f":"+'Plan Indicativo (Productos)'!I73","v":"Número"},{"$f":"+'Plan Indicativo (Productos)'!J73","v":0},{"$f":"+'Plan Indicativo (Productos)'!K73","v":1},null,0,0,0,0]
[{"$f":"+'Plan Indicativo (Productos)'!A74","v":70},{"$f":"+'Plan Indicativo (Productos)'!B74","v":"Sociocultural  y espiritual"},{"$f":"+'Plan Indicativo (Productos)'!C74","v":43},{"$f":"+'Plan Indicativo (Productos)'!D74","v":"43. Deporte y Recreación"},{"$f":"+'Plan Indicativo (Productos)'!E74","v":"4301"},{"$f":"+'Plan Indicativo (Productos)'!F74","v":"Fomento a la recreación, la actividad física y el deporte"},{"$f":"+'Plan Indicativo (Productos)'!G74","v":"400301700"},{"$f":"+'Plan Indicativo (Productos)'!H74","v":"Acueductos optimizados"},{"$f":"+'Plan Indicativo (Productos)'!I74","v":"Número"},{"$f":"+'Plan Indicativo (Productos)'!J74","v":0},{"$f":"+'Plan Indicativo (Productos)'!K74","v":15},null,3,3,87705754,87705754]
[{"$f":"+'Plan Indicativo (Productos)'!A75","v":71},{"$f":"+'Plan Indicativo (Productos)'!B75","v":"Sociocultural  y espiritual"},{"$f":"+'Plan Indicativo (Productos)'!C75","v":43},{"$f":"+'Plan Indicativo (Productos)'!D75","v":"43. Deporte y Recreación"},{"$f":"+'Plan Indicativo (Productos)'!E75","v":4302},{"$f":"+'Plan Indicativo (Productos)'!F75","v":"Formación y preparación de deportistas"},{"$f":"+'Plan Indicativo (Productos)'!G75","v":"430206400"},{"$f":"+'Plan Indicativo (Productos)'!H75","v":"Polideportivos construidos"},{"$f":"+'Plan Indicativo (Productos)'!I75","v":"Número"},{"$f":"+'Plan Indicativo (Productos)'!J75","v":0},{"$f":"+'Plan Indicativo (Productos)'!K75","v":4},null,1,1,204646758,204646758]
[{"$f":"+'Plan Indicativo (Productos)'!A76","v":72},{"$f":"+'Plan Indicativo (Productos)'!B76","v":"Sociocultural  y espiritual"},{"$f":"+'Plan Indicativo (Productos)'!C76","v":43},{"$f":"+'Plan Indicativo (Productos)'!D76","v":"43. Deporte y Recreación"},{"$f":"+'Plan Indicativo (Productos)'!E76","v":"4302"},{"$f":"+'Plan Indicativo (Productos)'!F76","v":"Formación y preparación de deportistas"},{"$f":"+'Plan Indicativo (Productos)'!G76","v":"430206700"},{"$f":"+'Plan Indicativo (Productos)'!H76","v":"Polideportivos adecuados"},{"$f":"+'Plan Indicativo (Productos)'!I76","v":"Número"},{"$f":"+'Plan Indicativo (Productos)'!J76","v":0},{"$f":"+'Plan Indicativo (Productos)'!K76","v":4},null,1,1,32483612,32483612]
[{"$f":"+'Plan Indicativo (Productos)'!A77","v":73},{"$f":"+'Plan Indicativo (Productos)'!B77","v":"Sociocultural  y espiritual"},{"$f":"+'Plan Indicativo (Productos)'!C77","v":40},{"$f":"+'Plan Indicativo (Productos)'!D77","v":"40. Vivienda, Ciudad y Territorio"},{"$f":"+'Plan Indicativo (Productos)'!E77","v":4001},{"$f":"+'Plan Indicativo (Productos)'!F77","v":"Acceso a soluciones de vivienda"},{"$f":"+'Plan Indicativo (Productos)'!G77","v":"400104400"},{"$f":"+'Plan Indicativo (Productos)'!H77","v":"Vivienda de Interés Social mejoradas"},{"$f":"+'Plan Indicativo (Productos)'!I77","v":"Número"},{"$f":"+'Plan Indicativo (Productos)'!J77","v":96},{"$f":"+'Plan Indicativo (Productos)'!K77","v":120},null,0,0,12279000,12279000]
[{"$f":"+'Plan Indicativo (Productos)'!A78","v":74},{"$f":"+'Plan Indicativo (Productos)'!B78","v":"Sociocultural  y espiritual"},{"$f":"+'Plan Indicativo (Productos)'!C78","v":40},{"$f":"+'Plan Indicativo (Productos)'!D78","v":"40. Vivienda, Ciudad y Territorio"},{"$f":"+'Plan Indicativo (Productos)'!E78","v":"4001"},{"$f":"+'Plan Indicativo (Productos)'!F78","v":"Acceso a soluciones de vivienda"},{"$f":"+'Plan Indicativo (Productos)'!G78","v":"400104200"},{"$f":"+'Plan Indicativo (Productos)'!H78","v":"Vivienda de Interés Social construidas"},{"$f":"+'Plan Indicativo (Productos)'!I78","v":"Número"},{"$f":"+'Plan Indicativo (Productos)'!J78","v":0},{"$f":"+'Plan Indicativo (Productos)'!K78","v":40},null,0,0,28651000,28651000]
[{"$f":"+'Plan Indicativo (Productos)'!A79","v":75},{"$f":"+'Plan Indicativo (Productos)'!B79","v":"Sociocultural  y espiritual"},{"$f":"+'Plan Indicativo (Productos)'!C79","v":40},{"$f":"+'Plan Indicativo (Productos)'!D79","v":"40. Vivienda, Ciudad y Territorio"},{"$f":"+'Plan Indicativo (Productos)'!E79","v":"4001"},{"$f":"+'Plan Indicativo (Productos)'!F79","v":"Acceso a soluciones de vivienda"},{"$f":"+'Plan Indicativo (Productos)'!G79","v":"400100200"},{"$f":"+'Plan Indicativo (Productos)'!H79","v":"Entidades territoriales asistidas técnicamente"},{"$f":"+'Plan Indicativo (Productos)'!I79","v":"Número"},{"$f":"+'Plan Indicativo (Productos)'!J79","v":0},{"$f":"+'Plan Indicativo (Productos)'!K79","v":4},null,0,0,0,0]
[{"$f":"+'Plan Indicativo (Productos)'!A80","v":76},{"$f":"+'Plan Indicativo (Productos)'!B80","v":"Sociocultural  y espiritual"},{"$f":"+'Plan Indicativo (Productos)'!C80","v":40},{"$f":"+'Plan Indicativo (Productos)'!D80","v":"40. Vivienda, Ciudad y Territorio"},{"$f":"+'Plan Indicativo (Productos)'!E80","v":"4001"},{"$f":"+'Plan Indicativo (Productos)'!F80","v":"Acceso a soluciones de vivienda"},{"$f":"+'Plan Indicativo (Productos)'!G80","v":"400100200"},{"$f":"+'Plan Indicativo (Productos)'!H80","v":"Entidades territoriales asistidas técnicamente"},{"$f":"+'Plan Indicativo (Productos)'!I80","v":"Número"},{"$f":"+'Plan Indicativo (Productos)'!J80","v":0},{"$f":"+'Plan Indicativo (Productos)'!K80","v":2},null,0,0,0,0]
[{"$f":"+'Plan Indicativo (Productos)'!A81","v":77},{"$f":"+'Plan Indicativo (Productos)'!B81","v":"Sociocultural  y espiritual"},{"$f":"+'Plan Indicativo (Productos)'!C81","v":40},{"$f":"+'Plan Indicativo (Productos)'!D81","v":"40. Vivienda, Ciudad y Territorio"},{"$f":"+'Plan Indicativo (Productos)'!E81","v":"4001"},{"$f":"+'Plan Indicativo (Productos)'!F81","v":"Acceso a soluciones de vivienda"},{"$f":"+'Plan Indicativo (Productos)'!G81","v":"400100100"},{"$f":"+'Plan Indicativo (Productos)'!H81","v":"Entidades territoriales asistidas técnica y jurídicamente"},{"$f":"+'Plan Indicativo (Productos)'!I81","v":"Número"},{"$f":"+'Plan Indicativo (Productos)'!J81","v":15},{"$f":"+'Plan Indicativo (Productos)'!K81","v":80},null,0,0,0,0]
[{"$f":"+'Plan Indicativo (Productos)'!A82","v":78},{"$f":"+'Plan Indicativo (Productos)'!B82","v":"Sociocultural  y espiritual"},{"$f":"+'Plan Indicativo (Productos)'!C82","v":40},{"$f":"+'Plan Indicativo (Productos)'!D82","v":"40. Vivienda, Ciudad y Territorio"},{"$f":"+'Plan Indicativo (Productos)'!E82","v":"4001"},{"$f":"+'Plan Indicativo (Productos)'!F82","v":"Acceso a soluciones de vivienda"},{"$f":"+'Plan Indicativo (Productos)'!G82","v":"400103000"},{"$f":"+'Plan Indicativo (Productos)'!H82","v":"Estudios o diseños realizados "},{"$f":"+'Plan Indicativo (Productos)'!I82","v":"Número"},{"$f":"+'Plan Indicativo (Productos)'!J82","v":0},{"$f":"+'Plan Indicativo (Productos)'!K82","v":2},null,0,0,0,0]
[{"$f":"+'Plan Indicativo (Productos)'!A83","v":79},{"$f":"+'Plan Indicativo (Productos)'!B83","v":"Sociocultural  y espiritual"},{"$f":"+'Plan Indicativo (Productos)'!C83","v":40},{"$f":"+'Plan Indicativo (Productos)'!D83","v":"40. Vivienda, Ciudad y Territorio"},{"$f":"+'Plan Indicativo (Productos)'!E83","v":"4502"},{"$f":"+'Plan Indicativo (Productos)'!F83","v":"Fortalecimiento del buen gobierno para el respeto y garantía de los derechos humanos"},{"$f":"+'Plan Indicativo (Productos)'!G83","v":"450200100"},{"$f":"+'Plan Indicativo (Productos)'!H83","v":"Espacios de participación promovidos"},{"$f":"+'Plan Indicativo (Productos)'!I83","v":"Número"},{"$f":"+'Plan Indicativo (Productos)'!J83","v":0},{"$f":"+'Plan Indicativo (Productos)'!K83","v":4},null,1,1,0,0]
[{"$f":"+'Plan Indicativo (Productos)'!A84","v":80},{"$f":"+'Plan Indicativo (Productos)'!B84","v":"Sociocultural  y espiritual"},{"$f":"+'Plan Indicativo (Productos)'!C84","v":40},{"$f":"+'Plan Indicativo (Productos)'!D84","v":"40. Vivienda, Ciudad y Territorio"},{"$f":"+'Plan Indicativo (Productos)'!E84","v":"4002"},{"$f":"+'Plan Indicativo (Productos)'!F84","v":"Ordenamiento territorial y desarrollo urbano"},{"$f":"+'Plan Indicativo (Productos)'!G84","v":"400203400"},{"$f":"+'Plan Indicativo (Productos)'!H84","v":"Estudios o diseños realizados "},{"$f":"+'Plan Indicativo (Productos)'!I84","v":"Número"},{"$f":"+'Plan Indicativo (Productos)'!J84","v":0},{"$f":"+'Plan Indicativo (Productos)'!K84","v":1},null,0.1,0.1,261301734,261301734]
[{"$f":"+'Plan Indicativo (Productos)'!A85","v":81},{"$f":"+'Plan Indicativo (Productos)'!B85","v":"Sociocultural  y espiritual"},{"$f":"+'Plan Indicativo (Productos)'!C85","v":40},{"$f":"+'Plan Indicativo (Productos)'!D85","v":"40. Vivienda, Ciudad y Territorio"},{"$f":"+'Plan Indicativo (Productos)'!E85","v":"4003"},{"$f":"+'Plan Indicativo (Productos)'!F85","v":"Acceso de la población a los servicios de agua potable y saneamiento básico"},{"$f":"+'Plan Indicativo (Productos)'!G85","v":"400305200"},{"$f":"+'Plan Indicativo (Productos)'!H85","v":"Asistencias técnicas realizadas"},{"$f":"+'Plan Indicativo (Productos)'!I85","v":"Número"},{"$f":"+'Plan Indicativo (Productos)'!J85","v":0},{"$f":"+'Plan Indicativo (Productos)'!K85","v":8},null,0,0,0,0]
[{"$f":"+'Plan Indicativo (Productos)'!A86","v":82},{"$f":"+'Plan Indicativo (Productos)'!B86","v":"Sociocultural  y espiritual"},{"$f":"+'Plan Indicativo (Productos)'!C86","v":40},{"$f":"+'Plan Indicativo (Productos)'!D86","v":"40. Vivienda, Ciudad y Territorio"},{"$f":"+'Plan Indicativo (Productos)'!E86","v":"4003"},{"$f":"+'Plan Indicativo (Productos)'!F86","v":"Acceso de la población a los servicios de agua potable y saneamiento básico"},{"$f":"+'Plan Indicativo (Productos)'!G86","v":"400301700"},{"$f":"+'Plan Indicativo (Productos)'!H86","v":"Acueductos optimizados"},{"$f":"+'Plan Indicativo (Productos)'!I86","v":"Número"},{"$f":"+'Plan Indicativo (Productos)'!J86","v":2},{"$f":"+'Plan Indicativo (Productos)'!K86","v":8},null,1,0,424623946,424623946]
[{"$f":"+'Plan Indicativo (Productos)'!A87","v":83},{"$f":"+'Plan Indicativo (Productos)'!B87","v":"Sociocultural  y espiritual"},{"$f":"+'Plan Indicativo (Productos)'!C87","v":40},{"$f":"+'Plan Indicativo (Productos)'!D87","v":"40. Vivienda, Ciudad y Territorio"},{"$f":"+'Plan Indicativo (Productos)'!E87","v":"4003"},{"$f":"+'Plan Indicativo (Productos)'!F87","v":"Acceso de la población a los servicios de agua potable y saneamiento básico"},{"$f":"+'Plan Indicativo (Productos)'!G87","v":"400301500"},{"$f":"+'Plan Indicativo (Productos)'!H87","v":"Acueductos construidos"},{"$f":"+'Plan Indicativo (Productos)'!I87","v":"Número"},{"$f":"+'Plan Indicativo (Productos)'!J87","v":0},{"$f":"+'Plan Indicativo (Productos)'!K87","v":1},null,0.1,0.1,743091906,743091906]
[{"$f":"+'Plan Indicativo (Productos)'!A88","v":84},{"$f":"+'Plan Indicativo (Productos)'!B88","v":"Sociocultural  y espiritual"},{"$f":"+'Plan Indicativo (Productos)'!C88","v":40},{"$f":"+'Plan Indicativo (Productos)'!D88","v":"40. Vivienda, Ciudad y Territorio"},{"$f":"+'Plan Indicativo (Productos)'!E88","v":"4003"},{"$f":"+'Plan Indicativo (Productos)'!F88","v":"Acceso de la población a los servicios de agua potable y saneamiento básico"},{"$f":"+'Plan Indicativo (Productos)'!G88","v":"400305200"},{"$f":"+'Plan Indicativo (Productos)'!H88","v":"Asistencias técnicas realizadas"},{"$f":"+'Plan Indicativo (Productos)'!I88","v":"Número"},{"$f":"+'Plan Indicativo (Productos)'!J88","v":0},{"$f":"+'Plan Indicativo (Productos)'!K88","v":22},null,1,1,424623946,424623946]
[{"$f":"+'Plan Indicativo (Productos)'!A89","v":85},{"$f":"+'Plan Indicativo (Productos)'!B89","v":"Sociocultural  y espiritual"},{"$f":"+'Plan Indicativo (Productos)'!C89","v":40},{"$f":"+'Plan Indicativo (Productos)'!D89","v":"40. Vivienda, Ciudad y Territorio"},{"$f":"+'Plan Indicativo (Productos)'!E89","v":"4003"},{"$f":"+'Plan Indicativo (Productos)'!F89","v":"Acceso de la población a los servicios de agua potable y saneamiento básico"},{"$f":"+'Plan Indicativo (Productos)'!G89","v":400306300},{"$f":"+'Plan Indicativo (Productos)'!H89","v":"Esquema de medios alternos  de provisión de agua para consumo humano implementados"},{"$f":"+'Plan Indicativo (Productos)'!I89","v":"Número"},{"$f":"+'Plan Indicativo (Productos)'!J89","v":0},{"$f":"+'Plan Indicativo (Productos)'!K89","v":2},null,0,0,106155987,106155987]
[{"$f":"+'Plan Indicativo (Productos)'!A90","v":86},{"$f":"+'Plan Indicativo (Productos)'!B90","v":"Sociocultural  y espiritual"},{"$f":"+'Plan Indicativo (Productos)'!C90","v":40},{"$f":"+'Plan Indicativo (Productos)'!D90","v":"40. Vivienda, Ciudad y Territorio"},{"$f":"+'Plan Indicativo (Productos)'!E90","v":"4003"},{"$f":"+'Plan Indicativo (Productos)'!F90","v":"Acceso de la población a los servicios de agua potable y saneamiento básico"},{"$f":"+'Plan Indicativo (Productos)'!G90","v":"400300600"},{"$f":"+'Plan Indicativo (Productos)'!H90","v":"Documentos de planeación elaborados"},{"$f":"+'Plan Indicativo (Productos)'!I90","v":"Número"},{"$f":"+'Plan Indicativo (Productos)'!J90","v":0},{"$f":"+'Plan Indicativo (Productos)'!K90","v":1},null,0.1,0.1,212311973,212311973]
[{"$f":"+'Plan Indicativo (Productos)'!A91","v":87},{"$f":"+'Plan Indicativo (Productos)'!B91","v":"Sociocultural  y espiritual"},{"$f":"+'Plan Indicativo (Productos)'!C91","v":40},{"$f":"+'Plan Indicativo (Productos)'!D91","v":"40. Vivienda, Ciudad y Territorio"},{"$f":"+'Plan Indicativo (Productos)'!E91","v":"4003"},{"$f":"+'Plan Indicativo (Productos)'!F91","v":"Acceso de la población a los servicios de agua potable y saneamiento básico"},{"$f":"+'Plan Indicativo (Productos)'!G91","v":"400301400"},{"$f":"+'Plan Indicativo (Productos)'!H91","v":"Usuarios conectados a la red de servicio de alcantarillado"},{"$f":"+'Plan Indicativo (Productos)'!I91","v":"Número"},{"$f":"+'Plan Indicativo (Productos)'!J91","v":0},{"$f":"+'Plan Indicativo (Productos)'!K91","v":40},null,5,5,212311973,212311973]
[{"$f":"+'Plan Indicativo (Productos)'!A92","v":88},{"$f":"+'Plan Indicativo (Productos)'!B92","v":"Sociocultural  y espiritual"},{"$f":"+'Plan Indicativo (Productos)'!C92","v":40},{"$f":"+'Plan Indicativo (Productos)'!D92","v":"40. Vivienda, Ciudad y Territorio"},{"$f":"+'Plan Indicativo (Productos)'!E92","v":"4003"},{"$f":"+'Plan Indicativo (Productos)'!F92","v":"Acceso de la población a los servicios de agua potable y saneamiento básico"},{"$f":"+'Plan Indicativo (Productos)'!G92","v":"400302200"},{"$f":"+'Plan Indicativo (Productos)'!H92","v":"Plan de Gestión Integral de Residuos Solidos implementado"},{"$f":"+'Plan Indicativo (Productos)'!I92","v":"Número"},{"$f":"+'Plan Indicativo (Productos)'!J92","v":0},{"$f":"+'Plan Indicativo (Productos)'!K92","v":1},null,0.1,0.1,458572535,458572535]
[{"$f":"+'Plan Indicativo (Productos)'!A93","v":89},{"$f":"+'Plan Indicativo (Productos)'!B93","v":"Sociocultural  y espiritual"},{"$f":"+'Plan Indicativo (Productos)'!C93","v":40},{"$f":"+'Plan Indicativo (Productos)'!D93","v":"40. Vivienda, Ciudad y Territorio"},{"$f":"+'Plan Indicativo (Productos)'!E93","v":"4003"},{"$f":"+'Plan Indicativo (Productos)'!F93","v":"Acceso de la población a los servicios de agua potable y saneamiento básico"},{"$f":"+'Plan Indicativo (Productos)'!G93","v":"400301200"},{"$f":"+'Plan Indicativo (Productos)'!H93","v":"Soluciones de disposición final de residuos solidos construidas"},{"$f":"+'Plan Indicativo (Productos)'!I93","v":"Número"},{"$f":"+'Plan Indicativo (Productos)'!J93","v":0},{"$f":"+'Plan Indicativo (Productos)'!K93","v":1},null,0.1,0.1,196531087,196531087]
[{"$f":"+'Plan Indicativo (Productos)'!A94","v":90},{"$f":"+'Plan Indicativo (Productos)'!B94","v":"Sociocultural  y espiritual"},{"$f":"+'Plan Indicativo (Productos)'!C94","v":21},{"$f":"+'Plan Indicativo (Productos)'!D94","v":"21. Minas y Energía"},{"$f":"+'Plan Indicativo (Productos)'!E94","v":"2102"},{"$f":"+'Plan Indicativo (Productos)'!F94","v":"Consolidación productiva del sector de energía eléctrica"},{"$f":"+'Plan Indicativo (Productos)'!G94","v":"210201000"},{"$f":"+'Plan Indicativo (Productos)'!H94","v":"Redes de alumbrado público ampliadas"},{"$f":"+'Plan Indicativo (Productos)'!I94","v":"Metros "},{"$f":"+'Plan Indicativo (Productos)'!J94","v":0},{"$f":"+'Plan Indicativo (Productos)'!K94","v":4000},null,2200,2200,395857200,395857200]
[{"$f":"+'Plan Indicativo (Productos)'!A95","v":91},{"$f":"+'Plan Indicativo (Productos)'!B95","v":"Sociocultural  y espiritual"},{"$f":"+'Plan Indicativo (Productos)'!C95","v":21},{"$f":"+'Plan Indicativo (Productos)'!D95","v":"21. Minas y Energía"},{"$f":"+'Plan Indicativo (Productos)'!E95","v":"2102"},{"$f":"+'Plan Indicativo (Productos)'!F95","v":"Consolidación productiva del sector de energía eléctrica"},{"$f":"+'Plan Indicativo (Productos)'!G95","v":"210206900"},{"$f":"+'Plan Indicativo (Productos)'!H95","v":"Lámparas de alumbrado público en funcionamiento"},{"$f":"+'Plan Indicativo (Productos)'!I95","v":"Número"},{"$f":"+'Plan Indicativo (Productos)'!J95","v":4458},{"$f":"+'Plan Indicativo (Productos)'!K95","v":4610},null,461,461,2243190800,2243190800]
[{"$f":"+'Plan Indicativo (Productos)'!A96","v":92},{"$f":"+'Plan Indicativo (Productos)'!B96","v":"Sociocultural  y espiritual"},{"$f":"+'Plan Indicativo (Productos)'!C96","v":23},{"$f":"+'Plan Indicativo (Productos)'!D96","v":"23. Tecnologias de la Información y Las Comunicaciones "},{"$f":"+'Plan Indicativo (Productos)'!E96","v":"2301"},{"$f":"+'Plan Indicativo (Productos)'!F96","v":"Facilitar el acceso y uso de las Tecnologías de la Información y las Comunicaciones en todo el territorio nacional"},{"$f":"+'Plan Indicativo (Productos)'!G96","v":"230107900"},{"$f":"+'Plan Indicativo (Productos)'!H96","v":"Zonas digitales instaladas"},{"$f":"+'Plan Indicativo (Productos)'!I96","v":"Número"},{"$f":"+'Plan Indicativo (Productos)'!J96","v":0},{"$f":"+'Plan Indicativo (Productos)'!K96","v":2},null,1,1,232100000,232100000]
[{"$f":"+'Plan Indicativo (Productos)'!A97","v":93},{"$f":"+'Plan Indicativo (Productos)'!B97","v":"Sociocultural  y espiritual"},{"$f":"+'Plan Indicativo (Productos)'!C97","v":23},{"$f":"+'Plan Indicativo (Productos)'!D97","v":"23. Tecnologias de la Información y Las Comunicaciones "},{"$f":"+'Plan Indicativo (Productos)'!E97","v":"2302"},{"$f":"+'Plan Indicativo (Productos)'!F97","v":"Fomento del desarrollo de aplicaciones, software y contenidos para impulsar la apropiación de las Tecnologías de la Información y las Comunicaciones (TIC)"},{"$f":"+'Plan Indicativo (Productos)'!G97","v":"230202000"},{"$f":"+'Plan Indicativo (Productos)'!H97","v":"Emprendimientos y empresas del sector de contenido y aplicaciones digitales acompañados"},{"$f":"+'Plan Indicativo (Productos)'!I97","v":"Número"},{"$f":"+'Plan Indicativo (Productos)'!J97","v":0},{"$f":"+'Plan Indicativo (Productos)'!K97","v":480},null,88,58,232100000,232100000]
[{"$f":"+'Plan Indicativo (Productos)'!A98","v":94},{"$f":"+'Plan Indicativo (Productos)'!B98","v":"Sociocultural  y espiritual"},{"$f":"+'Plan Indicativo (Productos)'!C98","v":21},{"$f":"+'Plan Indicativo (Productos)'!D98","v":"21. Minas y Energía"},{"$f":"+'Plan Indicativo (Productos)'!E98","v":"2106"},{"$f":"+'Plan Indicativo (Productos)'!F98","v":"Gestión de la información en el sector minero energético"},{"$f":"+'Plan Indicativo (Productos)'!G98","v":"210602200"},{"$f":"+'Plan Indicativo (Productos)'!H98","v":"Estrategias de innovación y transferencia del conocimiento realizadas"},{"$f":"+'Plan Indicativo (Productos)'!I98","v":"Número"},{"$f":"+'Plan Indicativo (Productos)'!J98","v":0},{"$f":"+'Plan Indicativo (Productos)'!K98","v":8},null,2,2,32548631,32548631]
[{"$f":"+'Plan Indicativo (Productos)'!A99","v":95},{"$f":"+'Plan Indicativo (Productos)'!B99","v":"Sociocultural  y espiritual"},{"$f":"+'Plan Indicativo (Productos)'!C99","v":40},{"$f":"+'Plan Indicativo (Productos)'!D99","v":"40. Vivienda, Ciudad y Territorio"},{"$f":"+'Plan Indicativo (Productos)'!E99","v":"4002"},{"$f":"+'Plan Indicativo (Productos)'!F99","v":"Ordenamiento territorial y desarrollo urbano"},{"$f":"+'Plan Indicativo (Productos)'!G99","v":"400201600"},{"$f":"+'Plan Indicativo (Productos)'!H99","v":"Documentos de planeación elaborados"},{"$f":"+'Plan Indicativo (Productos)'!I99","v":"Número"},{"$f":"+'Plan Indicativo (Productos)'!J99","v":1},{"$f":"+'Plan Indicativo (Productos)'!K99","v":1},null,0.8,0.8,0,0]
[{"$f":"+'Plan Indicativo (Productos)'!A100","v":96},{"$f":"+'Plan Indicativo (Productos)'!B100","v":"Sociocultural  y espiritual"},{"$f":"+'Plan Indicativo (Productos)'!C100","v":22},{"$f":"+'Plan Indicativo (Productos)'!D100","v":"22. Educación "},{"$f":"+'Plan Indicativo (Productos)'!E100","v":"2201"},{"$f":"+'Plan Indicativo (Productos)'!F100","v":"Calidad, cobertura y fortalecimiento de la educación inicial, prescolar, básica y media"},{"$f":"+'Plan Indicativo (Productos)'!G100","v":"220103702"},{"$f":"+'Plan Indicativo (Productos)'!H100","v":"Niñas y niños con educación inicial en el marco de la atención integral"},{"$f":"+'Plan Indicativo (Productos)'!I100","v":"Número"},{"$f":"+'Plan Indicativo (Productos)'!J100","v":609},{"$f":"+'Plan Indicativo (Productos)'!K100","v":620},null,155,102,2915893884,2915893884]
[{"$f":"+'Plan Indicativo (Productos)'!A101","v":97},{"$f":"+'Plan Indicativo (Productos)'!B101","v":"Sociocultural  y espiritual"},{"$f":"+'Plan Indicativo (Productos)'!C101","v":41},{"$f":"+'Plan Indicativo (Productos)'!D101","v":"41. Inclusión Social y Reconciliación"},{"$f":"+'Plan Indicativo (Productos)'!E101","v":"4102"},{"$f":"+'Plan Indicativo (Productos)'!F101","v":"Desarrollo integral de la primera infancia a la juventud, y fortalecimiento de las capacidades de las familias de niñas, niños y adolescentes"},{"$f":"+'Plan Indicativo (Productos)'!G101","v":"410200300"},{"$f":"+'Plan Indicativo (Productos)'!H101","v":"Agentes educativos cualificados"},{"$f":"+'Plan Indicativo (Productos)'!I101","v":"Número"},{"$f":"+'Plan Indicativo (Productos)'!J101","v":0},{"$f":"+'Plan Indicativo (Productos)'!K101","v":720},null,180,180,0,0]
[{"$f":"+'Plan Indicativo (Productos)'!A102","v":98},{"$f":"+'Plan Indicativo (Productos)'!B102","v":"Sociocultural  y espiritual"},{"$f":"+'Plan Indicativo (Productos)'!C102","v":41},{"$f":"+'Plan Indicativo (Productos)'!D102","v":"41. Inclusión Social y Reconciliación"},{"$f":"+'Plan Indicativo (Productos)'!E102","v":"4102"},{"$f":"+'Plan Indicativo (Productos)'!F102","v":"Desarrollo integral de la primera infancia a la juventud, y fortalecimiento de las capacidades de las familias de niñas, niños y adolescentes"},{"$f":"+'Plan Indicativo (Productos)'!G102","v":410204300},{"$f":"+'Plan Indicativo (Productos)'!H102","v":"Familias atendidas"},{"$f":"+'Plan Indicativo (Productos)'!I102","v":"Número"},{"$f":"+'Plan Indicativo (Productos)'!J102","v":0},{"$f":"+'Plan Indicativo (Productos)'!K102","v":3120},null,780,1289,0,0]
[{"$f":"+'Plan Indicativo (Productos)'!A103","v":99},{"$f":"+'Plan Indicativo (Productos)'!B103","v":"Sociocultural  y espiritual"},{"$f":"+'Plan Indicativo (Productos)'!C103","v":41},{"$f":"+'Plan Indicativo (Productos)'!D103","v":"41. Inclusión Social y Reconciliación"},{"$f":"+'Plan Indicativo (Productos)'!E103","v":"4102"},{"$f":"+'Plan Indicativo (Productos)'!F103","v":"Desarrollo integral de la primera infancia a la juventud, y fortalecimiento de las capacidades de las familias de niñas, niños y adolescentes"},{"$f":"+'Plan Indicativo (Productos)'!G103","v":"410205200"},{"$f":"+'Plan Indicativo (Productos)'!H103","v":"Niños, niñas, adolescentes y jóvenes beneficiados"},{"$f":"+'Plan Indicativo (Productos)'!I103","v":"Número"},{"$f":"+'Plan Indicativo (Productos)'!J103","v":9608},{"$f":"+'Plan Indicativo (Productos)'!K103","v":10000},null,2500,3179,0,0]
[{"$f":"+'Plan Indicativo (Productos)'!A104","v":100},{"$f":"+'Plan Indicativo (Productos)'!B104","v":"Sociocultural  y espiritual"},{"$f":"+'Plan Indicativo (Productos)'!C104","v":41},{"$f":"+'Plan Indicativo (Productos)'!D104","v":"41. Inclusión Social y Reconciliación"},{"$f":"+'Plan Indicativo (Productos)'!E104","v":"4102"},{"$f":"+'Plan Indicativo (Productos)'!F104","v":"Desarrollo integral de la primera infancia a la juventud, y fortalecimiento de las capacidades de las familias de niñas, niños y adolescentes"},{"$f":"+'Plan Indicativo (Productos)'!G104","v":"410205200"},{"$f":"+'Plan Indicativo (Productos)'!H104","v":"Niños, niñas, adolescentes y jóvenes beneficiados"},{"$f":"+'Plan Indicativo (Productos)'!I104","v":"Número"},{"$f":"+'Plan Indicativo (Productos)'!J104","v":9608},{"$f":"+'Plan Indicativo (Productos)'!K104","v":10000},null,2500,3179,0,0]
[{"$f":"+'Plan Indicativo (Productos)'!A105","v":101},{"$f":"+'Plan Indicativo (Productos)'!B105","v":"Sociocultural  y espiritual"},{"$f":"+'Plan Indicativo (Productos)'!C105","v":41},{"$f":"+'Plan Indicativo (Productos)'!D105","v":"41. Inclusión Social y Reconciliación"},{"$f":"+'Plan Indicativo (Productos)'!E105","v":"4102"},{"$f":"+'Plan Indicativo (Productos)'!F105","v":"Desarrollo integral de la primera infancia a la juventud, y fortalecimiento de las capacidades de las familias de niñas, niños y adolescentes"},{"$f":"+'Plan Indicativo (Productos)'!G105","v":"410205200"},{"$f":"+'Plan Indicativo (Productos)'!H105","v":"Niños, niñas, adolescentes y jóvenes beneficiados"},{"$f":"+'Plan Indicativo (Productos)'!I105","v":"Número"},{"$f":"+'Plan Indicativo (Productos)'!J105","v":0},{"$f":"+'Plan Indicativo (Productos)'!K105","v":3768},null,942,942,0,0]
[{"$f":"+'Plan Indicativo (Productos)'!A106","v":102},{"$f":"+'Plan Indicativo (Productos)'!B106","v":"Sociocultural  y espiritual"},{"$f":"+'Plan Indicativo (Productos)'!C106","v":41},{"$f":"+'Plan Indicativo (Productos)'!D106","v":"41. Inclusión Social y Reconciliación"},{"$f":"+'Plan Indicativo (Productos)'!E106","v":"4102"},{"$f":"+'Plan Indicativo (Productos)'!F106","v":"Desarrollo integral de la primera infancia a la juventud, y fortalecimiento de las capacidades de las familias de niñas, niños y adolescentes"},{"$f":"+'Plan Indicativo (Productos)'!G106","v":"410205200"},{"$f":"+'Plan Indicativo (Productos)'!H106","v":"Niños, niñas, adolescentes y jóvenes beneficiados"},{"$f":"+'Plan Indicativo (Productos)'!I106","v":"Número"},{"$f":"+'Plan Indicativo (Productos)'!J106","v":0},{"$f":"+'Plan Indicativo (Productos)'!K106","v":12000},null,3000,2800,0,0]
[{"$f":"+'Plan Indicativo (Productos)'!A107","v":103},{"$f":"+'Plan Indicativo (Productos)'!B107","v":"Sociocultural  y espiritual"},{"$f":"+'Plan Indicativo (Productos)'!C107","v":41},{"$f":"+'Plan Indicativo (Productos)'!D107","v":"41. Inclusión Social y Reconciliación"},{"$f":"+'Plan Indicativo (Productos)'!E107","v":"4102"},{"$f":"+'Plan Indicativo (Productos)'!F107","v":"Desarrollo integral de la primera infancia a la juventud, y fortalecimiento de las capacidades de las familias de niñas, niños y adolescentes"},{"$f":"+'Plan Indicativo (Productos)'!G107","v":"410204600"},{"$f":"+'Plan Indicativo (Productos)'!H107","v":"Campañas de promoción realizadas"},{"$f":"+'Plan Indicativo (Productos)'!I107","v":"Número"},{"$f":"+'Plan Indicativo (Productos)'!J107","v":0},{"$f":"+'Plan Indicativo (Productos)'!K107","v":16},null,4,4,19830682,19830682]
[{"$f":"+'Plan Indicativo (Productos)'!A108","v":104},{"$f":"+'Plan Indicativo (Productos)'!B108","v":"Sociocultural  y espiritual"},{"$f":"+'Plan Indicativo (Productos)'!C108","v":41},{"$f":"+'Plan Indicativo (Productos)'!D108","v":"41. Inclusión Social y Reconciliación"},{"$f":"+'Plan Indicativo (Productos)'!E108","v":"4102"},{"$f":"+'Plan Indicativo (Productos)'!F108","v":"Desarrollo integral de la primera infancia a la juventud, y fortalecimiento de las capacidades de las familias de niñas, niños y adolescentes"},{"$f":"+'Plan Indicativo (Productos)'!G108","v":410204300},{"$f":"+'Plan Indicativo (Productos)'!H108","v":"Familias atendidas"},{"$f":"+'Plan Indicativo (Productos)'!I108","v":"Número"},{"$f":"+'Plan Indicativo (Productos)'!J108","v":0},{"$f":"+'Plan Indicativo (Productos)'!K108","v":3000},null,750,889,0,0]
[{"$f":"+'Plan Indicativo (Productos)'!A109","v":105},{"$f":"+'Plan Indicativo (Productos)'!B109","v":"Sociocultural  y espiritual"},{"$f":"+'Plan Indicativo (Productos)'!C109","v":45},{"$f":"+'Plan Indicativo (Productos)'!D109","v":"45. Gobierno Territorial"},{"$f":"+'Plan Indicativo (Productos)'!E109","v":"4599"},{"$f":"+'Plan Indicativo (Productos)'!F109","v":"Fortalecimiento a la gestión y dirección de la administración pública territorial"},{"$f":"+'Plan Indicativo (Productos)'!G109","v":"459900100"},{"$f":"+'Plan Indicativo (Productos)'!H109","v":"Documentos de evaluación elaborados"},{"$f":"+'Plan Indicativo (Productos)'!I109","v":"Número"},{"$f":"+'Plan Indicativo (Productos)'!J109","v":0},{"$f":"+'Plan Indicativo (Productos)'!K109","v":1},null,0.4,0.4,0,0]
[{"$f":"+'Plan Indicativo (Productos)'!A110","v":106},{"$f":"+'Plan Indicativo (Productos)'!B110","v":"Sociocultural  y espiritual"},{"$f":"+'Plan Indicativo (Productos)'!C110","v":45},{"$f":"+'Plan Indicativo (Productos)'!D110","v":"45. Gobierno Territorial"},{"$f":"+'Plan Indicativo (Productos)'!E110","v":"4502"},{"$f":"+'Plan Indicativo (Productos)'!F110","v":"Fortalecimiento del buen gobierno para el respeto y garantía de los derechos humanos"},{"$f":"+'Plan Indicativo (Productos)'!G110","v":"450203300"},{"$f":"+'Plan Indicativo (Productos)'!H110","v":"Espacios de integración de oferta pública generados"},{"$f":"+'Plan Indicativo (Productos)'!I110","v":"Número"},{"$f":"+'Plan Indicativo (Productos)'!J110","v":0},{"$f":"+'Plan Indicativo (Productos)'!K110","v":80},null,20,20,0,0]
[{"$f":"+'Plan Indicativo (Productos)'!A111","v":107},{"$f":"+'Plan Indicativo (Productos)'!B111","v":"Sociocultural  y espiritual"},{"$f":"+'Plan Indicativo (Productos)'!C111","v":45},{"$f":"+'Plan Indicativo (Productos)'!D111","v":"45. Gobierno Territorial"},{"$f":"+'Plan Indicativo (Productos)'!E111","v":"4502"},{"$f":"+'Plan Indicativo (Productos)'!F111","v":"Fortalecimiento del buen gobierno para el respeto y garantía de los derechos humanos"},{"$f":"+'Plan Indicativo (Productos)'!G111","v":"450200100"},{"$f":"+'Plan Indicativo (Productos)'!H111","v":"Espacios de participación promovidos"},{"$f":"+'Plan Indicativo (Productos)'!I111","v":"Número"},{"$f":"+'Plan Indicativo (Productos)'!J111","v":4},{"$f":"+'Plan Indicativo (Productos)'!K111","v":21},null,3,3,0,0]
[{"$f":"+'Plan Indicativo (Productos)'!A112","v":108},{"$f":"+'Plan Indicativo (Productos)'!B112","v":"Sociocultural  y espiritual"},{"$f":"+'Plan Indicativo (Productos)'!C112","v":45},{"$f":"+'Plan Indicativo (Productos)'!D112","v":"45. Gobierno Territorial"},{"$f":"+'Plan Indicativo (Productos)'!E112","v":"4502"},{"$f":"+'Plan Indicativo (Productos)'!F112","v":"Fortalecimiento del buen gobierno para el respeto y garantía de los derechos humanos"},{"$f":"+'Plan Indicativo (Productos)'!G112","v":"450203800"},{"$f":"+'Plan Indicativo (Productos)'!H112","v":"Estrategias de promoción de la garantía de derechos implementadas"},{"$f":"+'Plan Indicativo (Productos)'!I112","v":"Número"},{"$f":"+'Plan Indicativo (Productos)'!J112","v":1},{"$f":"+'Plan Indicativo (Productos)'!K112","v":4},null,1,1,0,0]
[{"$f":"+'Plan Indicativo (Productos)'!A113","v":109},{"$f":"+'Plan Indicativo (Productos)'!B113","v":"Sociocultural  y espiritual"},{"$f":"+'Plan Indicativo (Productos)'!C113","v":41},{"$f":"+'Plan Indicativo (Productos)'!D113","v":"41. Inclusión Social y Reconciliación"},{"$f":"+'Plan Indicativo (Productos)'!E113","v":"4103"},{"$f":"+'Plan Indicativo (Productos)'!F113","v":"Inclusión social y productiva para la población en situación de vulnerabilidad"},{"$f":"+'Plan Indicativo (Productos)'!G113","v":"410305200"},{"$f":"+'Plan Indicativo (Productos)'!H113","v":"Beneficiarios potenciales para quienes se gestiona la oferta social"},{"$f":"+'Plan Indicativo (Productos)'!I113","v":"Número"},{"$f":"+'Plan Indicativo (Productos)'!J113","v":0},{"$f":"+'Plan Indicativo (Productos)'!K113","v":120},null,30,30,0,0]
[{"$f":"+'Plan Indicativo (Productos)'!A114","v":110},{"$f":"+'Plan Indicativo (Productos)'!B114","v":"Sociocultural  y espiritual"},{"$f":"+'Plan Indicativo (Productos)'!C114","v":41},{"$f":"+'Plan Indicativo (Productos)'!D114","v":"41. Inclusión Social y Reconciliación"},{"$f":"+'Plan Indicativo (Productos)'!E114","v":"4102"},{"$f":"+'Plan Indicativo (Productos)'!F114","v":"Desarrollo integral de la primera infancia a la juventud, y fortalecimiento de las capacidades de las familias de niñas, niños y adolescentes"},{"$f":"+'Plan Indicativo (Productos)'!G114","v":"410203500"},{"$f":"+'Plan Indicativo (Productos)'!H114","v":"Documentos de lineamientos técnicos realizados"},{"$f":"+'Plan Indicativo (Productos)'!I114","v":"Número"},{"$f":"+'Plan Indicativo (Productos)'!J114","v":0},{"$f":"+'Plan Indicativo (Productos)'!K114","v":1},null,0.1,0.1,0,0]
[{"$f":"+'Plan Indicativo (Productos)'!A115","v":111},{"$f":"+'Plan Indicativo (Productos)'!B115","v":"Sociocultural  y espiritual"},{"$f":"+'Plan Indicativo (Productos)'!C115","v":41},{"$f":"+'Plan Indicativo (Productos)'!D115","v":"41. Inclusión Social y Reconciliación"},{"$f":"+'Plan Indicativo (Productos)'!E115","v":"4102"},{"$f":"+'Plan Indicativo (Productos)'!F115","v":"Desarrollo integral de la primera infancia a la juventud, y fortalecimiento de las capacidades de las familias de niñas, niños y adolescentes"},{"$f":"+'Plan Indicativo (Productos)'!G115","v":"410204800"},{"$f":"+'Plan Indicativo (Productos)'!H115","v":"Edificaciones de atención a la adolescencia y juventud construidas"},{"$f":"+'Plan Indicativo (Productos)'!I115","v":"Número"},{"$f":"+'Plan Indicativo (Productos)'!J115","v":0},{"$f":"+'Plan Indicativo (Productos)'!K115","v":1},null,0,0,0,0]
[{"$f":"+'Plan Indicativo (Productos)'!A116","v":112},{"$f":"+'Plan Indicativo (Productos)'!B116","v":"Sociocultural  y espiritual"},{"$f":"+'Plan Indicativo (Productos)'!C116","v":41},{"$f":"+'Plan Indicativo (Productos)'!D116","v":"41. Inclusión Social y Reconciliación"},{"$f":"+'Plan Indicativo (Productos)'!E116","v":"4104"},{"$f":"+'Plan Indicativo (Productos)'!F116","v":"Atención integral de población en situación permanente de desprotección social y/o familiar"},{"$f":"+'Plan Indicativo (Productos)'!G116","v":"410400900"},{"$f":"+'Plan Indicativo (Productos)'!H116","v":"Centros de día para el adulto mayor adecuados"},{"$f":"+'Plan Indicativo (Productos)'!I116","v":"Número"},{"$f":"+'Plan Indicativo (Productos)'!J116","v":1},{"$f":"+'Plan Indicativo (Productos)'!K116","v":1},null,0.1,0,0,0]
[{"$f":"+'Plan Indicativo (Productos)'!A117","v":113},{"$f":"+'Plan Indicativo (Productos)'!B117","v":"Sociocultural  y espiritual"},{"$f":"+'Plan Indicativo (Productos)'!C117","v":45},{"$f":"+'Plan Indicativo (Productos)'!D117","v":"45. Gobierno Territorial"},{"$f":"+'Plan Indicativo (Productos)'!E117","v":"4599"},{"$f":"+'Plan Indicativo (Productos)'!F117","v":"Fortalecimiento a la gestión y dirección de la administración pública territorial"},{"$f":"+'Plan Indicativo (Productos)'!G117","v":"459900100"},{"$f":"+'Plan Indicativo (Productos)'!H117","v":"Documentos de evaluación elaborados"},{"$f":"+'Plan Indicativo (Productos)'!I117","v":"Número"},{"$f":"+'Plan Indicativo (Productos)'!J117","v":1},{"$f":"+'Plan Indicativo (Productos)'!K117","v":1},null,0.4,0.2,0,0]
[{"$f":"+'Plan Indicativo (Productos)'!A118","v":114},{"$f":"+'Plan Indicativo (Productos)'!B118","v":"Sociocultural  y espiritual"},{"$f":"+'Plan Indicativo (Productos)'!C118","v":45},{"$f":"+'Plan Indicativo (Productos)'!D118","v":"45. Gobierno Territorial"},{"$f":"+'Plan Indicativo (Productos)'!E118","v":"4502"},{"$f":"+'Plan Indicativo (Productos)'!F118","v":"Fortalecimiento del buen gobierno para el respeto y garantía de los derechos humanos"},{"$f":"+'Plan Indicativo (Productos)'!G118","v":"450203800"},{"$f":"+'Plan Indicativo (Productos)'!H118","v":"Estrategias de promoción de la garantía de derechos implementadas"},{"$f":"+'Plan Indicativo (Productos)'!I118","v":"Número"},{"$f":"+'Plan Indicativo (Productos)'!J118","v":1},{"$f":"+'Plan Indicativo (Productos)'!K118","v":4},null,1,1,1457678942,1457678942]
[{"$f":"+'Plan Indicativo (Productos)'!A119","v":115},{"$f":"+'Plan Indicativo (Productos)'!B119","v":"Sociocultural  y espiritual"},{"$f":"+'Plan Indicativo (Productos)'!C119","v":41},{"$f":"+'Plan Indicativo (Productos)'!D119","v":"41. Inclusión Social y Reconciliación"},{"$f":"+'Plan Indicativo (Productos)'!E119","v":"4103"},{"$f":"+'Plan Indicativo (Productos)'!F119","v":"Inclusión social y productiva para la población en situación de vulnerabilidad"},{"$f":"+'Plan Indicativo (Productos)'!G119","v":"410305200"},{"$f":"+'Plan Indicativo (Productos)'!H119","v":"Beneficiarios potenciales para quienes se gestiona la oferta social"},{"$f":"+'Plan Indicativo (Productos)'!I119","v":"Número"},{"$f":"+'Plan Indicativo (Productos)'!J119","v":1},{"$f":"+'Plan Indicativo (Productos)'!K119","v":4},null,1,1,254729735,254729735]
[{"$f":"+'Plan Indicativo (Productos)'!A120","v":116},{"$f":"+'Plan Indicativo (Productos)'!B120","v":"Sociocultural  y espiritual"},{"$f":"+'Plan Indicativo (Productos)'!C120","v":41},{"$f":"+'Plan Indicativo (Productos)'!D120","v":"41. Inclusión Social y Reconciliación"},{"$f":"+'Plan Indicativo (Productos)'!E120","v":"4104"},{"$f":"+'Plan Indicativo (Productos)'!F120","v":"Atención integral de población en situación permanente de desprotección social y/o familiar"},{"$f":"+'Plan Indicativo (Productos)'!G120","v":"410400800"},{"$f":"+'Plan Indicativo (Productos)'!H120","v":"Adultos mayores atendidos con servicios integrales"},{"$f":"+'Plan Indicativo (Productos)'!I120","v":"Número"},{"$f":"+'Plan Indicativo (Productos)'!J120","v":2810},{"$f":"+'Plan Indicativo (Productos)'!K120","v":12640},null,407,407,376000054,376000054]
[{"$f":"+'Plan Indicativo (Productos)'!A121","v":117},{"$f":"+'Plan Indicativo (Productos)'!B121","v":"Sociocultural  y espiritual"},{"$f":"+'Plan Indicativo (Productos)'!C121","v":45},{"$f":"+'Plan Indicativo (Productos)'!D121","v":"45. Gobierno Territorial"},{"$f":"+'Plan Indicativo (Productos)'!E121","v":"4599"},{"$f":"+'Plan Indicativo (Productos)'!F121","v":"Fortalecimiento a la gestión y dirección de la administración pública territorial"},{"$f":"+'Plan Indicativo (Productos)'!G121","v":"459901900"},{"$f":"+'Plan Indicativo (Productos)'!H121","v":"Documentos de planeación realizados"},{"$f":"+'Plan Indicativo (Productos)'!I121","v":"Número"},{"$f":"+'Plan Indicativo (Productos)'!J121","v":0},{"$f":"+'Plan Indicativo (Productos)'!K121","v":1},null,0.3,0.3,320472214,320472214]
[{"$f":"+'Plan Indicativo (Productos)'!A122","v":118},{"$f":"+'Plan Indicativo (Productos)'!B122","v":"Sociocultural  y espiritual"},{"$f":"+'Plan Indicativo (Productos)'!C122","v":45},{"$f":"+'Plan Indicativo (Productos)'!D122","v":"45. Gobierno Territorial"},{"$f":"+'Plan Indicativo (Productos)'!E122","v":"4501"},{"$f":"+'Plan Indicativo (Productos)'!F122","v":"Fortalecimiento de la convivencia y la seguridad ciudadana"},{"$f":"+'Plan Indicativo (Productos)'!G122","v":"450105000"},{"$f":"+'Plan Indicativo (Productos)'!H122","v":"Casos atendidos"},{"$f":"+'Plan Indicativo (Productos)'!I122","v":"Número"},{"$f":"+'Plan Indicativo (Productos)'!J122","v":240},{"$f":"+'Plan Indicativo (Productos)'!K122","v":1920},null,480,952,315798230,315798230]
[{"$f":"+'Plan Indicativo (Productos)'!A123","v":119},{"$f":"+'Plan Indicativo (Productos)'!B123","v":"Sociocultural  y espiritual"},{"$f":"+'Plan Indicativo (Productos)'!C123","v":45},{"$f":"+'Plan Indicativo (Productos)'!D123","v":"45. Gobierno Territorial"},{"$f":"+'Plan Indicativo (Productos)'!E123","v":"4502"},{"$f":"+'Plan Indicativo (Productos)'!F123","v":"Fortalecimiento del buen gobierno para el respeto y garantía de los derechos humanos"},{"$f":"+'Plan Indicativo (Productos)'!G123","v":"450202100"},{"$f":"+'Plan Indicativo (Productos)'!H123","v":"Proyectos cofinanciados"},{"$f":"+'Plan Indicativo (Productos)'!I123","v":"Número"},{"$f":"+'Plan Indicativo (Productos)'!J123","v":0},{"$f":"+'Plan Indicativo (Productos)'!K123","v":1},null,0.25,0.25,0,0]
[{"$f":"+'Plan Indicativo (Productos)'!A124","v":120},{"$f":"+'Plan Indicativo (Productos)'!B124","v":"Sociocultural  y espiritual"},{"$f":"+'Plan Indicativo (Productos)'!C124","v":45},{"$f":"+'Plan Indicativo (Productos)'!D124","v":"45. Gobierno Territorial"},{"$f":"+'Plan Indicativo (Productos)'!E124","v":"4502"},{"$f":"+'Plan Indicativo (Productos)'!F124","v":"Fortalecimiento del buen gobierno para el respeto y garantía de los derechos humanos"},{"$f":"+'Plan Indicativo (Productos)'!G124","v":"450203400"},{"$f":"+'Plan Indicativo (Productos)'!H124","v":"Personas capacitadas"},{"$f":"+'Plan Indicativo (Productos)'!I124","v":"Número"},{"$f":"+'Plan Indicativo (Productos)'!J124","v":0},{"$f":"+'Plan Indicativo (Productos)'!K124","v":22656},null,4656,3000,0,0]
[{"$f":"+'Plan Indicativo (Productos)'!A125","v":121},{"$f":"+'Plan Indicativo (Productos)'!B125","v":"Sociocultural  y espiritual"},{"$f":"+'Plan Indicativo (Productos)'!C125","v":45},{"$f":"+'Plan Indicativo (Productos)'!D125","v":"45. Gobierno Territorial"},{"$f":"+'Plan Indicativo (Productos)'!E125","v":"4502"},{"$f":"+'Plan Indicativo (Productos)'!F125","v":"Fortalecimiento del buen gobierno para el respeto y garantía de los derechos humanos"},{"$f":"+'Plan Indicativo (Productos)'!G125","v":"450203800"},{"$f":"+'Plan Indicativo (Productos)'!H125","v":"Estrategias de promoción de la garantía de derechos implementadas"},{"$f":"+'Plan Indicativo (Productos)'!I125","v":"Número"},{"$f":"+'Plan Indicativo (Productos)'!J125","v":0},{"$f":"+'Plan Indicativo (Productos)'!K125","v":4},null,1,1,0,0]
[{"$f":"+'Plan Indicativo (Productos)'!A126","v":122},{"$f":"+'Plan Indicativo (Productos)'!B126","v":"Sociocultural  y espiritual"},{"$f":"+'Plan Indicativo (Productos)'!C126","v":45},{"$f":"+'Plan Indicativo (Productos)'!D126","v":"45. Gobierno Territorial"},{"$f":"+'Plan Indicativo (Productos)'!E126","v":"4502"},{"$f":"+'Plan Indicativo (Productos)'!F126","v":"Fortalecimiento del buen gobierno para el respeto y garantía de los derechos humanos"},{"$f":"+'Plan Indicativo (Productos)'!G126","v":"450201800"},{"$f":"+'Plan Indicativo (Productos)'!H126","v":"Documentos de archivo o colecciones documentales de Derechos Humanos y Memoria Histórica acopiados, procesados técnicamente y puestos al servicio de la sociedad"},{"$f":"+'Plan Indicativo (Productos)'!I126","v":"Número"},{"$f":"+'Plan Indicativo (Productos)'!J126","v":0},{"$f":"+'Plan Indicativo (Productos)'!K126","v":4},null,1,1,0,0]
[{"$f":"+'Plan Indicativo (Productos)'!A127","v":123},{"$f":"+'Plan Indicativo (Productos)'!B127","v":"Sociocultural  y espiritual"},{"$f":"+'Plan Indicativo (Productos)'!C127","v":41},{"$f":"+'Plan Indicativo (Productos)'!D127","v":"41. Inclusión Social y Reconciliación"},{"$f":"+'Plan Indicativo (Productos)'!E127","v":"4103"},{"$f":"+'Plan Indicativo (Productos)'!F127","v":"Inclusión social y productiva para la población en situación de vulnerabilidad"},{"$f":"+'Plan Indicativo (Productos)'!G127","v":"410307100"},{"$f":"+'Plan Indicativo (Productos)'!H127","v":"Estudios de preinversión elaborados"},{"$f":"+'Plan Indicativo (Productos)'!I127","v":"Número"},{"$f":"+'Plan Indicativo (Productos)'!J127","v":0},{"$f":"+'Plan Indicativo (Productos)'!K127","v":1},null,0,0,0,0]
[{"$f":"+'Plan Indicativo (Productos)'!A128","v":124},{"$f":"+'Plan Indicativo (Productos)'!B128","v":"Sociocultural  y espiritual"},{"$f":"+'Plan Indicativo (Productos)'!C128","v":42},{"$f":"+'Plan Indicativo (Productos)'!D128","v":"42. Inteligencia "},{"$f":"+'Plan Indicativo (Productos)'!E128","v":"4103"},{"$f":"+'Plan Indicativo (Productos)'!F128","v":"Inclusión social y productiva para la población en situación de vulnerabilidad"},{"$f":"+'Plan Indicativo (Productos)'!G128","v":"410302500"},{"$f":"+'Plan Indicativo (Productos)'!H128","v":"Centros comunitarios construidos"},{"$f":"+'Plan Indicativo (Productos)'!I128","v":"Número"},{"$f":"+'Plan Indicativo (Productos)'!J128","v":0},{"$f":"+'Plan Indicativo (Productos)'!K128","v":1},null,0,0,0,0]
[{"$f":"+'Plan Indicativo (Productos)'!A129","v":125},{"$f":"+'Plan Indicativo (Productos)'!B129","v":"Sociocultural  y espiritual"},{"$f":"+'Plan Indicativo (Productos)'!C129","v":41},{"$f":"+'Plan Indicativo (Productos)'!D129","v":"41. Inclusión Social y Reconciliación"},{"$f":"+'Plan Indicativo (Productos)'!E129","v":"4103"},{"$f":"+'Plan Indicativo (Productos)'!F129","v":"Inclusión social y productiva para la población en situación de vulnerabilidad"},{"$f":"+'Plan Indicativo (Productos)'!G129","v":"410303100"},{"$f":"+'Plan Indicativo (Productos)'!H129","v":"Centros comunitarios dotados"},{"$f":"+'Plan Indicativo (Productos)'!I129","v":"Número"},{"$f":"+'Plan Indicativo (Productos)'!J129","v":0},{"$f":"+'Plan Indicativo (Productos)'!K129","v":1},null,0,0,0,0]
[{"$f":"+'Plan Indicativo (Productos)'!A130","v":126},{"$f":"+'Plan Indicativo (Productos)'!B130","v":"Sociocultural  y espiritual"},{"$f":"+'Plan Indicativo (Productos)'!C130","v":41},{"$f":"+'Plan Indicativo (Productos)'!D130","v":"41. Inclusión Social y Reconciliación"},{"$f":"+'Plan Indicativo (Productos)'!E130","v":"4103"},{"$f":"+'Plan Indicativo (Productos)'!F130","v":"Inclusión social y productiva para la población en situación de vulnerabilidad"},{"$f":"+'Plan Indicativo (Productos)'!G130","v":"410305200"},{"$f":"+'Plan Indicativo (Productos)'!H130","v":"Beneficiarios potenciales para quienes se gestiona la oferta social"},{"$f":"+'Plan Indicativo (Productos)'!I130","v":"Número"},{"$f":"+'Plan Indicativo (Productos)'!J130","v":50},{"$f":"+'Plan Indicativo (Productos)'!K130","v":22656},null,4656,3000,0,0]
[{"$f":"+'Plan Indicativo (Productos)'!A131","v":127},{"$f":"+'Plan Indicativo (Productos)'!B131","v":"Sociocultural  y espiritual"},{"$f":"+'Plan Indicativo (Productos)'!C131","v":41},{"$f":"+'Plan Indicativo (Productos)'!D131","v":"41. Inclusión Social y Reconciliación"},{"$f":"+'Plan Indicativo (Productos)'!E131","v":"4104"},{"$f":"+'Plan Indicativo (Productos)'!F131","v":"Atención integral de población en situación permanente de desprotección social y/o familiar"},{"$f":"+'Plan Indicativo (Productos)'!G131","v":"410402000"},{"$f":"+'Plan Indicativo (Productos)'!H131","v":"Personas con discapacidad atendidas con servicios integrales"},{"$f":"+'Plan Indicativo (Productos)'!I131","v":"Número"},{"$f":"+'Plan Indicativo (Productos)'!J131","v":1500},{"$f":"+'Plan Indicativo (Productos)'!K131","v":4000},null,282,282,471335365,471335365]
[{"$f":"+'Plan Indicativo (Productos)'!A132","v":128},{"$f":"+'Plan Indicativo (Productos)'!B132","v":"Sociocultural  y espiritual"},{"$f":"+'Plan Indicativo (Productos)'!C132","v":22},{"$f":"+'Plan Indicativo (Productos)'!D132","v":"22. Educación "},{"$f":"+'Plan Indicativo (Productos)'!E132","v":"2201"},{"$f":"+'Plan Indicativo (Productos)'!F132","v":"Calidad, cobertura y fortalecimiento de la educación inicial, prescolar, básica y media"},{"$f":"+'Plan Indicativo (Productos)'!G132","v":"220108400"},{"$f":"+'Plan Indicativo (Productos)'!H132","v":"Sedes educativas con apoyo pedagógico para  la oferta de educación inclusiva para preescolar, básica y media"},{"$f":"+'Plan Indicativo (Productos)'!I132","v":"Número"},{"$f":"+'Plan Indicativo (Productos)'!J132","v":1},{"$f":"+'Plan Indicativo (Productos)'!K132","v":1},null,1,1,127235007,127235007]
[{"$f":"+'Plan Indicativo (Productos)'!A133","v":129},{"$f":"+'Plan Indicativo (Productos)'!B133","v":"Sociocultural  y espiritual"},{"$f":"+'Plan Indicativo (Productos)'!C133","v":36},{"$f":"+'Plan Indicativo (Productos)'!D133","v":"36.  Trabajo"},{"$f":"+'Plan Indicativo (Productos)'!E133","v":"3605"},{"$f":"+'Plan Indicativo (Productos)'!F133","v":"Fomento de la investigación, desarrollo tecnológico e innovación del sector trabajo"},{"$f":"+'Plan Indicativo (Productos)'!G133","v":"360500900"},{"$f":"+'Plan Indicativo (Productos)'!H133","v":"Acciones de promoción y difusión realizadas"},{"$f":"+'Plan Indicativo (Productos)'!I133","v":"Número"},{"$f":"+'Plan Indicativo (Productos)'!J133","v":5},{"$f":"+'Plan Indicativo (Productos)'!K133","v":8},null,2,2,6907000,6907000]
[{"$f":"+'Plan Indicativo (Productos)'!A134","v":130},{"$f":"+'Plan Indicativo (Productos)'!B134","v":"Sociocultural  y espiritual"},{"$f":"+'Plan Indicativo (Productos)'!C134","v":43},{"$f":"+'Plan Indicativo (Productos)'!D134","v":"43. Deporte y Recreación"},{"$f":"+'Plan Indicativo (Productos)'!E134","v":"4302"},{"$f":"+'Plan Indicativo (Productos)'!F134","v":"Formación y preparación de deportistas"},{"$f":"+'Plan Indicativo (Productos)'!G134","v":"430206200"},{"$f":"+'Plan Indicativo (Productos)'!H134","v":"Capacitaciones realizada"},{"$f":"+'Plan Indicativo (Productos)'!I134","v":"Número"},{"$f":"+'Plan Indicativo (Productos)'!J134","v":0},{"$f":"+'Plan Indicativo (Productos)'!K134","v":8},null,2,8,1426674672,1426674672]
[{"$f":"+'Plan Indicativo (Productos)'!A135","v":131},{"$f":"+'Plan Indicativo (Productos)'!B135","v":"Sociocultural  y espiritual"},{"$f":"+'Plan Indicativo (Productos)'!C135","v":45},{"$f":"+'Plan Indicativo (Productos)'!D135","v":"45. Gobierno Territorial"},{"$f":"+'Plan Indicativo (Productos)'!E135","v":"4599"},{"$f":"+'Plan Indicativo (Productos)'!F135","v":"Fortalecimiento a la gestión y dirección de la administración pública territorial"},{"$f":"+'Plan Indicativo (Productos)'!G135","v":"459900100"},{"$f":"+'Plan Indicativo (Productos)'!H135","v":"Documentos de evaluación elaborados"},{"$f":"+'Plan Indicativo (Productos)'!I135","v":"Número"},{"$f":"+'Plan Indicativo (Productos)'!J135","v":1},{"$f":"+'Plan Indicativo (Productos)'!K135","v":1},null,0.4,0.4,958545487,958545487]
[{"$f":"+'Plan Indicativo (Productos)'!A136","v":132},{"$f":"+'Plan Indicativo (Productos)'!B136","v":"Sociocultural  y espiritual"},{"$f":"+'Plan Indicativo (Productos)'!C136","v":41},{"$f":"+'Plan Indicativo (Productos)'!D136","v":"41. Inclusión Social y Reconciliación"},{"$f":"+'Plan Indicativo (Productos)'!E136","v":4101},{"$f":"+'Plan Indicativo (Productos)'!F136","v":"Atención, asistencia  y reparación integral a las víctimas"},{"$f":"+'Plan Indicativo (Productos)'!G136","v":"410109200"},{"$f":"+'Plan Indicativo (Productos)'!H136","v":"Víctimas que acceden a medidas de satisfacción y de garantías de no repetición a nivel individual"},{"$f":"+'Plan Indicativo (Productos)'!I136","v":"Número"},{"$f":"+'Plan Indicativo (Productos)'!J136","v":1277},{"$f":"+'Plan Indicativo (Productos)'!K136","v":1309},null,309,309,8226720,8226720]
[{"$f":"+'Plan Indicativo (Productos)'!A137","v":133},{"$f":"+'Plan Indicativo (Productos)'!B137","v":"Sociocultural  y espiritual"},{"$f":"+'Plan Indicativo (Productos)'!C137","v":41},{"$f":"+'Plan Indicativo (Productos)'!D137","v":"41. Inclusión Social y Reconciliación"},{"$f":"+'Plan Indicativo (Productos)'!E137","v":"4101"},{"$f":"+'Plan Indicativo (Productos)'!F137","v":"Atención, asistencia  y reparación integral a las víctimas"},{"$f":"+'Plan Indicativo (Productos)'!G137","v":"410102500"},{"$f":"+'Plan Indicativo (Productos)'!H137","v":"Personas con asistencia humanitaria"},{"$f":"+'Plan Indicativo (Productos)'!I137","v":"Número"},{"$f":"+'Plan Indicativo (Productos)'!J137","v":18},{"$f":"+'Plan Indicativo (Productos)'!K137","v":72},null,12,30,16453440,16453440]
[{"$f":"+'Plan Indicativo (Productos)'!A138","v":134},{"$f":"+'Plan Indicativo (Productos)'!B138","v":"Sociocultural  y espiritual"},{"$f":"+'Plan Indicativo (Productos)'!C138","v":41},{"$f":"+'Plan Indicativo (Productos)'!D138","v":"41. Inclusión Social y Reconciliación"},{"$f":"+'Plan Indicativo (Productos)'!E138","v":"4101"},{"$f":"+'Plan Indicativo (Productos)'!F138","v":"Atención, asistencia  y reparación integral a las víctimas"},{"$f":"+'Plan Indicativo (Productos)'!G138","v":"410102600"},{"$f":"+'Plan Indicativo (Productos)'!H138","v":"Hogares acompañados en Servicio de alojamiento temporal"},{"$f":"+'Plan Indicativo (Productos)'!I138","v":"Número"},{"$f":"+'Plan Indicativo (Productos)'!J138","v":0},{"$f":"+'Plan Indicativo (Productos)'!K138","v":4},null,1,0,8226720,8226720]
[{"$f":"+'Plan Indicativo (Productos)'!A139","v":135},{"$f":"+'Plan Indicativo (Productos)'!B139","v":"Sociocultural  y espiritual"},{"$f":"+'Plan Indicativo (Productos)'!C139","v":41},{"$f":"+'Plan Indicativo (Productos)'!D139","v":"41. Inclusión Social y Reconciliación"},{"$f":"+'Plan Indicativo (Productos)'!E139","v":"4101"},{"$f":"+'Plan Indicativo (Productos)'!F139","v":"Atención, asistencia  y reparación integral a las víctimas"},{"$f":"+'Plan Indicativo (Productos)'!G139","v":"410103100"},{"$f":"+'Plan Indicativo (Productos)'!H139","v":"Víctimas reconocidas, recordadas y dignificadas por el Estado."},{"$f":"+'Plan Indicativo (Productos)'!I139","v":"Número"},{"$f":"+'Plan Indicativo (Productos)'!J139","v":0},{"$f":"+'Plan Indicativo (Productos)'!K139","v":160},null,1,1,16453440,16453440]
[{"$f":"+'Plan Indicativo (Productos)'!A140","v":136},{"$f":"+'Plan Indicativo (Productos)'!B140","v":"Sociocultural  y espiritual"},{"$f":"+'Plan Indicativo (Productos)'!C140","v":41},{"$f":"+'Plan Indicativo (Productos)'!D140","v":"41. Inclusión Social y Reconciliación"},{"$f":"+'Plan Indicativo (Productos)'!E140","v":"4101"},{"$f":"+'Plan Indicativo (Productos)'!F140","v":"Atención, asistencia  y reparación integral a las víctimas"},{"$f":"+'Plan Indicativo (Productos)'!G140","v":"410106300"},{"$f":"+'Plan Indicativo (Productos)'!H140","v":"Planes de acción articulados"},{"$f":"+'Plan Indicativo (Productos)'!I140","v":"Número"},{"$f":"+'Plan Indicativo (Productos)'!J140","v":0},{"$f":"+'Plan Indicativo (Productos)'!K140","v":1},null,0.1,0.1,8226720,8226720]
[{"$f":"+'Plan Indicativo (Productos)'!A141","v":137},{"$f":"+'Plan Indicativo (Productos)'!B141","v":"Sociocultural  y espiritual"},{"$f":"+'Plan Indicativo (Productos)'!C141","v":41},{"$f":"+'Plan Indicativo (Productos)'!D141","v":"41. Inclusión Social y Reconciliación"},{"$f":"+'Plan Indicativo (Productos)'!E141","v":"4101"},{"$f":"+'Plan Indicativo (Productos)'!F141","v":"Atención, asistencia  y reparación integral a las víctimas"},{"$f":"+'Plan Indicativo (Productos)'!G141","v":"410110000"},{"$f":"+'Plan Indicativo (Productos)'!H141","v":"Hogares víctimas con atención humanitaria"},{"$f":"+'Plan Indicativo (Productos)'!I141","v":"Número"},{"$f":"+'Plan Indicativo (Productos)'!J141","v":18},{"$f":"+'Plan Indicativo (Productos)'!K141","v":72},null,12,14,8226720,8226720]
[{"$f":"+'Plan Indicativo (Productos)'!A142","v":138},{"$f":"+'Plan Indicativo (Productos)'!B142","v":"Sociocultural  y espiritual"},{"$f":"+'Plan Indicativo (Productos)'!C142","v":41},{"$f":"+'Plan Indicativo (Productos)'!D142","v":"41. Inclusión Social y Reconciliación"},{"$f":"+'Plan Indicativo (Productos)'!E142","v":"4101"},{"$f":"+'Plan Indicativo (Productos)'!F142","v":"Atención, asistencia  y reparación integral a las víctimas"},{"$f":"+'Plan Indicativo (Productos)'!G142","v":"410102300"},{"$f":"+'Plan Indicativo (Productos)'!H142","v":"Solicitudes tramitadas"},{"$f":"+'Plan Indicativo (Productos)'!I142","v":"Número"},{"$f":"+'Plan Indicativo (Productos)'!J142","v":0},{"$f":"+'Plan Indicativo (Productos)'!K142","v":5238},null,548,1000,8226720,8226720]
[{"$f":"+'Plan Indicativo (Productos)'!A143","v":139},{"$f":"+'Plan Indicativo (Productos)'!B143","v":"Sociocultural  y espiritual"},{"$f":"+'Plan Indicativo (Productos)'!C143","v":41},{"$f":"+'Plan Indicativo (Productos)'!D143","v":"41. Inclusión Social y Reconciliación"},{"$f":"+'Plan Indicativo (Productos)'!E143","v":"4101"},{"$f":"+'Plan Indicativo (Productos)'!F143","v":"Atención, asistencia  y reparación integral a las víctimas"},{"$f":"+'Plan Indicativo (Productos)'!G143","v":410101400},{"$f":"+'Plan Indicativo (Productos)'!H143","v":"Víctimas caracterizadas"},{"$f":"+'Plan Indicativo (Productos)'!I143","v":"Número"},{"$f":"+'Plan Indicativo (Productos)'!J143","v":228},{"$f":"+'Plan Indicativo (Productos)'!K143","v":799},null,199,199,8226720,8226720]
[{"$f":"+'Plan Indicativo (Productos)'!A144","v":140},{"$f":"+'Plan Indicativo (Productos)'!B144","v":"Sociocultural  y espiritual"},{"$f":"+'Plan Indicativo (Productos)'!C144","v":12},{"$f":"+'Plan Indicativo (Productos)'!D144","v":"12. Justicia y del Derecho"},{"$f":"+'Plan Indicativo (Productos)'!E144","v":"1204"},{"$f":"+'Plan Indicativo (Productos)'!F144","v":"Justicia transicional"},{"$f":"+'Plan Indicativo (Productos)'!G144","v":"120401600"},{"$f":"+'Plan Indicativo (Productos)'!H144","v":"Jornadas móviles de justicia transicional realizadas"},{"$f":"+'Plan Indicativo (Productos)'!I144","v":"Número"},{"$f":"+'Plan Indicativo (Productos)'!J144","v":4},{"$f":"+'Plan Indicativo (Productos)'!K144","v":8},null,2,4,20566800,20566800]
[{"$f":"+'Plan Indicativo (Productos)'!A145","v":141},{"$f":"+'Plan Indicativo (Productos)'!B145","v":"Sociocultural  y espiritual"},{"$f":"+'Plan Indicativo (Productos)'!C145","v":41},{"$f":"+'Plan Indicativo (Productos)'!D145","v":"41. Inclusión Social y Reconciliación"},{"$f":"+'Plan Indicativo (Productos)'!E145","v":"4104"},{"$f":"+'Plan Indicativo (Productos)'!F145","v":"Atención integral de población en situación permanente de desprotección social y/o familiar"},{"$f":"+'Plan Indicativo (Productos)'!G145","v":"410402600"},{"$f":"+'Plan Indicativo (Productos)'!H145","v":"Personas atendidas con oferta institucional"},{"$f":"+'Plan Indicativo (Productos)'!I145","v":"Número"},{"$f":"+'Plan Indicativo (Productos)'!J145","v":0},{"$f":"+'Plan Indicativo (Productos)'!K145","v":80},null,24,24,72169334,72169334]
[{"$f":"+'Plan Indicativo (Productos)'!A146","v":142},{"$f":"+'Plan Indicativo (Productos)'!B146","v":"Sociocultural  y espiritual"},{"$f":"+'Plan Indicativo (Productos)'!C146","v":41},{"$f":"+'Plan Indicativo (Productos)'!D146","v":"41. Inclusión Social y Reconciliación"},{"$f":"+'Plan Indicativo (Productos)'!E146","v":"4102"},{"$f":"+'Plan Indicativo (Productos)'!F146","v":"Desarrollo integral de la primera infancia a la juventud, y fortalecimiento de las capacidades de las familias de niñas, niños y adolescentes"},{"$f":"+'Plan Indicativo (Productos)'!G146","v":"410204200"},{"$f":"+'Plan Indicativo (Productos)'!H146","v":"Acciones ejecutadas con las comunidades"},{"$f":"+'Plan Indicativo (Productos)'!I146","v":"Número"},{"$f":"+'Plan Indicativo (Productos)'!J146","v":0},{"$f":"+'Plan Indicativo (Productos)'!K146","v":43},null,10,10,14433867,14433867]
[{"$f":"+'Plan Indicativo (Productos)'!A147","v":143},{"$f":"+'Plan Indicativo (Productos)'!B147","v":"Sociocultural  y espiritual"},{"$f":"+'Plan Indicativo (Productos)'!C147","v":41},{"$f":"+'Plan Indicativo (Productos)'!D147","v":"41. Inclusión Social y Reconciliación"},{"$f":"+'Plan Indicativo (Productos)'!E147","v":"4102"},{"$f":"+'Plan Indicativo (Productos)'!F147","v":"Desarrollo integral de la primera infancia a la juventud, y fortalecimiento de las capacidades de las familias de niñas, niños y adolescentes"},{"$f":"+'Plan Indicativo (Productos)'!G147","v":"410204600"},{"$f":"+'Plan Indicativo (Productos)'!H147","v":"Campañas de promoción realizadas"},{"$f":"+'Plan Indicativo (Productos)'!I147","v":"Número"},{"$f":"+'Plan Indicativo (Productos)'!J147","v":0},{"$f":"+'Plan Indicativo (Productos)'!K147","v":4},null,1,1,21650800,21650800]
[{"$f":"+'Plan Indicativo (Productos)'!A148","v":144},{"$f":"+'Plan Indicativo (Productos)'!B148","v":"Sociocultural  y espiritual"},{"$f":"+'Plan Indicativo (Productos)'!C148","v":45},{"$f":"+'Plan Indicativo (Productos)'!D148","v":"45. Gobierno Territorial"},{"$f":"+'Plan Indicativo (Productos)'!E148","v":"4599"},{"$f":"+'Plan Indicativo (Productos)'!F148","v":"Fortalecimiento a la gestión y dirección de la administración pública territorial"},{"$f":"+'Plan Indicativo (Productos)'!G148","v":"459900100"},{"$f":"+'Plan Indicativo (Productos)'!H148","v":"Documentos de evaluación elaborados"},{"$f":"+'Plan Indicativo (Productos)'!I148","v":"Número"},{"$f":"+'Plan Indicativo (Productos)'!J148","v":0},{"$f":"+'Plan Indicativo (Productos)'!K148","v":1},null,0.4,0,0,0]
[{"$f":"+'Plan Indicativo (Productos)'!A149","v":145},{"$f":"+'Plan Indicativo (Productos)'!B149","v":"Sociocultural  y espiritual"},{"$f":"+'Plan Indicativo (Productos)'!C149","v":45},{"$f":"+'Plan Indicativo (Productos)'!D149","v":"45. Gobierno Territorial"},{"$f":"+'Plan Indicativo (Productos)'!E149","v":"4502"},{"$f":"+'Plan Indicativo (Productos)'!F149","v":"Fortalecimiento del buen gobierno para el respeto y garantía de los derechos humanos"},{"$f":"+'Plan Indicativo (Productos)'!G149","v":"450203800"},{"$f":"+'Plan Indicativo (Productos)'!H149","v":"Estrategias de promoción de la garantía de derechos implementadas"},{"$f":"+'Plan Indicativo (Productos)'!I149","v":"Número"},{"$f":"+'Plan Indicativo (Productos)'!J149","v":0},{"$f":"+'Plan Indicativo (Productos)'!K149","v":4},null,1,1,33743259,33743259]
[{"$f":"+'Plan Indicativo (Productos)'!A150","v":146},{"$f":"+'Plan Indicativo (Productos)'!B150","v":"Sociocultural  y espiritual"},{"$f":"+'Plan Indicativo (Productos)'!C150","v":36},{"$f":"+'Plan Indicativo (Productos)'!D150","v":"36.  Trabajo"},{"$f":"+'Plan Indicativo (Productos)'!E150","v":"3601"},{"$f":"+'Plan Indicativo (Productos)'!F150","v":"Protección Social"},{"$f":"+'Plan Indicativo (Productos)'!G150","v":"360101000"},{"$f":"+'Plan Indicativo (Productos)'!H150","v":"Trámites realizados"},{"$f":"+'Plan Indicativo (Productos)'!I150","v":"Número"},{"$f":"+'Plan Indicativo (Productos)'!J150","v":463},{"$f":"+'Plan Indicativo (Productos)'!K150","v":543},null,85,60,0,0]
[{"$f":"+'Plan Indicativo (Productos)'!A151","v":147},{"$f":"+'Plan Indicativo (Productos)'!B151","v":"Sociocultural  y espiritual"},{"$f":"+'Plan Indicativo (Productos)'!C151","v":22},{"$f":"+'Plan Indicativo (Productos)'!D151","v":"22. Educación "},{"$f":"+'Plan Indicativo (Productos)'!E151","v":"2201"},{"$f":"+'Plan Indicativo (Productos)'!F151","v":"Calidad, cobertura y fortalecimiento de la educación inicial, prescolar, básica y media"},{"$f":"+'Plan Indicativo (Productos)'!G151","v":"220107500"},{"$f":"+'Plan Indicativo (Productos)'!H151","v":"Eventos de promoción y prevención de los derechos  realizados"},{"$f":"+'Plan Indicativo (Productos)'!I151","v":"Número"},{"$f":"+'Plan Indicativo (Productos)'!J151","v":0},{"$f":"+'Plan Indicativo (Productos)'!K151","v":96},null,24,24,29200555,29200555]
[{"$f":"+'Plan Indicativo (Productos)'!A152","v":148},{"$f":"+'Plan Indicativo (Productos)'!B152","v":"Sociocultural  y espiritual"},{"$f":"+'Plan Indicativo (Productos)'!C152","v":41},{"$f":"+'Plan Indicativo (Productos)'!D152","v":"41. Inclusión Social y Reconciliación"},{"$f":"+'Plan Indicativo (Productos)'!E152","v":"4102"},{"$f":"+'Plan Indicativo (Productos)'!F152","v":"Desarrollo integral de la primera infancia a la juventud, y fortalecimiento de las capacidades de las familias de niñas, niños y adolescentes"},{"$f":"+'Plan Indicativo (Productos)'!G152","v":"410204200"},{"$f":"+'Plan Indicativo (Productos)'!H152","v":"Acciones ejecutadas con las comunidades"},{"$f":"+'Plan Indicativo (Productos)'!I152","v":"Número"},{"$f":"+'Plan Indicativo (Productos)'!J152","v":0},{"$f":"+'Plan Indicativo (Productos)'!K152","v":48},null,12,12,5412700,5412700]
[{"$f":"+'Plan Indicativo (Productos)'!A153","v":149},{"$f":"+'Plan Indicativo (Productos)'!B153","v":"Sociocultural  y espiritual"},{"$f":"+'Plan Indicativo (Productos)'!C153","v":41},{"$f":"+'Plan Indicativo (Productos)'!D153","v":"41. Inclusión Social y Reconciliación"},{"$f":"+'Plan Indicativo (Productos)'!E153","v":"4102"},{"$f":"+'Plan Indicativo (Productos)'!F153","v":"Desarrollo integral de la primera infancia a la juventud, y fortalecimiento de las capacidades de las familias de niñas, niños y adolescentes"},{"$f":"+'Plan Indicativo (Productos)'!G153","v":"410204200"},{"$f":"+'Plan Indicativo (Productos)'!H153","v":"Acciones ejecutadas con las comunidades"},{"$f":"+'Plan Indicativo (Productos)'!I153","v":"Número"},{"$f":"+'Plan Indicativo (Productos)'!J153","v":4},{"$f":"+'Plan Indicativo (Productos)'!K153","v":16},null,4,4,14433867,14433867]
[{"$f":"+'Plan Indicativo (Productos)'!A154","v":150},{"$f":"+'Plan Indicativo (Productos)'!B154","v":"Sociocultural  y espiritual"},{"$f":"+'Plan Indicativo (Productos)'!C154","v":41},{"$f":"+'Plan Indicativo (Productos)'!D154","v":"41. Inclusión Social y Reconciliación"},{"$f":"+'Plan Indicativo (Productos)'!E154","v":"4102"},{"$f":"+'Plan Indicativo (Productos)'!F154","v":"Desarrollo integral de la primera infancia a la juventud, y fortalecimiento de las capacidades de las familias de niñas, niños y adolescentes"},{"$f":"+'Plan Indicativo (Productos)'!G154","v":"410204200"},{"$f":"+'Plan Indicativo (Productos)'!H154","v":"Acciones ejecutadas con las comunidades"},{"$f":"+'Plan Indicativo (Productos)'!I154","v":"Número"},{"$f":"+'Plan Indicativo (Productos)'!J154","v":0},{"$f":"+'Plan Indicativo (Productos)'!K154","v":48},null,12,12,5412700,5412700]
[{"$f":"+'Plan Indicativo (Productos)'!A155","v":151},{"$f":"+'Plan Indicativo (Productos)'!B155","v":"Sociocultural  y espiritual"},{"$f":"+'Plan Indicativo (Productos)'!C155","v":41},{"$f":"+'Plan Indicativo (Productos)'!D155","v":"41. Inclusión Social y Reconciliación"},{"$f":"+'Plan Indicativo (Productos)'!E155","v":"4102"},{"$f":"+'Plan Indicativo (Productos)'!F155","v":"Desarrollo integral de la primera infancia a la juventud, y fortalecimiento de las capacidades de las familias de niñas, niños y adolescentes"},{"$f":"+'Plan Indicativo (Productos)'!G155","v":"410205200"},{"$f":"+'Plan Indicativo (Productos)'!H155","v":"Niños, niñas, adolescentes y jóvenes beneficiados"},{"$f":"+'Plan Indicativo (Productos)'!I155","v":"Número"},{"$f":"+'Plan Indicativo (Productos)'!J155","v":0},{"$f":"+'Plan Indicativo (Productos)'!K155","v":13240},null,1990,3179,10825400,10825400]
[{"$f":"+'Plan Indicativo (Productos)'!A156","v":152},{"$f":"+'Plan Indicativo (Productos)'!B156","v":"Sociocultural  y espiritual"},{"$f":"+'Plan Indicativo (Productos)'!C156","v":45},{"$f":"+'Plan Indicativo (Productos)'!D156","v":"45. Gobierno Territorial"},{"$f":"+'Plan Indicativo (Productos)'!E156","v":"4502"},{"$f":"+'Plan Indicativo (Productos)'!F156","v":"Fortalecimiento del buen gobierno para el respeto y garantía de los derechos humanos"},{"$f":"+'Plan Indicativo (Productos)'!G156","v":"450200100"},{"$f":"+'Plan Indicativo (Productos)'!H156","v":"Espacios de participación promovidos"},{"$f":"+'Plan Indicativo (Productos)'!I156","v":"Número"},{"$f":"+'Plan Indicativo (Productos)'!J156","v":0},{"$f":"+'Plan Indicativo (Productos)'!K156","v":16},null,4,4,8435815,8435815]
[{"$f":"+'Plan Indicativo (Productos)'!A157","v":153},{"$f":"+'Plan Indicativo (Productos)'!B157","v":"Sociocultural  y espiritual"},{"$f":"+'Plan Indicativo (Productos)'!C157","v":45},{"$f":"+'Plan Indicativo (Productos)'!D157","v":"45. Gobierno Territorial"},{"$f":"+'Plan Indicativo (Productos)'!E157","v":"4502"},{"$f":"+'Plan Indicativo (Productos)'!F157","v":"Fortalecimiento del buen gobierno para el respeto y garantía de los derechos humanos"},{"$f":"+'Plan Indicativo (Productos)'!G157","v":"450200100"},{"$f":"+'Plan Indicativo (Productos)'!H157","v":"Espacios de participación promovidos"},{"$f":"+'Plan Indicativo (Productos)'!I157","v":"Número"},{"$f":"+'Plan Indicativo (Productos)'!J157","v":0},{"$f":"+'Plan Indicativo (Productos)'!K157","v":48},null,12,12,8435815,8435815]
[{"$f":"+'Plan Indicativo (Productos)'!A158","v":154},{"$f":"+'Plan Indicativo (Productos)'!B158","v":"Sociocultural  y espiritual"},{"$f":"+'Plan Indicativo (Productos)'!C158","v":45},{"$f":"+'Plan Indicativo (Productos)'!D158","v":"45. Gobierno Territorial"},{"$f":"+'Plan Indicativo (Productos)'!E158","v":"4502"},{"$f":"+'Plan Indicativo (Productos)'!F158","v":"Fortalecimiento del buen gobierno para el respeto y garantía de los derechos humanos"},{"$f":"+'Plan Indicativo (Productos)'!G158","v":"450203900"},{"$f":"+'Plan Indicativo (Productos)'!H158","v":"Personas y empresas beneficiadas"},{"$f":"+'Plan Indicativo (Productos)'!I158","v":"Número"},{"$f":"+'Plan Indicativo (Productos)'!J158","v":0},{"$f":"+'Plan Indicativo (Productos)'!K158","v":40},null,10,10,8435815,8435815]
[{"$f":"+'Plan Indicativo (Productos)'!A159","v":155},{"$f":"+'Plan Indicativo (Productos)'!B159","v":"Sociocultural  y espiritual"},{"$f":"+'Plan Indicativo (Productos)'!C159","v":45},{"$f":"+'Plan Indicativo (Productos)'!D159","v":"45. Gobierno Territorial"},{"$f":"+'Plan Indicativo (Productos)'!E159","v":"4502"},{"$f":"+'Plan Indicativo (Productos)'!F159","v":"Fortalecimiento del buen gobierno para el respeto y garantía de los derechos humanos"},{"$f":"+'Plan Indicativo (Productos)'!G159","v":"450203800"},{"$f":"+'Plan Indicativo (Productos)'!H159","v":"Estrategias de promoción de la garantía de derechos implementadas"},{"$f":"+'Plan Indicativo (Productos)'!I159","v":"Número"},{"$f":"+'Plan Indicativo (Productos)'!J159","v":0},{"$f":"+'Plan Indicativo (Productos)'!K159","v":40},null,10,11,8435815,8435815]
[{"$f":"+'Plan Indicativo (Productos)'!A160","v":156},{"$f":"+'Plan Indicativo (Productos)'!B160","v":"Sociocultural  y espiritual"},{"$f":"+'Plan Indicativo (Productos)'!C160","v":12},{"$f":"+'Plan Indicativo (Productos)'!D160","v":"12. Justicia y del Derecho"},{"$f":"+'Plan Indicativo (Productos)'!E160","v":"1202"},{"$f":"+'Plan Indicativo (Productos)'!F160","v":"Promoción al acceso a la justicia"},{"$f":"+'Plan Indicativo (Productos)'!G160","v":"120202000"},{"$f":"+'Plan Indicativo (Productos)'!H160","v":"Campañas de divulgación ejecutadas"},{"$f":"+'Plan Indicativo (Productos)'!I160","v":"Número"},{"$f":"+'Plan Indicativo (Productos)'!J160","v":0},{"$f":"+'Plan Indicativo (Productos)'!K160","v":48},null,12,8,29200555,29200555]
[{"$f":"+'Plan Indicativo (Productos)'!A161","v":157},{"$f":"+'Plan Indicativo (Productos)'!B161","v":"Sociocultural  y espiritual"},{"$f":"+'Plan Indicativo (Productos)'!C161","v":45},{"$f":"+'Plan Indicativo (Productos)'!D161","v":"45. Gobierno Territorial"},{"$f":"+'Plan Indicativo (Productos)'!E161","v":"4599"},{"$f":"+'Plan Indicativo (Productos)'!F161","v":"Fortalecimiento a la gestión y dirección de la administración pública territorial"},{"$f":"+'Plan Indicativo (Productos)'!G161","v":"459901900"},{"$f":"+'Plan Indicativo (Productos)'!H161","v":"Documentos de planeación realizados"},{"$f":"+'Plan Indicativo (Productos)'!I161","v":"Número"},{"$f":"+'Plan Indicativo (Productos)'!J161","v":0},{"$f":"+'Plan Indicativo (Productos)'!K161","v":1},null,0.1,0.1,200000000,200000000]
[{"$f":"+'Plan Indicativo (Productos)'!A162","v":158},{"$f":"+'Plan Indicativo (Productos)'!B162","v":"Sociocultural  y espiritual"},{"$f":"+'Plan Indicativo (Productos)'!C162","v":45},{"$f":"+'Plan Indicativo (Productos)'!D162","v":"45. Gobierno Territorial"},{"$f":"+'Plan Indicativo (Productos)'!E162","v":"4501"},{"$f":"+'Plan Indicativo (Productos)'!F162","v":"Fortalecimiento de la convivencia y la seguridad ciudadana"},{"$f":"+'Plan Indicativo (Productos)'!G162","v":"450106100"},{"$f":"+'Plan Indicativo (Productos)'!H162","v":"Animales atendidos"},{"$f":"+'Plan Indicativo (Productos)'!I162","v":"Número"},{"$f":"+'Plan Indicativo (Productos)'!J162","v":3870},{"$f":"+'Plan Indicativo (Productos)'!K162","v":4500},null,450,450,37510085,37510085]
[{"$f":"+'Plan Indicativo (Productos)'!A163","v":159},{"$f":"+'Plan Indicativo (Productos)'!B163","v":"Sociocultural  y espiritual"},{"$f":"+'Plan Indicativo (Productos)'!C163","v":45},{"$f":"+'Plan Indicativo (Productos)'!D163","v":"45. Gobierno Territorial"},{"$f":"+'Plan Indicativo (Productos)'!E163","v":"4501"},{"$f":"+'Plan Indicativo (Productos)'!F163","v":"Fortalecimiento de la convivencia y la seguridad ciudadana"},{"$f":"+'Plan Indicativo (Productos)'!G163","v":"450106100"},{"$f":"+'Plan Indicativo (Productos)'!H163","v":"Animales atendidos"},{"$f":"+'Plan Indicativo (Productos)'!I163","v":"Número"},{"$f":"+'Plan Indicativo (Productos)'!J163","v":969},{"$f":"+'Plan Indicativo (Productos)'!K163","v":1500},null,150,150,37510085,37510085]
[{"$f":"+'Plan Indicativo (Productos)'!A164","v":160},{"$f":"+'Plan Indicativo (Productos)'!B164","v":"Sociocultural  y espiritual"},{"$f":"+'Plan Indicativo (Productos)'!C164","v":45},{"$f":"+'Plan Indicativo (Productos)'!D164","v":"45. Gobierno Territorial"},{"$f":"+'Plan Indicativo (Productos)'!E164","v":"4501"},{"$f":"+'Plan Indicativo (Productos)'!F164","v":"Fortalecimiento de la convivencia y la seguridad ciudadana"},{"$f":"+'Plan Indicativo (Productos)'!G164","v":"450106100"},{"$f":"+'Plan Indicativo (Productos)'!H164","v":"Animales atendidos"},{"$f":"+'Plan Indicativo (Productos)'!I164","v":"Número"},{"$f":"+'Plan Indicativo (Productos)'!J164","v":260},{"$f":"+'Plan Indicativo (Productos)'!K164","v":400},null,40,40,18755042,18755042]
[{"$f":"+'Plan Indicativo (Productos)'!A165","v":161},{"$f":"+'Plan Indicativo (Productos)'!B165","v":"Sociocultural  y espiritual"},{"$f":"+'Plan Indicativo (Productos)'!C165","v":45},{"$f":"+'Plan Indicativo (Productos)'!D165","v":"45. Gobierno Territorial"},{"$f":"+'Plan Indicativo (Productos)'!E165","v":"4501"},{"$f":"+'Plan Indicativo (Productos)'!F165","v":"Fortalecimiento de la convivencia y la seguridad ciudadana"},{"$f":"+'Plan Indicativo (Productos)'!G165","v":"450106100"},{"$f":"+'Plan Indicativo (Productos)'!H165","v":"Animales atendidos"},{"$f":"+'Plan Indicativo (Productos)'!I165","v":"Número"},{"$f":"+'Plan Indicativo (Productos)'!J165","v":11000},{"$f":"+'Plan Indicativo (Productos)'!K165","v":12000},null,1200,1914,93775212,93775212]
[{"$f":"+'Plan Indicativo (Productos)'!A166","v":162},{"$f":"+'Plan Indicativo (Productos)'!B166","v":"Sociocultural  y espiritual"},{"$f":"+'Plan Indicativo (Productos)'!C166","v":45},{"$f":"+'Plan Indicativo (Productos)'!D166","v":"45. Gobierno Territorial"},{"$f":"+'Plan Indicativo (Productos)'!E166","v":"4599"},{"$f":"+'Plan Indicativo (Productos)'!F166","v":"Fortalecimiento a la gestión y dirección de la administración pública territorial"},{"$f":"+'Plan Indicativo (Productos)'!G166","v":"459901900"},{"$f":"+'Plan Indicativo (Productos)'!H166","v":"Documentos de planeación realizados"},{"$f":"+'Plan Indicativo (Productos)'!I166","v":"Número"},{"$f":"+'Plan Indicativo (Productos)'!J166","v":0},{"$f":"+'Plan Indicativo (Productos)'!K166","v":1},null,0.3,0.3,11611867,11611867]
[{"$f":"+'Plan Indicativo (Productos)'!A167","v":163},{"$f":"+'Plan Indicativo (Productos)'!B167","v":"Sociocultural  y espiritual"},{"$f":"+'Plan Indicativo (Productos)'!C167","v":32},{"$f":"+'Plan Indicativo (Productos)'!D167","v":"32. Ambiente y Desarrollo Sostenible"},{"$f":"+'Plan Indicativo (Productos)'!E167","v":3204},{"$f":"+'Plan Indicativo (Productos)'!F167","v":"Gestión de la información y el conocimiento ambiental"},{"$f":"+'Plan Indicativo (Productos)'!G167","v":"320404900"},{"$f":"+'Plan Indicativo (Productos)'!H167","v":"Documentos divulgados"},{"$f":"+'Plan Indicativo (Productos)'!I167","v":"Número"},{"$f":"+'Plan Indicativo (Productos)'!J167","v":14},{"$f":"+'Plan Indicativo (Productos)'!K167","v":48},null,12,3,212195572,212195572]
[{"$f":"+'Plan Indicativo (Productos)'!A168","v":164},{"$f":"+'Plan Indicativo (Productos)'!B168","v":"Económica"},{"$f":"+'Plan Indicativo (Productos)'!C168","v":36},{"$f":"+'Plan Indicativo (Productos)'!D168","v":"36.  Trabajo"},{"$f":"+'Plan Indicativo (Productos)'!E168","v":"3605"},{"$f":"+'Plan Indicativo (Productos)'!F168","v":"Fomento de la investigación, desarrollo tecnológico e innovación del sector trabajo"},{"$f":"+'Plan Indicativo (Productos)'!G168","v":"360501200"},{"$f":"+'Plan Indicativo (Productos)'!H168","v":"Estrategias implementadas"},{"$f":"+'Plan Indicativo (Productos)'!I168","v":"Número"},{"$f":"+'Plan Indicativo (Productos)'!J168","v":2},{"$f":"+'Plan Indicativo (Productos)'!K168","v":8},null,1,1,0,0]
[{"$f":"+'Plan Indicativo (Productos)'!A169","v":165},{"$f":"+'Plan Indicativo (Productos)'!B169","v":"Económica"},{"$f":"+'Plan Indicativo (Productos)'!C169","v":36},{"$f":"+'Plan Indicativo (Productos)'!D169","v":"36.  Trabajo"},{"$f":"+'Plan Indicativo (Productos)'!E169","v":"3605"},{"$f":"+'Plan Indicativo (Productos)'!F169","v":"Fomento de la investigación, desarrollo tecnológico e innovación del sector trabajo"},{"$f":"+'Plan Indicativo (Productos)'!G169","v":"360501200"},{"$f":"+'Plan Indicativo (Productos)'!H169","v":"Estrategias implementadas"},{"$f":"+'Plan Indicativo (Productos)'!I169","v":"Número"},{"$f":"+'Plan Indicativo (Productos)'!J169","v":2},{"$f":"+'Plan Indicativo (Productos)'!K169","v":10},null,2,2,0,0]
[{"$f":"+'Plan Indicativo (Productos)'!A170","v":166},{"$f":"+'Plan Indicativo (Productos)'!B170","v":"Económica"},{"$f":"+'Plan Indicativo (Productos)'!C170","v":45},{"$f":"+'Plan Indicativo (Productos)'!D170","v":"45. Gobierno Territorial"},{"$f":"+'Plan Indicativo (Productos)'!E170","v":"4501"},{"$f":"+'Plan Indicativo (Productos)'!F170","v":"Fortalecimiento de la convivencia y la seguridad ciudadana"},{"$f":"+'Plan Indicativo (Productos)'!G170","v":"450103100"},{"$f":"+'Plan Indicativo (Productos)'!H170","v":"Documentos normativos realizados"},{"$f":"+'Plan Indicativo (Productos)'!I170","v":"Número"},{"$f":"+'Plan Indicativo (Productos)'!J170","v":0},{"$f":"+'Plan Indicativo (Productos)'!K170","v":1},null,0.3,0.3,21186150,21186150]
[{"$f":"+'Plan Indicativo (Productos)'!A171","v":167},{"$f":"+'Plan Indicativo (Productos)'!B171","v":"Económica"},{"$f":"+'Plan Indicativo (Productos)'!C171","v":45},{"$f":"+'Plan Indicativo (Productos)'!D171","v":"45. Gobierno Territorial"},{"$f":"+'Plan Indicativo (Productos)'!E171","v":"4502"},{"$f":"+'Plan Indicativo (Productos)'!F171","v":"Fortalecimiento del buen gobierno para el respeto y garantía de los derechos humanos"},{"$f":"+'Plan Indicativo (Productos)'!G171","v":450203408},{"$f":"+'Plan Indicativo (Productos)'!H171","v":"Estrategias para el ejercicio de derechos desde un enfoque diferencial implementadas"},{"$f":"+'Plan Indicativo (Productos)'!I171","v":"Número"},{"$f":"+'Plan Indicativo (Productos)'!J171","v":22},{"$f":"+'Plan Indicativo (Productos)'!K171","v":50},null,5,5,44610733,44610733]
[{"$f":"+'Plan Indicativo (Productos)'!A172","v":168},{"$f":"+'Plan Indicativo (Productos)'!B172","v":"Económica"},{"$f":"+'Plan Indicativo (Productos)'!C172","v":45},{"$f":"+'Plan Indicativo (Productos)'!D172","v":"45. Gobierno Territorial"},{"$f":"+'Plan Indicativo (Productos)'!E172","v":"4502"},{"$f":"+'Plan Indicativo (Productos)'!F172","v":"Fortalecimiento del buen gobierno para el respeto y garantía de los derechos humanos"},{"$f":"+'Plan Indicativo (Productos)'!G172","v":"450203408"},{"$f":"+'Plan Indicativo (Productos)'!H172","v":"Estrategias para el ejercicio de derechos desde un enfoque diferencial implementadas"},{"$f":"+'Plan Indicativo (Productos)'!I172","v":"Número"},{"$f":"+'Plan Indicativo (Productos)'!J172","v":0},{"$f":"+'Plan Indicativo (Productos)'!K172","v":25},null,4,4,33458050,33458050]
[{"$f":"+'Plan Indicativo (Productos)'!A173","v":169},{"$f":"+'Plan Indicativo (Productos)'!B173","v":"Económica"},{"$f":"+'Plan Indicativo (Productos)'!C173","v":45},{"$f":"+'Plan Indicativo (Productos)'!D173","v":"45. Gobierno Territorial"},{"$f":"+'Plan Indicativo (Productos)'!E173","v":"4502"},{"$f":"+'Plan Indicativo (Productos)'!F173","v":"Fortalecimiento del buen gobierno para el respeto y garantía de los derechos humanos"},{"$f":"+'Plan Indicativo (Productos)'!G173","v":"450200100"},{"$f":"+'Plan Indicativo (Productos)'!H173","v":"Espacios de participación promovidos"},{"$f":"+'Plan Indicativo (Productos)'!I173","v":"Número"},{"$f":"+'Plan Indicativo (Productos)'!J173","v":0},{"$f":"+'Plan Indicativo (Productos)'!K173","v":16},null,4,4,33458050,33458050]
[{"$f":"+'Plan Indicativo (Productos)'!A174","v":170},{"$f":"+'Plan Indicativo (Productos)'!B174","v":"Económica"},{"$f":"+'Plan Indicativo (Productos)'!C174","v":36},{"$f":"+'Plan Indicativo (Productos)'!D174","v":"36.  Trabajo"},{"$f":"+'Plan Indicativo (Productos)'!E174","v":"3602"},{"$f":"+'Plan Indicativo (Productos)'!F174","v":"Generación y formalización del empleo"},{"$f":"+'Plan Indicativo (Productos)'!G174","v":"360203200"},{"$f":"+'Plan Indicativo (Productos)'!H174","v":"Emprendimientos asesorados"},{"$f":"+'Plan Indicativo (Productos)'!I174","v":"Número"},{"$f":"+'Plan Indicativo (Productos)'!J174","v":130},{"$f":"+'Plan Indicativo (Productos)'!K174","v":200},null,25,25,6907000,6907000]
[{"$f":"+'Plan Indicativo (Productos)'!A175","v":171},{"$f":"+'Plan Indicativo (Productos)'!B175","v":"Económica"},{"$f":"+'Plan Indicativo (Productos)'!C175","v":36},{"$f":"+'Plan Indicativo (Productos)'!D175","v":"36.  Trabajo"},{"$f":"+'Plan Indicativo (Productos)'!E175","v":"3602"},{"$f":"+'Plan Indicativo (Productos)'!F175","v":"Generación y formalización del empleo"},{"$f":"+'Plan Indicativo (Productos)'!G175","v":"360203200"},{"$f":"+'Plan Indicativo (Productos)'!H175","v":"Emprendimientos asesorados"},{"$f":"+'Plan Indicativo (Productos)'!I175","v":"Número"},{"$f":"+'Plan Indicativo (Productos)'!J175","v":0},{"$f":"+'Plan Indicativo (Productos)'!K175","v":15},null,2,2,11051200,11051200]
[{"$f":"+'Plan Indicativo (Productos)'!A176","v":172},{"$f":"+'Plan Indicativo (Productos)'!B176","v":"Económica"},{"$f":"+'Plan Indicativo (Productos)'!C176","v":36},{"$f":"+'Plan Indicativo (Productos)'!D176","v":"36.  Trabajo"},{"$f":"+'Plan Indicativo (Productos)'!E176","v":"3602"},{"$f":"+'Plan Indicativo (Productos)'!F176","v":"Generación y formalización del empleo"},{"$f":"+'Plan Indicativo (Productos)'!G176","v":"360203201"},{"$f":"+'Plan Indicativo (Productos)'!H176","v":"Emprendimientos fortalecidos"},{"$f":"+'Plan Indicativo (Productos)'!I176","v":"Número"},{"$f":"+'Plan Indicativo (Productos)'!J176","v":19},{"$f":"+'Plan Indicativo (Productos)'!K176","v":200},null,25,25,9669800,9669800]
[{"$f":"+'Plan Indicativo (Productos)'!A177","v":173},{"$f":"+'Plan Indicativo (Productos)'!B177","v":"Económica"},{"$f":"+'Plan Indicativo (Productos)'!C177","v":35},{"$f":"+'Plan Indicativo (Productos)'!D177","v":"35. Comercio, Industria y Turismo"},{"$f":"+'Plan Indicativo (Productos)'!E177","v":"3502"},{"$f":"+'Plan Indicativo (Productos)'!F177","v":"Productividad y competitividad de las empresas colombianas"},{"$f":"+'Plan Indicativo (Productos)'!G177","v":"350200200"},{"$f":"+'Plan Indicativo (Productos)'!H177","v":"Documentos de lineamientos técnicos elaborados"},{"$f":"+'Plan Indicativo (Productos)'!I177","v":"Número"},{"$f":"+'Plan Indicativo (Productos)'!J177","v":0},{"$f":"+'Plan Indicativo (Productos)'!K177","v":1},null,0.1,0.1,324552271,324552271]
[{"$f":"+'Plan Indicativo (Productos)'!A178","v":174},{"$f":"+'Plan Indicativo (Productos)'!B178","v":"Económica"},{"$f":"+'Plan Indicativo (Productos)'!C178","v":35},{"$f":"+'Plan Indicativo (Productos)'!D178","v":"35. Comercio, Industria y Turismo"},{"$f":"+'Plan Indicativo (Productos)'!E178","v":"3502"},{"$f":"+'Plan Indicativo (Productos)'!F178","v":"Productividad y competitividad de las empresas colombianas"},{"$f":"+'Plan Indicativo (Productos)'!G178","v":"350200900"},{"$f":"+'Plan Indicativo (Productos)'!H178","v":"Unidades productivas  beneficiadas en la implementación de estrategias para incrementar su productividad "},{"$f":"+'Plan Indicativo (Productos)'!I178","v":"Número"},{"$f":"+'Plan Indicativo (Productos)'!J178","v":78},{"$f":"+'Plan Indicativo (Productos)'!K178","v":320},null,50,50,33458050,33458050]
[{"$f":"+'Plan Indicativo (Productos)'!A179","v":175},{"$f":"+'Plan Indicativo (Productos)'!B179","v":"Económica"},{"$f":"+'Plan Indicativo (Productos)'!C179","v":35},{"$f":"+'Plan Indicativo (Productos)'!D179","v":"35. Comercio, Industria y Turismo"},{"$f":"+'Plan Indicativo (Productos)'!E179","v":"3502"},{"$f":"+'Plan Indicativo (Productos)'!F179","v":"Productividad y competitividad de las empresas colombianas"},{"$f":"+'Plan Indicativo (Productos)'!G179","v":"350201100"},{"$f":"+'Plan Indicativo (Productos)'!H179","v":"Personas formadas en habilidades y competencias "},{"$f":"+'Plan Indicativo (Productos)'!I179","v":"Número"},{"$f":"+'Plan Indicativo (Productos)'!J179","v":0},{"$f":"+'Plan Indicativo (Productos)'!K179","v":80},null,20,20,22305367,22305367]
[{"$f":"+'Plan Indicativo (Productos)'!A180","v":176},{"$f":"+'Plan Indicativo (Productos)'!B180","v":"Económica"},{"$f":"+'Plan Indicativo (Productos)'!C180","v":35},{"$f":"+'Plan Indicativo (Productos)'!D180","v":"35. Comercio, Industria y Turismo"},{"$f":"+'Plan Indicativo (Productos)'!E180","v":"3502"},{"$f":"+'Plan Indicativo (Productos)'!F180","v":"Productividad y competitividad de las empresas colombianas"},{"$f":"+'Plan Indicativo (Productos)'!G180","v":"350204600"},{"$f":"+'Plan Indicativo (Productos)'!H180","v":"Campañas realizadas"},{"$f":"+'Plan Indicativo (Productos)'!I180","v":"Número"},{"$f":"+'Plan Indicativo (Productos)'!J180","v":0},{"$f":"+'Plan Indicativo (Productos)'!K180","v":32},null,8,6,55763417,55763417]
[{"$f":"+'Plan Indicativo (Productos)'!A181","v":177},{"$f":"+'Plan Indicativo (Productos)'!B181","v":"Económica"},{"$f":"+'Plan Indicativo (Productos)'!C181","v":17},{"$f":"+'Plan Indicativo (Productos)'!D181","v":"17. Agricultura y desarrollo rural"},{"$f":"+'Plan Indicativo (Productos)'!E181","v":"1708"},{"$f":"+'Plan Indicativo (Productos)'!F181","v":"Ciencia, tecnología e innovación agropecuaria"},{"$f":"+'Plan Indicativo (Productos)'!G181","v":"170804100"},{"$f":"+'Plan Indicativo (Productos)'!H181","v":"Productores atendidos con servicio de extensión agropecuaria"},{"$f":"+'Plan Indicativo (Productos)'!I181","v":"Número"},{"$f":"+'Plan Indicativo (Productos)'!J181","v":530},{"$f":"+'Plan Indicativo (Productos)'!K181","v":800},null,200,220,140080684,140080684]
[{"$f":"+'Plan Indicativo (Productos)'!A182","v":178},{"$f":"+'Plan Indicativo (Productos)'!B182","v":"Económica"},{"$f":"+'Plan Indicativo (Productos)'!C182","v":17},{"$f":"+'Plan Indicativo (Productos)'!D182","v":"17. Agricultura y desarrollo rural"},{"$f":"+'Plan Indicativo (Productos)'!E182","v":"1702"},{"$f":"+'Plan Indicativo (Productos)'!F182","v":"Inclusión productiva de pequeños productores rurales"},{"$f":"+'Plan Indicativo (Productos)'!G182","v":"170201800"},{"$f":"+'Plan Indicativo (Productos)'!H182","v":"Documentos de lineamientos técnicos elaborados"},{"$f":"+'Plan Indicativo (Productos)'!I182","v":"Número"},{"$f":"+'Plan Indicativo (Productos)'!J182","v":0},{"$f":"+'Plan Indicativo (Productos)'!K182","v":1},null,0.4,0.4,163427464,163427464]
[{"$f":"+'Plan Indicativo (Productos)'!A183","v":179},{"$f":"+'Plan Indicativo (Productos)'!B183","v":"Económica"},{"$f":"+'Plan Indicativo (Productos)'!C183","v":17},{"$f":"+'Plan Indicativo (Productos)'!D183","v":"17. Agricultura y desarrollo rural"},{"$f":"+'Plan Indicativo (Productos)'!E183","v":"1702"},{"$f":"+'Plan Indicativo (Productos)'!F183","v":"Inclusión productiva de pequeños productores rurales"},{"$f":"+'Plan Indicativo (Productos)'!G183","v":"170201000"},{"$f":"+'Plan Indicativo (Productos)'!H183","v":"Pequeños productores rurales asistidos técnicamente"},{"$f":"+'Plan Indicativo (Productos)'!I183","v":"Número"},{"$f":"+'Plan Indicativo (Productos)'!J183","v":240},{"$f":"+'Plan Indicativo (Productos)'!K183","v":960},null,240,220,81713732,81713732]
[{"$f":"+'Plan Indicativo (Productos)'!A184","v":180},{"$f":"+'Plan Indicativo (Productos)'!B184","v":"Económica"},{"$f":"+'Plan Indicativo (Productos)'!C184","v":17},{"$f":"+'Plan Indicativo (Productos)'!D184","v":"17. Agricultura y desarrollo rural"},{"$f":"+'Plan Indicativo (Productos)'!E184","v":"1702"},{"$f":"+'Plan Indicativo (Productos)'!F184","v":"Inclusión productiva de pequeños productores rurales"},{"$f":"+'Plan Indicativo (Productos)'!G184","v":170200701},{"$f":"+'Plan Indicativo (Productos)'!H184","v":"Pequeños productores apoyados"},{"$f":"+'Plan Indicativo (Productos)'!I184","v":"Número"},{"$f":"+'Plan Indicativo (Productos)'!J184","v":20},{"$f":"+'Plan Indicativo (Productos)'!K184","v":200},null,50,50,81713732,81713732]
[{"$f":"+'Plan Indicativo (Productos)'!A185","v":181},{"$f":"+'Plan Indicativo (Productos)'!B185","v":"Económica"},{"$f":"+'Plan Indicativo (Productos)'!C185","v":17},{"$f":"+'Plan Indicativo (Productos)'!D185","v":"17. Agricultura y desarrollo rural"},{"$f":"+'Plan Indicativo (Productos)'!E185","v":"1707"},{"$f":"+'Plan Indicativo (Productos)'!F185","v":"Sanidad agropecuaria e inocuidad agroalimentaria"},{"$f":"+'Plan Indicativo (Productos)'!G185","v":"170706901"},{"$f":"+'Plan Indicativo (Productos)'!H185","v":"Asistentes informados"},{"$f":"+'Plan Indicativo (Productos)'!I185","v":"Número"},{"$f":"+'Plan Indicativo (Productos)'!J185","v":0},{"$f":"+'Plan Indicativo (Productos)'!K185","v":16},null,4,4,96447707,96447707]
[{"$f":"+'Plan Indicativo (Productos)'!A186","v":182},{"$f":"+'Plan Indicativo (Productos)'!B186","v":"Económica"},{"$f":"+'Plan Indicativo (Productos)'!C186","v":32},{"$f":"+'Plan Indicativo (Productos)'!D186","v":"32. Ambiente y Desarrollo Sostenible"},{"$f":"+'Plan Indicativo (Productos)'!E186","v":"3201"},{"$f":"+'Plan Indicativo (Productos)'!F186","v":"Fortalecimiento del desempeño ambiental de los sectores productivos"},{"$f":"+'Plan Indicativo (Productos)'!G186","v":"320101500"},{"$f":"+'Plan Indicativo (Productos)'!H186","v":"Documentos de lineamientos técnicos para  promover la gestión sostenible del suelo elaborados "},{"$f":"+'Plan Indicativo (Productos)'!I186","v":"Número"},{"$f":"+'Plan Indicativo (Productos)'!J186","v":0},{"$f":"+'Plan Indicativo (Productos)'!K186","v":2},null,0,0,0,0]
[{"$f":"+'Plan Indicativo (Productos)'!A187","v":183},{"$f":"+'Plan Indicativo (Productos)'!B187","v":"Económica"},{"$f":"+'Plan Indicativo (Productos)'!C187","v":24},{"$f":"+'Plan Indicativo (Productos)'!D187","v":"24. Transporte"},{"$f":"+'Plan Indicativo (Productos)'!E187","v":"2402"},{"$f":"+'Plan Indicativo (Productos)'!F187","v":"Infraestructura red vial regional"},{"$f":"+'Plan Indicativo (Productos)'!G187","v":240204100},{"$f":"+'Plan Indicativo (Productos)'!H187","v":"Vía terciaria mejorada"},{"$f":"+'Plan Indicativo (Productos)'!I187","v":"Kilómetros"},{"$f":"+'Plan Indicativo (Productos)'!J187","v":0.1},{"$f":"+'Plan Indicativo (Productos)'!K187","v":6},null,0,0,0,0]
[{"$f":"+'Plan Indicativo (Productos)'!A188","v":184},{"$f":"+'Plan Indicativo (Productos)'!B188","v":"Económica"},{"$f":"+'Plan Indicativo (Productos)'!C188","v":40},{"$f":"+'Plan Indicativo (Productos)'!D188","v":"40. Vivienda, Ciudad y Territorio"},{"$f":"+'Plan Indicativo (Productos)'!E188","v":"4002"},{"$f":"+'Plan Indicativo (Productos)'!F188","v":"Ordenamiento territorial y desarrollo urbano"},{"$f":"+'Plan Indicativo (Productos)'!G188","v":"400203400"},{"$f":"+'Plan Indicativo (Productos)'!H188","v":"Estudios o diseños realizados "},{"$f":"+'Plan Indicativo (Productos)'!I188","v":"Número"},{"$f":"+'Plan Indicativo (Productos)'!J188","v":0},{"$f":"+'Plan Indicativo (Productos)'!K188","v":1},null,0,0,0,0]
[{"$f":"+'Plan Indicativo (Productos)'!A189","v":185},{"$f":"+'Plan Indicativo (Productos)'!B189","v":"Económica"},{"$f":"+'Plan Indicativo (Productos)'!C189","v":40},{"$f":"+'Plan Indicativo (Productos)'!D189","v":"40. Vivienda, Ciudad y Territorio"},{"$f":"+'Plan Indicativo (Productos)'!E189","v":"4002"},{"$f":"+'Plan Indicativo (Productos)'!F189","v":"Ordenamiento territorial y desarrollo urbano"},{"$f":"+'Plan Indicativo (Productos)'!G189","v":"400203400"},{"$f":"+'Plan Indicativo (Productos)'!H189","v":"Estudios o diseños realizados "},{"$f":"+'Plan Indicativo (Productos)'!I189","v":"Número"},{"$f":"+'Plan Indicativo (Productos)'!J189","v":0},{"$f":"+'Plan Indicativo (Productos)'!K189","v":1},null,0,0]
[{"$f":"+'Plan Indicativo (Productos)'!A190","v":186},{"$f":"+'Plan Indicativo (Productos)'!B190","v":"Económica"},{"$f":"+'Plan Indicativo (Productos)'!C190","v":40},{"$f":"+'Plan Indicativo (Productos)'!D190","v":"40. Vivienda, Ciudad y Territorio"},{"$f":"+'Plan Indicativo (Productos)'!E190","v":"4002"},{"$f":"+'Plan Indicativo (Productos)'!F190","v":"Ordenamiento territorial y desarrollo urbano"},{"$f":"+'Plan Indicativo (Productos)'!G190","v":"400203400"},{"$f":"+'Plan Indicativo (Productos)'!H190","v":"Estudios o diseños realizados "},{"$f":"+'Plan Indicativo (Productos)'!I190","v":"Número"},{"$f":"+'Plan Indicativo (Productos)'!J190","v":0},{"$f":"+'Plan Indicativo (Productos)'!K190","v":1},null,0,0]
[{"$f":"+'Plan Indicativo (Productos)'!A191","v":187},{"$f":"+'Plan Indicativo (Productos)'!B191","v":"Económica"},{"$f":"+'Plan Indicativo (Productos)'!C191","v":40},{"$f":"+'Plan Indicativo (Productos)'!D191","v":"40. Vivienda, Ciudad y Territorio"},{"$f":"+'Plan Indicativo (Productos)'!E191","v":"4002"},{"$f":"+'Plan Indicativo (Productos)'!F191","v":"Ordenamiento territorial y desarrollo urbano"},{"$f":"+'Plan Indicativo (Productos)'!G191","v":"400203400"},{"$f":"+'Plan Indicativo (Productos)'!H191","v":"Estudios o diseños realizados "},{"$f":"+'Plan Indicativo (Productos)'!I191","v":"Número"},{"$f":"+'Plan Indicativo (Productos)'!J191","v":0},{"$f":"+'Plan Indicativo (Productos)'!K191","v":1},null,0,0]
[{"$f":"+'Plan Indicativo (Productos)'!A192","v":188},{"$f":"+'Plan Indicativo (Productos)'!B192","v":"Económica"},{"$f":"+'Plan Indicativo (Productos)'!C192","v":40},{"$f":"+'Plan Indicativo (Productos)'!D192","v":"40. Vivienda, Ciudad y Territorio"},{"$f":"+'Plan Indicativo (Productos)'!E192","v":"4002"},{"$f":"+'Plan Indicativo (Productos)'!F192","v":"Ordenamiento territorial y desarrollo urbano"},{"$f":"+'Plan Indicativo (Productos)'!G192","v":"400203400"},{"$f":"+'Plan Indicativo (Productos)'!H192","v":"Estudios o diseños realizados "},{"$f":"+'Plan Indicativo (Productos)'!I192","v":"Número"},{"$f":"+'Plan Indicativo (Productos)'!J192","v":1},{"$f":"+'Plan Indicativo (Productos)'!K192","v":6},null,0,0]
[{"$f":"+'Plan Indicativo (Productos)'!A193","v":189},{"$f":"+'Plan Indicativo (Productos)'!B193","v":"Económica"},{"$f":"+'Plan Indicativo (Productos)'!C193","v":40},{"$f":"+'Plan Indicativo (Productos)'!D193","v":"40. Vivienda, Ciudad y Territorio"},{"$f":"+'Plan Indicativo (Productos)'!E193","v":"4002"},{"$f":"+'Plan Indicativo (Productos)'!F193","v":"Ordenamiento territorial y desarrollo urbano"},{"$f":"+'Plan Indicativo (Productos)'!G193","v":"400203400"},{"$f":"+'Plan Indicativo (Productos)'!H193","v":"Estudios o diseños realizados "},{"$f":"+'Plan Indicativo (Productos)'!I193","v":"Número"},{"$f":"+'Plan Indicativo (Productos)'!J193","v":0},{"$f":"+'Plan Indicativo (Productos)'!K193","v":1},null,0,0]
[{"$f":"+'Plan Indicativo (Productos)'!A194","v":190},{"$f":"+'Plan Indicativo (Productos)'!B194","v":"Económica"},{"$f":"+'Plan Indicativo (Productos)'!C194","v":40},{"$f":"+'Plan Indicativo (Productos)'!D194","v":"40. Vivienda, Ciudad y Territorio"},{"$f":"+'Plan Indicativo (Productos)'!E194","v":"4002"},{"$f":"+'Plan Indicativo (Productos)'!F194","v":"Ordenamiento territorial y desarrollo urbano"},{"$f":"+'Plan Indicativo (Productos)'!G194","v":"400203400"},{"$f":"+'Plan Indicativo (Productos)'!H194","v":"Estudios o diseños realizados "},{"$f":"+'Plan Indicativo (Productos)'!I194","v":"Número"},{"$f":"+'Plan Indicativo (Productos)'!J194","v":0},{"$f":"+'Plan Indicativo (Productos)'!K194","v":1},null,0,0]
[{"$f":"+'Plan Indicativo (Productos)'!A195","v":191},{"$f":"+'Plan Indicativo (Productos)'!B195","v":"Económica"},{"$f":"+'Plan Indicativo (Productos)'!C195","v":40},{"$f":"+'Plan Indicativo (Productos)'!D195","v":"40. Vivienda, Ciudad y Territorio"},{"$f":"+'Plan Indicativo (Productos)'!E195","v":"4002"},{"$f":"+'Plan Indicativo (Productos)'!F195","v":"Ordenamiento territorial y desarrollo urbano"},{"$f":"+'Plan Indicativo (Productos)'!G195","v":"400203400"},{"$f":"+'Plan Indicativo (Productos)'!H195","v":"Estudios o diseños realizados "},{"$f":"+'Plan Indicativo (Productos)'!I195","v":"Número"},{"$f":"+'Plan Indicativo (Productos)'!J195","v":0},{"$f":"+'Plan Indicativo (Productos)'!K195","v":1},null,0,0]
[{"$f":"+'Plan Indicativo (Productos)'!A196","v":192},{"$f":"+'Plan Indicativo (Productos)'!B196","v":"Económica"},{"$f":"+'Plan Indicativo (Productos)'!C196","v":40},{"$f":"+'Plan Indicativo (Productos)'!D196","v":"40. Vivienda, Ciudad y Territorio"},{"$f":"+'Plan Indicativo (Productos)'!E196","v":"4002"},{"$f":"+'Plan Indicativo (Productos)'!F196","v":"Ordenamiento territorial y desarrollo urbano"},{"$f":"+'Plan Indicativo (Productos)'!G196","v":"400201600"},{"$f":"+'Plan Indicativo (Productos)'!H196","v":"Documentos de planeación elaborados"},{"$f":"+'Plan Indicativo (Productos)'!I196","v":"Número"},{"$f":"+'Plan Indicativo (Productos)'!J196","v":0},{"$f":"+'Plan Indicativo (Productos)'!K196","v":1},null,0.3,0.3]
[{"$f":"+'Plan Indicativo (Productos)'!A197","v":193},{"$f":"+'Plan Indicativo (Productos)'!B197","v":"Económica"},{"$f":"+'Plan Indicativo (Productos)'!C197","v":40},{"$f":"+'Plan Indicativo (Productos)'!D197","v":"40. Vivienda, Ciudad y Territorio"},{"$f":"+'Plan Indicativo (Productos)'!E197","v":"4002"},{"$f":"+'Plan Indicativo (Productos)'!F197","v":"Ordenamiento territorial y desarrollo urbano"},{"$f":"+'Plan Indicativo (Productos)'!G197","v":"400201300"},{"$f":"+'Plan Indicativo (Productos)'!H197","v":"Proyectos apoyados financieramente en Mejoramiento Integral de Barrios"},{"$f":"+'Plan Indicativo (Productos)'!I197","v":"Número"},{"$f":"+'Plan Indicativo (Productos)'!J197","v":0},{"$f":"+'Plan Indicativo (Productos)'!K197","v":2},null,0,0]
[{"$f":"+'Plan Indicativo (Productos)'!A198","v":194},{"$f":"+'Plan Indicativo (Productos)'!B198","v":"Económica"},{"$f":"+'Plan Indicativo (Productos)'!C198","v":35},{"$f":"+'Plan Indicativo (Productos)'!D198","v":"35. Comercio, Industria y Turismo"},{"$f":"+'Plan Indicativo (Productos)'!E198","v":"3502"},{"$f":"+'Plan Indicativo (Productos)'!F198","v":"Productividad y competitividad de las empresas colombianas"},{"$f":"+'Plan Indicativo (Productos)'!G198","v":"350200900"},{"$f":"+'Plan Indicativo (Productos)'!H198","v":"Unidades productivas  beneficiadas en la implementación de estrategias para incrementar su productividad "},{"$f":"+'Plan Indicativo (Productos)'!I198","v":"Número"},{"$f":"+'Plan Indicativo (Productos)'!J198","v":0},{"$f":"+'Plan Indicativo (Productos)'!K198","v":4},null,1,1,91867666,91867666]
[{"$f":"+'Plan Indicativo (Productos)'!A199","v":195},{"$f":"+'Plan Indicativo (Productos)'!B199","v":"Económica"},{"$f":"+'Plan Indicativo (Productos)'!C199","v":24},{"$f":"+'Plan Indicativo (Productos)'!D199","v":"24. Transporte"},{"$f":"+'Plan Indicativo (Productos)'!E199","v":"2402"},{"$f":"+'Plan Indicativo (Productos)'!F199","v":"Infraestructura red vial regional"},{"$f":"+'Plan Indicativo (Productos)'!G199","v":"240200600"},{"$f":"+'Plan Indicativo (Productos)'!H199","v":"Vía secundaria mejorada"},{"$f":"+'Plan Indicativo (Productos)'!I199","v":"Kilómetros"},{"$f":"+'Plan Indicativo (Productos)'!J199","v":2.5},{"$f":"+'Plan Indicativo (Productos)'!K199","v":2},null,0.1,0.1,41986765,41986765]
[{"$f":"+'Plan Indicativo (Productos)'!A200","v":196},{"$f":"+'Plan Indicativo (Productos)'!B200","v":"Económica"},{"$f":"+'Plan Indicativo (Productos)'!C200","v":24},{"$f":"+'Plan Indicativo (Productos)'!D200","v":"24. Transporte"},{"$f":"+'Plan Indicativo (Productos)'!E200","v":"2402"},{"$f":"+'Plan Indicativo (Productos)'!F200","v":"Infraestructura red vial regional"},{"$f":"+'Plan Indicativo (Productos)'!G200","v":"240200600"},{"$f":"+'Plan Indicativo (Productos)'!H200","v":"Vía secundaria mejorada"},{"$f":"+'Plan Indicativo (Productos)'!I200","v":"Kilómetros"},{"$f":"+'Plan Indicativo (Productos)'!J200","v":0},{"$f":"+'Plan Indicativo (Productos)'!K200","v":1.5},null,0.05,0.05,83973530,83973530]
[{"$f":"+'Plan Indicativo (Productos)'!A201","v":197},{"$f":"+'Plan Indicativo (Productos)'!B201","v":"Económica"},{"$f":"+'Plan Indicativo (Productos)'!C201","v":24},{"$f":"+'Plan Indicativo (Productos)'!D201","v":"24. Transporte"},{"$f":"+'Plan Indicativo (Productos)'!E201","v":"2402"},{"$f":"+'Plan Indicativo (Productos)'!F201","v":"Infraestructura red vial regional"},{"$f":"+'Plan Indicativo (Productos)'!G201","v":"240200600"},{"$f":"+'Plan Indicativo (Productos)'!H201","v":"Vía secundaria mejorada"},{"$f":"+'Plan Indicativo (Productos)'!I201","v":"Kilómetros"},{"$f":"+'Plan Indicativo (Productos)'!J201","v":0},{"$f":"+'Plan Indicativo (Productos)'!K201","v":1},null,0.05,0.05,41986765,41986765]
[{"$f":"+'Plan Indicativo (Productos)'!A202","v":198},{"$f":"+'Plan Indicativo (Productos)'!B202","v":"Económica"},{"$f":"+'Plan Indicativo (Productos)'!C202","v":24},{"$f":"+'Plan Indicativo (Productos)'!D202","v":"24. Transporte"},{"$f":"+'Plan Indicativo (Productos)'!E202","v":2402},{"$f":"+'Plan Indicativo (Productos)'!F202","v":"Infraestructura red vial regional"},{"$f":"+'Plan Indicativo (Productos)'!G202","v":"240204100"},{"$f":"+'Plan Indicativo (Productos)'!H202","v":"Vía terciaria mejorada"},{"$f":"+'Plan Indicativo (Productos)'!I202","v":"Kilómetros"},{"$f":"+'Plan Indicativo (Productos)'!J202","v":0},{"$f":"+'Plan Indicativo (Productos)'!K202","v":6},null,0.05,0.05,125960295,125960295]
[{"$f":"+'Plan Indicativo (Productos)'!A203","v":199},{"$f":"+'Plan Indicativo (Productos)'!B203","v":"Económica"},{"$f":"+'Plan Indicativo (Productos)'!C203","v":24},{"$f":"+'Plan Indicativo (Productos)'!D203","v":"24. Transporte"},{"$f":"+'Plan Indicativo (Productos)'!E203","v":"2402"},{"$f":"+'Plan Indicativo (Productos)'!F203","v":"Infraestructura red vial regional"},{"$f":"+'Plan Indicativo (Productos)'!G203","v":"240200100"},{"$f":"+'Plan Indicativo (Productos)'!H203","v":"Vía secundaria construida "},{"$f":"+'Plan Indicativo (Productos)'!I203","v":"Kilómetros"},{"$f":"+'Plan Indicativo (Productos)'!J203","v":0},{"$f":"+'Plan Indicativo (Productos)'!K203","v":1},null,0.05,0.05,209933825,209933825]
[{"$f":"+'Plan Indicativo (Productos)'!A204","v":200},{"$f":"+'Plan Indicativo (Productos)'!B204","v":"Económica"},{"$f":"+'Plan Indicativo (Productos)'!C204","v":24},{"$f":"+'Plan Indicativo (Productos)'!D204","v":"24. Transporte"},{"$f":"+'Plan Indicativo (Productos)'!E204","v":"2402"},{"$f":"+'Plan Indicativo (Productos)'!F204","v":"Infraestructura red vial regional"},{"$f":"+'Plan Indicativo (Productos)'!G204","v":"240211400"},{"$f":"+'Plan Indicativo (Productos)'!H204","v":"Vía urbana mejorada "},{"$f":"+'Plan Indicativo (Productos)'!I204","v":"Kilómetros"},{"$f":"+'Plan Indicativo (Productos)'!J204","v":0},{"$f":"+'Plan Indicativo (Productos)'!K204","v":1.5},null,0.05,0.05,41986765,41986765]
[{"$f":"+'Plan Indicativo (Productos)'!A205","v":201},{"$f":"+'Plan Indicativo (Productos)'!B205","v":"Económica"},{"$f":"+'Plan Indicativo (Productos)'!C205","v":25},{"$f":"+'Plan Indicativo (Productos)'!D205","v":"25. Organismos de Contro"},{"$f":"+'Plan Indicativo (Productos)'!E205","v":"2402"},{"$f":"+'Plan Indicativo (Productos)'!F205","v":"Infraestructura red vial regional"},{"$f":"+'Plan Indicativo (Productos)'!G205","v":"240211400"},{"$f":"+'Plan Indicativo (Productos)'!H205","v":"Vía urbana mejorada "},{"$f":"+'Plan Indicativo (Productos)'!I205","v":"Kilómetros"},{"$f":"+'Plan Indicativo (Productos)'!J205","v":0},{"$f":"+'Plan Indicativo (Productos)'!K205","v":1},null,0,0,41986765,41986765]
[{"$f":"+'Plan Indicativo (Productos)'!A206","v":202},{"$f":"+'Plan Indicativo (Productos)'!B206","v":"Económica"},{"$f":"+'Plan Indicativo (Productos)'!C206","v":24},{"$f":"+'Plan Indicativo (Productos)'!D206","v":"24. Transporte"},{"$f":"+'Plan Indicativo (Productos)'!E206","v":"2402"},{"$f":"+'Plan Indicativo (Productos)'!F206","v":"Infraestructura red vial regional"},{"$f":"+'Plan Indicativo (Productos)'!G206","v":"240212800"},{"$f":"+'Plan Indicativo (Productos)'!H206","v":"Andenes de la red urbana mejorados"},{"$f":"+'Plan Indicativo (Productos)'!I206","v":"Metros "},{"$f":"+'Plan Indicativo (Productos)'!J206","v":0},{"$f":"+'Plan Indicativo (Productos)'!K206","v":2000},null,100,100,251920590,251920590]
[{"$f":"+'Plan Indicativo (Productos)'!A207","v":203},{"$f":"+'Plan Indicativo (Productos)'!B207","v":"Económica"},{"$f":"+'Plan Indicativo (Productos)'!C207","v":24},{"$f":"+'Plan Indicativo (Productos)'!D207","v":"24. Transporte"},{"$f":"+'Plan Indicativo (Productos)'!E207","v":"2407"},{"$f":"+'Plan Indicativo (Productos)'!F207","v":"Infraestructura y servicios de logística de transporte"},{"$f":"+'Plan Indicativo (Productos)'!G207","v":"240700200"},{"$f":"+'Plan Indicativo (Productos)'!H207","v":"Plataformas logísticas operando"},{"$f":"+'Plan Indicativo (Productos)'!I207","v":"Número"},{"$f":"+'Plan Indicativo (Productos)'!J207","v":0},{"$f":"+'Plan Indicativo (Productos)'!K207","v":1},null,0,0,0,0]
[{"$f":"+'Plan Indicativo (Productos)'!A208","v":204},{"$f":"+'Plan Indicativo (Productos)'!B208","v":"Económica"},{"$f":"+'Plan Indicativo (Productos)'!C208","v":24},{"$f":"+'Plan Indicativo (Productos)'!D208","v":"24. Transporte"},{"$f":"+'Plan Indicativo (Productos)'!E208","v":"2408"},{"$f":"+'Plan Indicativo (Productos)'!F208","v":"Prestación de servicios de transporte público de pasajeros"},{"$f":"+'Plan Indicativo (Productos)'!G208","v":"240803900"},{"$f":"+'Plan Indicativo (Productos)'!H208","v":"Estrategias de seguridad ciudadana implementadas"},{"$f":"+'Plan Indicativo (Productos)'!I208","v":"Número"},{"$f":"+'Plan Indicativo (Productos)'!J208","v":0},{"$f":"+'Plan Indicativo (Productos)'!K208","v":48},null,12,12,309600000,309600000]
[{"$f":"+'Plan Indicativo (Productos)'!A209","v":205},{"$f":"+'Plan Indicativo (Productos)'!B209","v":"Económica"},{"$f":"+'Plan Indicativo (Productos)'!C209","v":35},{"$f":"+'Plan Indicativo (Productos)'!D209","v":"35. Comercio, Industria y Turismo"},{"$f":"+'Plan Indicativo (Productos)'!E209","v":"3502"},{"$f":"+'Plan Indicativo (Productos)'!F209","v":"Productividad y competitividad de las empresas colombianas"},{"$f":"+'Plan Indicativo (Productos)'!G209","v":"350205600"},{"$f":"+'Plan Indicativo (Productos)'!H209","v":"Senderos construidos"},{"$f":"+'Plan Indicativo (Productos)'!I209","v":"Número"},{"$f":"+'Plan Indicativo (Productos)'!J209","v":0},{"$f":"+'Plan Indicativo (Productos)'!K209","v":2},null,0,0,0,0]
[{"$f":"+'Plan Indicativo (Productos)'!A210","v":206},{"$f":"+'Plan Indicativo (Productos)'!B210","v":"Económica"},{"$f":"+'Plan Indicativo (Productos)'!C210","v":24},{"$f":"+'Plan Indicativo (Productos)'!D210","v":"24. Transporte"},{"$f":"+'Plan Indicativo (Productos)'!E210","v":"2409"},{"$f":"+'Plan Indicativo (Productos)'!F210","v":"Seguridad de transporte"},{"$f":"+'Plan Indicativo (Productos)'!G210","v":"240900800"},{"$f":"+'Plan Indicativo (Productos)'!H210","v":"Documentos de lineamientos técnicos realizados"},{"$f":"+'Plan Indicativo (Productos)'!I210","v":"Número"},{"$f":"+'Plan Indicativo (Productos)'!J210","v":0},{"$f":"+'Plan Indicativo (Productos)'!K210","v":1},null,0.4,0.4,314261919,314261919]
[{"$f":"+'Plan Indicativo (Productos)'!A211","v":207},{"$f":"+'Plan Indicativo (Productos)'!B211","v":"Económica"},{"$f":"+'Plan Indicativo (Productos)'!C211","v":24},{"$f":"+'Plan Indicativo (Productos)'!D211","v":"24. Transporte"},{"$f":"+'Plan Indicativo (Productos)'!E211","v":"2409"},{"$f":"+'Plan Indicativo (Productos)'!F211","v":"Seguridad de transporte"},{"$f":"+'Plan Indicativo (Productos)'!G211","v":240900900},{"$f":"+'Plan Indicativo (Productos)'!H211","v":"Estrategias implementadas"},{"$f":"+'Plan Indicativo (Productos)'!I211","v":"Número"},{"$f":"+'Plan Indicativo (Productos)'!J211","v":0},{"$f":"+'Plan Indicativo (Productos)'!K211","v":1},null,0.1,0.1,62852384,62852384]
[{"$f":"+'Plan Indicativo (Productos)'!A212","v":208},{"$f":"+'Plan Indicativo (Productos)'!B212","v":"Económica"},{"$f":"+'Plan Indicativo (Productos)'!C212","v":24},{"$f":"+'Plan Indicativo (Productos)'!D212","v":"24. Transporte"},{"$f":"+'Plan Indicativo (Productos)'!E212","v":"2409"},{"$f":"+'Plan Indicativo (Productos)'!F212","v":"Seguridad de transporte"},{"$f":"+'Plan Indicativo (Productos)'!G212","v":"240905800"},{"$f":"+'Plan Indicativo (Productos)'!H212","v":"Cicloinfraestructura construida"},{"$f":"+'Plan Indicativo (Productos)'!I212","v":"Kilómetros"},{"$f":"+'Plan Indicativo (Productos)'!J212","v":0},{"$f":"+'Plan Indicativo (Productos)'!K212","v":1.5},null,0,0,0,0]
[{"$f":"+'Plan Indicativo (Productos)'!A213","v":209},{"$f":"+'Plan Indicativo (Productos)'!B213","v":"Económica"},{"$f":"+'Plan Indicativo (Productos)'!C213","v":24},{"$f":"+'Plan Indicativo (Productos)'!D213","v":"24. Transporte"},{"$f":"+'Plan Indicativo (Productos)'!E213","v":"2409"},{"$f":"+'Plan Indicativo (Productos)'!F213","v":"Seguridad de transporte"},{"$f":"+'Plan Indicativo (Productos)'!G213","v":"240905800"},{"$f":"+'Plan Indicativo (Productos)'!H213","v":"Cicloinfraestructura construida"},{"$f":"+'Plan Indicativo (Productos)'!I213","v":"Kilómetros"},{"$f":"+'Plan Indicativo (Productos)'!J213","v":0},{"$f":"+'Plan Indicativo (Productos)'!K213","v":1.5},null,0,0,0,0]
[{"$f":"+'Plan Indicativo (Productos)'!A214","v":210},{"$f":"+'Plan Indicativo (Productos)'!B214","v":"Económica"},{"$f":"+'Plan Indicativo (Productos)'!C214","v":24},{"$f":"+'Plan Indicativo (Productos)'!D214","v":"24. Transporte"},{"$f":"+'Plan Indicativo (Productos)'!E214","v":"2409"},{"$f":"+'Plan Indicativo (Productos)'!F214","v":"Seguridad de transporte"},{"$f":"+'Plan Indicativo (Productos)'!G214","v":"240901600"},{"$f":"+'Plan Indicativo (Productos)'!H214","v":"Estudios de preinversión realizados"},{"$f":"+'Plan Indicativo (Productos)'!I214","v":"Número"},{"$f":"+'Plan Indicativo (Productos)'!J214","v":0},{"$f":"+'Plan Indicativo (Productos)'!K214","v":1},null,0.05,0.05,188557152,188557152]
[{"$f":"+'Plan Indicativo (Productos)'!A215","v":211},{"$f":"+'Plan Indicativo (Productos)'!B215","v":"Económica"},{"$f":"+'Plan Indicativo (Productos)'!C215","v":24},{"$f":"+'Plan Indicativo (Productos)'!D215","v":"24. Transporte"},{"$f":"+'Plan Indicativo (Productos)'!E215","v":"2409"},{"$f":"+'Plan Indicativo (Productos)'!F215","v":"Seguridad de transporte"},{"$f":"+'Plan Indicativo (Productos)'!G215","v":"240900800"},{"$f":"+'Plan Indicativo (Productos)'!H215","v":"Documentos de lineamientos técnicos realizados"},{"$f":"+'Plan Indicativo (Productos)'!I215","v":"Número"},{"$f":"+'Plan Indicativo (Productos)'!J215","v":0},{"$f":"+'Plan Indicativo (Productos)'!K215","v":1},null,0.4,0.4,314261919,314261919]
[{"$f":"+'Plan Indicativo (Productos)'!A216","v":212},{"$f":"+'Plan Indicativo (Productos)'!B216","v":"Económica"},{"$f":"+'Plan Indicativo (Productos)'!C216","v":24},{"$f":"+'Plan Indicativo (Productos)'!D216","v":"24. Transporte"},{"$f":"+'Plan Indicativo (Productos)'!E216","v":"2409"},{"$f":"+'Plan Indicativo (Productos)'!F216","v":"Seguridad de transporte"},{"$f":"+'Plan Indicativo (Productos)'!G216","v":240900900},{"$f":"+'Plan Indicativo (Productos)'!H216","v":"Estrategias implementadas"},{"$f":"+'Plan Indicativo (Productos)'!I216","v":"Número"},{"$f":"+'Plan Indicativo (Productos)'!J216","v":0},{"$f":"+'Plan Indicativo (Productos)'!K216","v":27},null,4,6,314261919,314261919]
[{"$f":"+'Plan Indicativo (Productos)'!A217","v":213},{"$f":"+'Plan Indicativo (Productos)'!B217","v":"Económica"},{"$f":"+'Plan Indicativo (Productos)'!C217","v":24},{"$f":"+'Plan Indicativo (Productos)'!D217","v":"24. Transporte"},{"$f":"+'Plan Indicativo (Productos)'!E217","v":"2409"},{"$f":"+'Plan Indicativo (Productos)'!F217","v":"Seguridad de transporte"},{"$f":"+'Plan Indicativo (Productos)'!G217","v":"240900900"},{"$f":"+'Plan Indicativo (Productos)'!H217","v":"Estrategias implementadas"},{"$f":"+'Plan Indicativo (Productos)'!I217","v":"Número"},{"$f":"+'Plan Indicativo (Productos)'!J217","v":1},{"$f":"+'Plan Indicativo (Productos)'!K217","v":16},null,4,4,62852384,62852384]
[{"$f":"+'Plan Indicativo (Productos)'!A218","v":214},{"$f":"+'Plan Indicativo (Productos)'!B218","v":"Ambiental"},{"$f":"+'Plan Indicativo (Productos)'!C218","v":32},{"$f":"+'Plan Indicativo (Productos)'!D218","v":"32. Ambiente y Desarrollo Sostenible"},{"$f":"+'Plan Indicativo (Productos)'!E218","v":"3202"},{"$f":"+'Plan Indicativo (Productos)'!F218","v":"Conservación de la biodiversidad y sus servicios ecosistémicos"},{"$f":"+'Plan Indicativo (Productos)'!G218","v":"320203300"},{"$f":"+'Plan Indicativo (Productos)'!H218","v":"Infraestructura ecoturística construida "},{"$f":"+'Plan Indicativo (Productos)'!I218","v":"Número"},{"$f":"+'Plan Indicativo (Productos)'!J218","v":0},{"$f":"+'Plan Indicativo (Productos)'!K218","v":1},null,0,0,0,0]
[{"$f":"+'Plan Indicativo (Productos)'!A219","v":215},{"$f":"+'Plan Indicativo (Productos)'!B219","v":"Ambiental"},{"$f":"+'Plan Indicativo (Productos)'!C219","v":45},{"$f":"+'Plan Indicativo (Productos)'!D219","v":"45. Gobierno Territorial"},{"$f":"+'Plan Indicativo (Productos)'!E219","v":"4599"},{"$f":"+'Plan Indicativo (Productos)'!F219","v":"Fortalecimiento a la gestión y dirección de la administración pública territorial"},{"$f":"+'Plan Indicativo (Productos)'!G219","v":"459901900"},{"$f":"+'Plan Indicativo (Productos)'!H219","v":"Documentos de planeación realizados"},{"$f":"+'Plan Indicativo (Productos)'!I219","v":"Número"},{"$f":"+'Plan Indicativo (Productos)'!J219","v":0},{"$f":"+'Plan Indicativo (Productos)'!K219","v":1},null,0,0,0,0]
[{"$f":"+'Plan Indicativo (Productos)'!A220","v":216},{"$f":"+'Plan Indicativo (Productos)'!B220","v":"Ambiental"},{"$f":"+'Plan Indicativo (Productos)'!C220","v":32},{"$f":"+'Plan Indicativo (Productos)'!D220","v":"32. Ambiente y Desarrollo Sostenible"},{"$f":"+'Plan Indicativo (Productos)'!E220","v":"3201"},{"$f":"+'Plan Indicativo (Productos)'!F220","v":"Fortalecimiento del desempeño ambiental de los sectores productivos"},{"$f":"+'Plan Indicativo (Productos)'!G220","v":"320100500"},{"$f":"+'Plan Indicativo (Productos)'!H220","v":"Documentos de estudios técnicos con la evaluación ambiental estratégica realizados"},{"$f":"+'Plan Indicativo (Productos)'!I220","v":"Número"},{"$f":"+'Plan Indicativo (Productos)'!J220","v":0},{"$f":"+'Plan Indicativo (Productos)'!K220","v":1},null,0,0]
[{"$f":"+'Plan Indicativo (Productos)'!A221","v":217},{"$f":"+'Plan Indicativo (Productos)'!B221","v":"Ambiental"},{"$f":"+'Plan Indicativo (Productos)'!C221","v":32},{"$f":"+'Plan Indicativo (Productos)'!D221","v":"32. Ambiente y Desarrollo Sostenible"},{"$f":"+'Plan Indicativo (Productos)'!E221","v":"3203"},{"$f":"+'Plan Indicativo (Productos)'!F221","v":"Gestión integral del recurso hídrico"},{"$f":"+'Plan Indicativo (Productos)'!G221","v":"320305000"},{"$f":"+'Plan Indicativo (Productos)'!H221","v":"Áreas protegidas"},{"$f":"+'Plan Indicativo (Productos)'!I221","v":"Hectáreas"},{"$f":"+'Plan Indicativo (Productos)'!J221","v":35},{"$f":"+'Plan Indicativo (Productos)'!K221","v":40},null,0.5,0.2,76759133,76759133]
[{"$f":"+'Plan Indicativo (Productos)'!A222","v":218},{"$f":"+'Plan Indicativo (Productos)'!B222","v":"Ambiental"},{"$f":"+'Plan Indicativo (Productos)'!C222","v":32},{"$f":"+'Plan Indicativo (Productos)'!D222","v":"32. Ambiente y Desarrollo Sostenible"},{"$f":"+'Plan Indicativo (Productos)'!E222","v":"3205"},{"$f":"+'Plan Indicativo (Productos)'!F222","v":"Ordenamiento ambiental territorial"},{"$f":"+'Plan Indicativo (Productos)'!G222","v":"320500100"},{"$f":"+'Plan Indicativo (Productos)'!H222","v":"Documentos de lineamientos técnicos realizados"},{"$f":"+'Plan Indicativo (Productos)'!I222","v":"Número"},{"$f":"+'Plan Indicativo (Productos)'!J222","v":0},{"$f":"+'Plan Indicativo (Productos)'!K222","v":6},null,0,0,0,0]
[{"$f":"+'Plan Indicativo (Productos)'!A223","v":219},{"$f":"+'Plan Indicativo (Productos)'!B223","v":"Ambiental"},{"$f":"+'Plan Indicativo (Productos)'!C223","v":32},{"$f":"+'Plan Indicativo (Productos)'!D223","v":"32. Ambiente y Desarrollo Sostenible"},{"$f":"+'Plan Indicativo (Productos)'!E223","v":"3205"},{"$f":"+'Plan Indicativo (Productos)'!F223","v":"Ordenamiento ambiental territorial"},{"$f":"+'Plan Indicativo (Productos)'!G223","v":"320500100"},{"$f":"+'Plan Indicativo (Productos)'!H223","v":"Documentos de lineamientos técnicos realizados"},{"$f":"+'Plan Indicativo (Productos)'!I223","v":"Número"},{"$f":"+'Plan Indicativo (Productos)'!J223","v":1},{"$f":"+'Plan Indicativo (Productos)'!K223","v":1},null,0,0,0,0]
[{"$f":"+'Plan Indicativo (Productos)'!A224","v":220},{"$f":"+'Plan Indicativo (Productos)'!B224","v":"Ambiental"},{"$f":"+'Plan Indicativo (Productos)'!C224","v":32},{"$f":"+'Plan Indicativo (Productos)'!D224","v":"32. Ambiente y Desarrollo Sostenible"},{"$f":"+'Plan Indicativo (Productos)'!E224","v":"3205"},{"$f":"+'Plan Indicativo (Productos)'!F224","v":"Ordenamiento ambiental territorial"},{"$f":"+'Plan Indicativo (Productos)'!G224","v":"320500100"},{"$f":"+'Plan Indicativo (Productos)'!H224","v":"Documentos de lineamientos técnicos realizados"},{"$f":"+'Plan Indicativo (Productos)'!I224","v":"Número"},{"$f":"+'Plan Indicativo (Productos)'!J224","v":0},{"$f":"+'Plan Indicativo (Productos)'!K224","v":4},null,1,1,0,0]
[{"$f":"+'Plan Indicativo (Productos)'!A225","v":221},{"$f":"+'Plan Indicativo (Productos)'!B225","v":"Ambiental"},{"$f":"+'Plan Indicativo (Productos)'!C225","v":32},{"$f":"+'Plan Indicativo (Productos)'!D225","v":"32. Ambiente y Desarrollo Sostenible"},{"$f":"+'Plan Indicativo (Productos)'!E225","v":"3205"},{"$f":"+'Plan Indicativo (Productos)'!F225","v":"Ordenamiento ambiental territorial"},{"$f":"+'Plan Indicativo (Productos)'!G225","v":"320500100"},{"$f":"+'Plan Indicativo (Productos)'!H225","v":"Documentos de lineamientos técnicos realizados"},{"$f":"+'Plan Indicativo (Productos)'!I225","v":"Número"},{"$f":"+'Plan Indicativo (Productos)'!J225","v":0},{"$f":"+'Plan Indicativo (Productos)'!K225","v":1},null,0,0,0,0]
[{"$f":"+'Plan Indicativo (Productos)'!A226","v":222},{"$f":"+'Plan Indicativo (Productos)'!B226","v":"Ambiental"},{"$f":"+'Plan Indicativo (Productos)'!C226","v":32},{"$f":"+'Plan Indicativo (Productos)'!D226","v":"32. Ambiente y Desarrollo Sostenible"},{"$f":"+'Plan Indicativo (Productos)'!E226","v":"3205"},{"$f":"+'Plan Indicativo (Productos)'!F226","v":"Ordenamiento ambiental territorial"},{"$f":"+'Plan Indicativo (Productos)'!G226","v":"320500100"},{"$f":"+'Plan Indicativo (Productos)'!H226","v":"Documentos de lineamientos técnicos realizados"},{"$f":"+'Plan Indicativo (Productos)'!I226","v":"Número"},{"$f":"+'Plan Indicativo (Productos)'!J226","v":2},{"$f":"+'Plan Indicativo (Productos)'!K226","v":2},null,0,0,0,0]
[{"$f":"+'Plan Indicativo (Productos)'!A227","v":223},{"$f":"+'Plan Indicativo (Productos)'!B227","v":"Ambiental"},{"$f":"+'Plan Indicativo (Productos)'!C227","v":32},{"$f":"+'Plan Indicativo (Productos)'!D227","v":"32. Ambiente y Desarrollo Sostenible"},{"$f":"+'Plan Indicativo (Productos)'!E227","v":"3205"},{"$f":"+'Plan Indicativo (Productos)'!F227","v":"Ordenamiento ambiental territorial"},{"$f":"+'Plan Indicativo (Productos)'!G227","v":"320500100"},{"$f":"+'Plan Indicativo (Productos)'!H227","v":"Documentos de lineamientos técnicos realizados"},{"$f":"+'Plan Indicativo (Productos)'!I227","v":"Número"},{"$f":"+'Plan Indicativo (Productos)'!J227","v":0},{"$f":"+'Plan Indicativo (Productos)'!K227","v":1},null,0,0,0,0]
[{"$f":"+'Plan Indicativo (Productos)'!A228","v":224},{"$f":"+'Plan Indicativo (Productos)'!B228","v":"Ambiental"},{"$f":"+'Plan Indicativo (Productos)'!C228","v":32},{"$f":"+'Plan Indicativo (Productos)'!D228","v":"32. Ambiente y Desarrollo Sostenible"},{"$f":"+'Plan Indicativo (Productos)'!E228","v":"3205"},{"$f":"+'Plan Indicativo (Productos)'!F228","v":"Ordenamiento ambiental territorial"},{"$f":"+'Plan Indicativo (Productos)'!G228","v":"320500600"},{"$f":"+'Plan Indicativo (Productos)'!H228","v":"Campañas realizadas"},{"$f":"+'Plan Indicativo (Productos)'!I228","v":"Número"},{"$f":"+'Plan Indicativo (Productos)'!J228","v":0},{"$f":"+'Plan Indicativo (Productos)'!K228","v":2},null,0,0,0,0]
[{"$f":"+'Plan Indicativo (Productos)'!A229","v":225},{"$f":"+'Plan Indicativo (Productos)'!B229","v":"Ambiental"},{"$f":"+'Plan Indicativo (Productos)'!C229","v":35},{"$f":"+'Plan Indicativo (Productos)'!D229","v":"35. Comercio, Industria y Turismo"},{"$f":"+'Plan Indicativo (Productos)'!E229","v":"3502"},{"$f":"+'Plan Indicativo (Productos)'!F229","v":"Productividad y competitividad de las empresas colombianas"},{"$f":"+'Plan Indicativo (Productos)'!G229","v":"350204600"},{"$f":"+'Plan Indicativo (Productos)'!H229","v":"Campañas realizadas"},{"$f":"+'Plan Indicativo (Productos)'!I229","v":"Número"},{"$f":"+'Plan Indicativo (Productos)'!J229","v":0},{"$f":"+'Plan Indicativo (Productos)'!K229","v":8},null,2,2,0,0]
[{"$f":"+'Plan Indicativo (Productos)'!A230","v":226},{"$f":"+'Plan Indicativo (Productos)'!B230","v":"Ambiental"},{"$f":"+'Plan Indicativo (Productos)'!C230","v":35},{"$f":"+'Plan Indicativo (Productos)'!D230","v":"35. Comercio, Industria y Turismo"},{"$f":"+'Plan Indicativo (Productos)'!E230","v":"3502"},{"$f":"+'Plan Indicativo (Productos)'!F230","v":"Productividad y competitividad de las empresas colombianas"},{"$f":"+'Plan Indicativo (Productos)'!G230","v":"350204600"},{"$f":"+'Plan Indicativo (Productos)'!H230","v":"Campañas realizadas"},{"$f":"+'Plan Indicativo (Productos)'!I230","v":"Número"},{"$f":"+'Plan Indicativo (Productos)'!J230","v":0},{"$f":"+'Plan Indicativo (Productos)'!K230","v":8},null,2,2,0,0]
[{"$f":"+'Plan Indicativo (Productos)'!A231","v":227},{"$f":"+'Plan Indicativo (Productos)'!B231","v":"Ambiental"},{"$f":"+'Plan Indicativo (Productos)'!C231","v":35},{"$f":"+'Plan Indicativo (Productos)'!D231","v":"35. Comercio, Industria y Turismo"},{"$f":"+'Plan Indicativo (Productos)'!E231","v":"3502"},{"$f":"+'Plan Indicativo (Productos)'!F231","v":"Productividad y competitividad de las empresas colombianas"},{"$f":"+'Plan Indicativo (Productos)'!G231","v":"350204600"},{"$f":"+'Plan Indicativo (Productos)'!H231","v":"Campañas realizadas"},{"$f":"+'Plan Indicativo (Productos)'!I231","v":"Número"},{"$f":"+'Plan Indicativo (Productos)'!J231","v":0},{"$f":"+'Plan Indicativo (Productos)'!K231","v":16},null,4,4,0,0]
[{"$f":"+'Plan Indicativo (Productos)'!A232","v":228},{"$f":"+'Plan Indicativo (Productos)'!B232","v":"Ambiental"},{"$f":"+'Plan Indicativo (Productos)'!C232","v":35},{"$f":"+'Plan Indicativo (Productos)'!D232","v":"35. Comercio, Industria y Turismo"},{"$f":"+'Plan Indicativo (Productos)'!E232","v":"3502"},{"$f":"+'Plan Indicativo (Productos)'!F232","v":"Productividad y competitividad de las empresas colombianas"},{"$f":"+'Plan Indicativo (Productos)'!G232","v":"350204600"},{"$f":"+'Plan Indicativo (Productos)'!H232","v":"Campañas realizadas"},{"$f":"+'Plan Indicativo (Productos)'!I232","v":"Número"},{"$f":"+'Plan Indicativo (Productos)'!J232","v":0},{"$f":"+'Plan Indicativo (Productos)'!K232","v":24},null,6,6,0,0]
[{"$f":"+'Plan Indicativo (Productos)'!A233","v":229},{"$f":"+'Plan Indicativo (Productos)'!B233","v":"Ambiental"},{"$f":"+'Plan Indicativo (Productos)'!C233","v":45},{"$f":"+'Plan Indicativo (Productos)'!D233","v":"45. Gobierno Territorial"},{"$f":"+'Plan Indicativo (Productos)'!E233","v":"4599"},{"$f":"+'Plan Indicativo (Productos)'!F233","v":"Fortalecimiento a la gestión y dirección de la administración pública territorial"},{"$f":"+'Plan Indicativo (Productos)'!G233","v":"459900100"},{"$f":"+'Plan Indicativo (Productos)'!H233","v":"Documentos de evaluación elaborados"},{"$f":"+'Plan Indicativo (Productos)'!I233","v":"Número"},{"$f":"+'Plan Indicativo (Productos)'!J233","v":0},{"$f":"+'Plan Indicativo (Productos)'!K233","v":1},null,0.4,0.4,0,0]
[{"$f":"+'Plan Indicativo (Productos)'!A234","v":230},{"$f":"+'Plan Indicativo (Productos)'!B234","v":"Ambiental"},{"$f":"+'Plan Indicativo (Productos)'!C234","v":45},{"$f":"+'Plan Indicativo (Productos)'!D234","v":"45. Gobierno Territorial"},{"$f":"+'Plan Indicativo (Productos)'!E234","v":"4503"},{"$f":"+'Plan Indicativo (Productos)'!F234","v":"Gestión del riesgo de desastres y emergencias"},{"$f":"+'Plan Indicativo (Productos)'!G234","v":"450300200"},{"$f":"+'Plan Indicativo (Productos)'!H234","v":"Personas capacitadas"},{"$f":"+'Plan Indicativo (Productos)'!I234","v":"Número"},{"$f":"+'Plan Indicativo (Productos)'!J234","v":0},{"$f":"+'Plan Indicativo (Productos)'!K234","v":200},null,50,50,1251552195,1251552195]
[{"$f":"+'Plan Indicativo (Productos)'!A235","v":231},{"$f":"+'Plan Indicativo (Productos)'!B235","v":"Ambiental"},{"$f":"+'Plan Indicativo (Productos)'!C235","v":45},{"$f":"+'Plan Indicativo (Productos)'!D235","v":"45. Gobierno Territorial"},{"$f":"+'Plan Indicativo (Productos)'!E235","v":"4503"},{"$f":"+'Plan Indicativo (Productos)'!F235","v":"Gestión del riesgo de desastres y emergencias"},{"$f":"+'Plan Indicativo (Productos)'!G235","v":"450302400"},{"$f":"+'Plan Indicativo (Productos)'!H235","v":"Documentos normativos realizados"},{"$f":"+'Plan Indicativo (Productos)'!I235","v":"Número"},{"$f":"+'Plan Indicativo (Productos)'!J235","v":0},{"$f":"+'Plan Indicativo (Productos)'!K235","v":1},null,0.4,0.4,313741956,313741956]
[{"$f":"+'Plan Indicativo (Productos)'!A236","v":232},{"$f":"+'Plan Indicativo (Productos)'!B236","v":"Ambiental"},{"$f":"+'Plan Indicativo (Productos)'!C236","v":45},{"$f":"+'Plan Indicativo (Productos)'!D236","v":"45. Gobierno Territorial"},{"$f":"+'Plan Indicativo (Productos)'!E236","v":"4503"},{"$f":"+'Plan Indicativo (Productos)'!F236","v":"Gestión del riesgo de desastres y emergencias"},{"$f":"+'Plan Indicativo (Productos)'!G236","v":"450303400"},{"$f":"+'Plan Indicativo (Productos)'!H236","v":"Documentos de evaluación elaborados"},{"$f":"+'Plan Indicativo (Productos)'!I236","v":"Número"},{"$f":"+'Plan Indicativo (Productos)'!J236","v":0},{"$f":"+'Plan Indicativo (Productos)'!K236","v":4},null,1,1,0,0]
[{"$f":"+'Plan Indicativo (Productos)'!A237","v":233},{"$f":"+'Plan Indicativo (Productos)'!B237","v":"Ambiental"},{"$f":"+'Plan Indicativo (Productos)'!C237","v":45},{"$f":"+'Plan Indicativo (Productos)'!D237","v":"45. Gobierno Territorial"},{"$f":"+'Plan Indicativo (Productos)'!E237","v":"4503"},{"$f":"+'Plan Indicativo (Productos)'!F237","v":"Gestión del riesgo de desastres y emergencias"},{"$f":"+'Plan Indicativo (Productos)'!G237","v":"450301700"},{"$f":"+'Plan Indicativo (Productos)'!H237","v":"Estudios de riesgo de desastres elaborados"},{"$f":"+'Plan Indicativo (Productos)'!I237","v":"Número"},{"$f":"+'Plan Indicativo (Productos)'!J237","v":0},{"$f":"+'Plan Indicativo (Productos)'!K237","v":1},null,0.4,0.4,0,0]
[{"$f":"+'Plan Indicativo (Productos)'!A238","v":234},{"$f":"+'Plan Indicativo (Productos)'!B238","v":"Ambiental"},{"$f":"+'Plan Indicativo (Productos)'!C238","v":32},{"$f":"+'Plan Indicativo (Productos)'!D238","v":"32. Ambiente y Desarrollo Sostenible"},{"$f":"+'Plan Indicativo (Productos)'!E238","v":"3205"},{"$f":"+'Plan Indicativo (Productos)'!F238","v":"Ordenamiento ambiental territorial"},{"$f":"+'Plan Indicativo (Productos)'!G238","v":"320500200"},{"$f":"+'Plan Indicativo (Productos)'!H238","v":"Documentos de estudios técnicos para el conocimiento y reducción del riesgo de desastres elaborados"},{"$f":"+'Plan Indicativo (Productos)'!I238","v":"Número"},{"$f":"+'Plan Indicativo (Productos)'!J238","v":0},{"$f":"+'Plan Indicativo (Productos)'!K238","v":1},null,0.4,0.4,1044411148,1044411148]
[{"$f":"+'Plan Indicativo (Productos)'!A239","v":235},{"$f":"+'Plan Indicativo (Productos)'!B239","v":"Ambiental"},{"$f":"+'Plan Indicativo (Productos)'!C239","v":32},{"$f":"+'Plan Indicativo (Productos)'!D239","v":"32. Ambiente y Desarrollo Sostenible"},{"$f":"+'Plan Indicativo (Productos)'!E239","v":"3205"},{"$f":"+'Plan Indicativo (Productos)'!F239","v":"Ordenamiento ambiental territorial"},{"$f":"+'Plan Indicativo (Productos)'!G239","v":"320501700"},{"$f":"+'Plan Indicativo (Productos)'!H239","v":"Documentos con diseños de obra para la reducción y mitigación del riesgo de desastres elaborados "},{"$f":"+'Plan Indicativo (Productos)'!I239","v":"Número"},{"$f":"+'Plan Indicativo (Productos)'!J239","v":0},{"$f":"+'Plan Indicativo (Productos)'!K239","v":4},null,1,1,261102787,261102787]
[{"$f":"+'Plan Indicativo (Productos)'!A240","v":236},{"$f":"+'Plan Indicativo (Productos)'!B240","v":"Ambiental"},{"$f":"+'Plan Indicativo (Productos)'!C240","v":45},{"$f":"+'Plan Indicativo (Productos)'!D240","v":"45. Gobierno Territorial"},{"$f":"+'Plan Indicativo (Productos)'!E240","v":"4599"},{"$f":"+'Plan Indicativo (Productos)'!F240","v":"Fortalecimiento a la gestión y dirección de la administración pública territorial"},{"$f":"+'Plan Indicativo (Productos)'!G240","v":"459902800"},{"$f":"+'Plan Indicativo (Productos)'!H240","v":"Sistemas de información actualizados"},{"$f":"+'Plan Indicativo (Productos)'!I240","v":"Número"},{"$f":"+'Plan Indicativo (Productos)'!J240","v":0},{"$f":"+'Plan Indicativo (Productos)'!K240","v":1},null,0,0,0,0]
[{"$f":"+'Plan Indicativo (Productos)'!A241","v":237},{"$f":"+'Plan Indicativo (Productos)'!B241","v":"Ambiental"},{"$f":"+'Plan Indicativo (Productos)'!C241","v":45},{"$f":"+'Plan Indicativo (Productos)'!D241","v":"45. Gobierno Territorial"},{"$f":"+'Plan Indicativo (Productos)'!E241","v":"4599"},{"$f":"+'Plan Indicativo (Productos)'!F241","v":"Fortalecimiento a la gestión y dirección de la administración pública territorial"},{"$f":"+'Plan Indicativo (Productos)'!G241","v":"459903200"},{"$f":"+'Plan Indicativo (Productos)'!H241","v":"Documentos de política elaborados"},{"$f":"+'Plan Indicativo (Productos)'!I241","v":"Número"},{"$f":"+'Plan Indicativo (Productos)'!J241","v":3},{"$f":"+'Plan Indicativo (Productos)'!K241","v":4},null,0,0,0,0]
[{"$f":"+'Plan Indicativo (Productos)'!A242","v":238},{"$f":"+'Plan Indicativo (Productos)'!B242","v":"Ambiental"},{"$f":"+'Plan Indicativo (Productos)'!C242","v":45},{"$f":"+'Plan Indicativo (Productos)'!D242","v":"45. Gobierno Territorial"},{"$f":"+'Plan Indicativo (Productos)'!E242","v":"4599"},{"$f":"+'Plan Indicativo (Productos)'!F242","v":"Fortalecimiento a la gestión y dirección de la administración pública territorial"},{"$f":"+'Plan Indicativo (Productos)'!G242","v":"459903200"},{"$f":"+'Plan Indicativo (Productos)'!H242","v":"Documentos de política elaborados"},{"$f":"+'Plan Indicativo (Productos)'!I242","v":"Número"},{"$f":"+'Plan Indicativo (Productos)'!J242","v":3},{"$f":"+'Plan Indicativo (Productos)'!K242","v":4},null,1,1,225103707,225103707]
[{"$f":"+'Plan Indicativo (Productos)'!A243","v":239},{"$f":"+'Plan Indicativo (Productos)'!B243","v":"Ambiental"},{"$f":"+'Plan Indicativo (Productos)'!C243","v":4},{"$f":"+'Plan Indicativo (Productos)'!D243","v":"4. Información Estadística"},{"$f":"+'Plan Indicativo (Productos)'!E243","v":"0406"},{"$f":"+'Plan Indicativo (Productos)'!F243","v":"Generación de la información geográfica del territorio nacional"},{"$f":"+'Plan Indicativo (Productos)'!G243","v":"040600600"},{"$f":"+'Plan Indicativo (Productos)'!H243","v":"Documentos normativos elaborados"},{"$f":"+'Plan Indicativo (Productos)'!I243","v":"Número"},{"$f":"+'Plan Indicativo (Productos)'!J243","v":0},{"$f":"+'Plan Indicativo (Productos)'!K243","v":1},null,0.2,0.2,519766327,519766327]
[{"$f":"+'Plan Indicativo (Productos)'!A244","v":240},{"$f":"+'Plan Indicativo (Productos)'!B244","v":"Ambiental"},{"$f":"+'Plan Indicativo (Productos)'!C244","v":4},{"$f":"+'Plan Indicativo (Productos)'!D244","v":"4. Información Estadística"},{"$f":"+'Plan Indicativo (Productos)'!E244","v":"0406"},{"$f":"+'Plan Indicativo (Productos)'!F244","v":"Generación de la información geográfica del territorio nacional"},{"$f":"+'Plan Indicativo (Productos)'!G244","v":"040602100"},{"$f":"+'Plan Indicativo (Productos)'!H244","v":"Mapas Temáticos desarrollados"},{"$f":"+'Plan Indicativo (Productos)'!I244","v":"Número"},{"$f":"+'Plan Indicativo (Productos)'!J244","v":11},{"$f":"+'Plan Indicativo (Productos)'!K244","v":27},null,27,27,346510884,346510884]
[{"$f":"+'Plan Indicativo (Productos)'!A245","v":241},{"$f":"+'Plan Indicativo (Productos)'!B245","v":"Ambiental"},{"$f":"+'Plan Indicativo (Productos)'!C245","v":32},{"$f":"+'Plan Indicativo (Productos)'!D245","v":"32. Ambiente y Desarrollo Sostenible"},{"$f":"+'Plan Indicativo (Productos)'!E245","v":"3204"},{"$f":"+'Plan Indicativo (Productos)'!F245","v":"Gestión de la información y el conocimiento ambiental"},{"$f":"+'Plan Indicativo (Productos)'!G245","v":"320404600"},{"$f":"+'Plan Indicativo (Productos)'!H245","v":"Documentos técnicos para la planificación sectorial y la gestión ambiental formulado"},{"$f":"+'Plan Indicativo (Productos)'!I245","v":"Número"},{"$f":"+'Plan Indicativo (Productos)'!J245","v":1},{"$f":"+'Plan Indicativo (Productos)'!K245","v":3},null,0,0,0,0]
[{"$f":"+'Plan Indicativo (Productos)'!A246","v":242},{"$f":"+'Plan Indicativo (Productos)'!B246","v":"Ambiental"},{"$f":"+'Plan Indicativo (Productos)'!C246","v":4},{"$f":"+'Plan Indicativo (Productos)'!D246","v":"4. Información Estadística"},{"$f":"+'Plan Indicativo (Productos)'!E246","v":"0401"},{"$f":"+'Plan Indicativo (Productos)'!F246","v":"Levantamiento y actualización de información estadística de calidad"},{"$f":"+'Plan Indicativo (Productos)'!G246","v":"040110600"},{"$f":"+'Plan Indicativo (Productos)'!H246","v":"Estrategias implementadas"},{"$f":"+'Plan Indicativo (Productos)'!I246","v":"Número"},{"$f":"+'Plan Indicativo (Productos)'!J246","v":0},{"$f":"+'Plan Indicativo (Productos)'!K246","v":8},null,2,2,44626086,44626086]
[{"$f":"+'Plan Indicativo (Productos)'!A247","v":243},{"$f":"+'Plan Indicativo (Productos)'!B247","v":"Ambiental"},{"$f":"+'Plan Indicativo (Productos)'!C247","v":4},{"$f":"+'Plan Indicativo (Productos)'!D247","v":"4. Información Estadística"},{"$f":"+'Plan Indicativo (Productos)'!E247","v":"0401"},{"$f":"+'Plan Indicativo (Productos)'!F247","v":"Levantamiento y actualización de información estadística de calidad"},{"$f":"+'Plan Indicativo (Productos)'!G247","v":"040110600"},{"$f":"+'Plan Indicativo (Productos)'!H247","v":"Estrategias implementadas"},{"$f":"+'Plan Indicativo (Productos)'!I247","v":"Número"},{"$f":"+'Plan Indicativo (Productos)'!J247","v":0},{"$f":"+'Plan Indicativo (Productos)'!K247","v":5},null,2,5,29750724,29750724]
[{"$f":"+'Plan Indicativo (Productos)'!A248","v":244},{"$f":"+'Plan Indicativo (Productos)'!B248","v":"Ambiental"},{"$f":"+'Plan Indicativo (Productos)'!C248","v":40},{"$f":"+'Plan Indicativo (Productos)'!D248","v":"40. Vivienda, Ciudad y Territorio"},{"$f":"+'Plan Indicativo (Productos)'!E248","v":"4002"},{"$f":"+'Plan Indicativo (Productos)'!F248","v":"Ordenamiento territorial y desarrollo urbano"},{"$f":"+'Plan Indicativo (Productos)'!G248","v":"400201600"},{"$f":"+'Plan Indicativo (Productos)'!H248","v":"Documentos de planeación elaborados"},{"$f":"+'Plan Indicativo (Productos)'!I248","v":"Número"},{"$f":"+'Plan Indicativo (Productos)'!J248","v":1},{"$f":"+'Plan Indicativo (Productos)'!K248","v":1},null,0,0,0,0]
[{"$f":"+'Plan Indicativo (Productos)'!A249","v":245},{"$f":"+'Plan Indicativo (Productos)'!B249","v":"Político institucional"},{"$f":"+'Plan Indicativo (Productos)'!C249","v":24},{"$f":"+'Plan Indicativo (Productos)'!D249","v":"24. Transporte"},{"$f":"+'Plan Indicativo (Productos)'!E249","v":"2402"},{"$f":"+'Plan Indicativo (Productos)'!F249","v":"Infraestructura red vial regional"},{"$f":"+'Plan Indicativo (Productos)'!G249","v":"240211400"},{"$f":"+'Plan Indicativo (Productos)'!H249","v":"Vía urbana mejorada "},{"$f":"+'Plan Indicativo (Productos)'!I249","v":"Kilómetros"},{"$f":"+'Plan Indicativo (Productos)'!J249","v":0},{"$f":"+'Plan Indicativo (Productos)'!K249","v":5},null,0,0,0,0]
[{"$f":"+'Plan Indicativo (Productos)'!A250","v":246},{"$f":"+'Plan Indicativo (Productos)'!B250","v":"Político institucional"},{"$f":"+'Plan Indicativo (Productos)'!C250","v":40},{"$f":"+'Plan Indicativo (Productos)'!D250","v":"40. Vivienda, Ciudad y Territorio"},{"$f":"+'Plan Indicativo (Productos)'!E250","v":"4002"},{"$f":"+'Plan Indicativo (Productos)'!F250","v":"Ordenamiento territorial y desarrollo urbano"},{"$f":"+'Plan Indicativo (Productos)'!G250","v":"400201300"},{"$f":"+'Plan Indicativo (Productos)'!H250","v":"Proyectos apoyados financieramente en Mejoramiento Integral de Barrios"},{"$f":"+'Plan Indicativo (Productos)'!I250","v":"Número"},{"$f":"+'Plan Indicativo (Productos)'!J250","v":0},{"$f":"+'Plan Indicativo (Productos)'!K250","v":1},null,0,0,0,0]
[{"$f":"+'Plan Indicativo (Productos)'!A251","v":247},{"$f":"+'Plan Indicativo (Productos)'!B251","v":"Político institucional"},{"$f":"+'Plan Indicativo (Productos)'!C251","v":40},{"$f":"+'Plan Indicativo (Productos)'!D251","v":"40. Vivienda, Ciudad y Territorio"},{"$f":"+'Plan Indicativo (Productos)'!E251","v":"4002"},{"$f":"+'Plan Indicativo (Productos)'!F251","v":"Ordenamiento territorial y desarrollo urbano"},{"$f":"+'Plan Indicativo (Productos)'!G251","v":"400201300"},{"$f":"+'Plan Indicativo (Productos)'!H251","v":"Proyectos apoyados financieramente en Mejoramiento Integral de Barrios"},{"$f":"+'Plan Indicativo (Productos)'!I251","v":"Número"},{"$f":"+'Plan Indicativo (Productos)'!J251","v":0},{"$f":"+'Plan Indicativo (Productos)'!K251","v":4},null,0,0,0,0]
[{"$f":"+'Plan Indicativo (Productos)'!A252","v":248},{"$f":"+'Plan Indicativo (Productos)'!B252","v":"Político institucional"},{"$f":"+'Plan Indicativo (Productos)'!C252","v":40},{"$f":"+'Plan Indicativo (Productos)'!D252","v":"40. Vivienda, Ciudad y Territorio"},{"$f":"+'Plan Indicativo (Productos)'!E252","v":"4002"},{"$f":"+'Plan Indicativo (Productos)'!F252","v":"Ordenamiento territorial y desarrollo urbano"},{"$f":"+'Plan Indicativo (Productos)'!G252","v":"400201300"},{"$f":"+'Plan Indicativo (Productos)'!H252","v":"Proyectos apoyados financieramente en Mejoramiento Integral de Barrios"},{"$f":"+'Plan Indicativo (Productos)'!I252","v":"Número"},{"$f":"+'Plan Indicativo (Productos)'!J252","v":0},{"$f":"+'Plan Indicativo (Productos)'!K252","v":1},null,0,0,0,0]
[{"$f":"+'Plan Indicativo (Productos)'!A253","v":249},{"$f":"+'Plan Indicativo (Productos)'!B253","v":"Político institucional"},{"$f":"+'Plan Indicativo (Productos)'!C253","v":40},{"$f":"+'Plan Indicativo (Productos)'!D253","v":"40. Vivienda, Ciudad y Territorio"},{"$f":"+'Plan Indicativo (Productos)'!E253","v":"4002"},{"$f":"+'Plan Indicativo (Productos)'!F253","v":"Ordenamiento territorial y desarrollo urbano"},{"$f":"+'Plan Indicativo (Productos)'!G253","v":"400201300"},{"$f":"+'Plan Indicativo (Productos)'!H253","v":"Proyectos apoyados financieramente en Mejoramiento Integral de Barrios"},{"$f":"+'Plan Indicativo (Productos)'!I253","v":"Número"},{"$f":"+'Plan Indicativo (Productos)'!J253","v":0},{"$f":"+'Plan Indicativo (Productos)'!K253","v":1},null,0,0,0,0]
[{"$f":"+'Plan Indicativo (Productos)'!A254","v":250},{"$f":"+'Plan Indicativo (Productos)'!B254","v":"Político institucional"},{"$f":"+'Plan Indicativo (Productos)'!C254","v":40},{"$f":"+'Plan Indicativo (Productos)'!D254","v":"40. Vivienda, Ciudad y Territorio"},{"$f":"+'Plan Indicativo (Productos)'!E254","v":"4002"},{"$f":"+'Plan Indicativo (Productos)'!F254","v":"Ordenamiento territorial y desarrollo urbano"},{"$f":"+'Plan Indicativo (Productos)'!G254","v":"400201300"},{"$f":"+'Plan Indicativo (Productos)'!H254","v":"Proyectos apoyados financieramente en Mejoramiento Integral de Barrios"},{"$f":"+'Plan Indicativo (Productos)'!I254","v":"Número"},{"$f":"+'Plan Indicativo (Productos)'!J254","v":0},{"$f":"+'Plan Indicativo (Productos)'!K254","v":1},null,0,0,0,0]
[{"$f":"+'Plan Indicativo (Productos)'!A255","v":251},{"$f":"+'Plan Indicativo (Productos)'!B255","v":"Político institucional"},{"$f":"+'Plan Indicativo (Productos)'!C255","v":40},{"$f":"+'Plan Indicativo (Productos)'!D255","v":"40. Vivienda, Ciudad y Territorio"},{"$f":"+'Plan Indicativo (Productos)'!E255","v":"4002"},{"$f":"+'Plan Indicativo (Productos)'!F255","v":"Ordenamiento territorial y desarrollo urbano"},{"$f":"+'Plan Indicativo (Productos)'!G255","v":"400201300"},{"$f":"+'Plan Indicativo (Productos)'!H255","v":"Proyectos apoyados financieramente en Mejoramiento Integral de Barrios"},{"$f":"+'Plan Indicativo (Productos)'!I255","v":"Número"},{"$f":"+'Plan Indicativo (Productos)'!J255","v":0},{"$f":"+'Plan Indicativo (Productos)'!K255","v":4},null,0,0,0,0]
[{"$f":"+'Plan Indicativo (Productos)'!A256","v":252},{"$f":"+'Plan Indicativo (Productos)'!B256","v":"Político institucional"},{"$f":"+'Plan Indicativo (Productos)'!C256","v":40},{"$f":"+'Plan Indicativo (Productos)'!D256","v":"40. Vivienda, Ciudad y Territorio"},{"$f":"+'Plan Indicativo (Productos)'!E256","v":"4002"},{"$f":"+'Plan Indicativo (Productos)'!F256","v":"Ordenamiento territorial y desarrollo urbano"},{"$f":"+'Plan Indicativo (Productos)'!G256","v":"400201600"},{"$f":"+'Plan Indicativo (Productos)'!H256","v":"Documentos de planeación elaborados"},{"$f":"+'Plan Indicativo (Productos)'!I256","v":"Número"},{"$f":"+'Plan Indicativo (Productos)'!J256","v":0},{"$f":"+'Plan Indicativo (Productos)'!K256","v":1},null,0,0,0,0]
[{"$f":"+'Plan Indicativo (Productos)'!A257","v":253},{"$f":"+'Plan Indicativo (Productos)'!B257","v":"Político institucional"},{"$f":"+'Plan Indicativo (Productos)'!C257","v":40},{"$f":"+'Plan Indicativo (Productos)'!D257","v":"40. Vivienda, Ciudad y Territorio"},{"$f":"+'Plan Indicativo (Productos)'!E257","v":"4002"},{"$f":"+'Plan Indicativo (Productos)'!F257","v":"Ordenamiento territorial y desarrollo urbano"},{"$f":"+'Plan Indicativo (Productos)'!G257","v":"400201600"},{"$f":"+'Plan Indicativo (Productos)'!H257","v":"Documentos de planeación elaborados"},{"$f":"+'Plan Indicativo (Productos)'!I257","v":"Número"},{"$f":"+'Plan Indicativo (Productos)'!J257","v":0},{"$f":"+'Plan Indicativo (Productos)'!K257","v":1},null,0,0,0,0]
[{"$f":"+'Plan Indicativo (Productos)'!A258","v":254},{"$f":"+'Plan Indicativo (Productos)'!B258","v":"Político institucional"},{"$f":"+'Plan Indicativo (Productos)'!C258","v":40},{"$f":"+'Plan Indicativo (Productos)'!D258","v":"40. Vivienda, Ciudad y Territorio"},{"$f":"+'Plan Indicativo (Productos)'!E258","v":"4002"},{"$f":"+'Plan Indicativo (Productos)'!F258","v":"Ordenamiento territorial y desarrollo urbano"},{"$f":"+'Plan Indicativo (Productos)'!G258","v":"400201900"},{"$f":"+'Plan Indicativo (Productos)'!H258","v":"Espacio publico construido"},{"$f":"+'Plan Indicativo (Productos)'!I258","v":"Metros cuadrados"},{"$f":"+'Plan Indicativo (Productos)'!J258","v":2000},{"$f":"+'Plan Indicativo (Productos)'!K258","v":2000},null,100,0,3295962431,3295962431]
[{"$f":"+'Plan Indicativo (Productos)'!A259","v":255},{"$f":"+'Plan Indicativo (Productos)'!B259","v":"Político institucional"},{"$f":"+'Plan Indicativo (Productos)'!C259","v":40},{"$f":"+'Plan Indicativo (Productos)'!D259","v":"40. Vivienda, Ciudad y Territorio"},{"$f":"+'Plan Indicativo (Productos)'!E259","v":"4002"},{"$f":"+'Plan Indicativo (Productos)'!F259","v":"Ordenamiento territorial y desarrollo urbano"},{"$f":"+'Plan Indicativo (Productos)'!G259","v":"400201900"},{"$f":"+'Plan Indicativo (Productos)'!H259","v":"Espacio publico construido"},{"$f":"+'Plan Indicativo (Productos)'!I259","v":"Metros cuadrados"},{"$f":"+'Plan Indicativo (Productos)'!J259","v":0},{"$f":"+'Plan Indicativo (Productos)'!K259","v":1200},null,0,0,0,0]
[{"$f":"+'Plan Indicativo (Productos)'!A260","v":256},{"$f":"+'Plan Indicativo (Productos)'!B260","v":"Político institucional"},{"$f":"+'Plan Indicativo (Productos)'!C260","v":40},{"$f":"+'Plan Indicativo (Productos)'!D260","v":"40. Vivienda, Ciudad y Territorio"},{"$f":"+'Plan Indicativo (Productos)'!E260","v":"4002"},{"$f":"+'Plan Indicativo (Productos)'!F260","v":"Ordenamiento territorial y desarrollo urbano"},{"$f":"+'Plan Indicativo (Productos)'!G260","v":"400201900"},{"$f":"+'Plan Indicativo (Productos)'!H260","v":"Espacio publico construido"},{"$f":"+'Plan Indicativo (Productos)'!I260","v":"Metros cuadrados"},{"$f":"+'Plan Indicativo (Productos)'!J260","v":0},{"$f":"+'Plan Indicativo (Productos)'!K260","v":50},null,13,13,3295962431,3295962431]
[{"$f":"+'Plan Indicativo (Productos)'!A261","v":257},{"$f":"+'Plan Indicativo (Productos)'!B261","v":"Político institucional"},{"$f":"+'Plan Indicativo (Productos)'!C261","v":40},{"$f":"+'Plan Indicativo (Productos)'!D261","v":"40. Vivienda, Ciudad y Territorio"},{"$f":"+'Plan Indicativo (Productos)'!E261","v":"4002"},{"$f":"+'Plan Indicativo (Productos)'!F261","v":"Ordenamiento territorial y desarrollo urbano"},{"$f":"+'Plan Indicativo (Productos)'!G261","v":"400202000"},{"$f":"+'Plan Indicativo (Productos)'!H261","v":"Espacio publico adecuado"},{"$f":"+'Plan Indicativo (Productos)'!I261","v":"Metros cuadrados"},{"$f":"+'Plan Indicativo (Productos)'!J261","v":300},{"$f":"+'Plan Indicativo (Productos)'!K261","v":300},null,15,15,1647981215,1647981215]
[{"$f":"+'Plan Indicativo (Productos)'!A262","v":258},{"$f":"+'Plan Indicativo (Productos)'!B262","v":"Político institucional"},{"$f":"+'Plan Indicativo (Productos)'!C262","v":40},{"$f":"+'Plan Indicativo (Productos)'!D262","v":"40. Vivienda, Ciudad y Territorio"},{"$f":"+'Plan Indicativo (Productos)'!E262","v":"4002"},{"$f":"+'Plan Indicativo (Productos)'!F262","v":"Ordenamiento territorial y desarrollo urbano"},{"$f":"+'Plan Indicativo (Productos)'!G262","v":"400202000"},{"$f":"+'Plan Indicativo (Productos)'!H262","v":"Espacio publico adecuado"},{"$f":"+'Plan Indicativo (Productos)'!I262","v":"Metros cuadrados"},{"$f":"+'Plan Indicativo (Productos)'!J262","v":0},{"$f":"+'Plan Indicativo (Productos)'!K262","v":500},null,25,25,1647981215,1647981215]
[{"$f":"+'Plan Indicativo (Productos)'!A263","v":259},{"$f":"+'Plan Indicativo (Productos)'!B263","v":"Político institucional"},{"$f":"+'Plan Indicativo (Productos)'!C263","v":40},{"$f":"+'Plan Indicativo (Productos)'!D263","v":"40. Vivienda, Ciudad y Territorio"},{"$f":"+'Plan Indicativo (Productos)'!E263","v":"4002"},{"$f":"+'Plan Indicativo (Productos)'!F263","v":"Ordenamiento territorial y desarrollo urbano"},{"$f":"+'Plan Indicativo (Productos)'!G263","v":"400202000"},{"$f":"+'Plan Indicativo (Productos)'!H263","v":"Espacio publico adecuado"},{"$f":"+'Plan Indicativo (Productos)'!I263","v":"Metros cuadrados"},{"$f":"+'Plan Indicativo (Productos)'!J263","v":0},{"$f":"+'Plan Indicativo (Productos)'!K263","v":200},null,10,10,1647981215,1647981215]
[{"$f":"+'Plan Indicativo (Productos)'!A264","v":260},{"$f":"+'Plan Indicativo (Productos)'!B264","v":"Político institucional"},{"$f":"+'Plan Indicativo (Productos)'!C264","v":40},{"$f":"+'Plan Indicativo (Productos)'!D264","v":"40. Vivienda, Ciudad y Territorio"},{"$f":"+'Plan Indicativo (Productos)'!E264","v":"4002"},{"$f":"+'Plan Indicativo (Productos)'!F264","v":"Ordenamiento territorial y desarrollo urbano"},{"$f":"+'Plan Indicativo (Productos)'!G264","v":"400202000"},{"$f":"+'Plan Indicativo (Productos)'!H264","v":"Espacio publico adecuado"},{"$f":"+'Plan Indicativo (Productos)'!I264","v":"Metros cuadrados"},{"$f":"+'Plan Indicativo (Productos)'!J264","v":0},{"$f":"+'Plan Indicativo (Productos)'!K264","v":75},null,5,5,1647981215,1647981215]
[{"$f":"+'Plan Indicativo (Productos)'!A265","v":261},{"$f":"+'Plan Indicativo (Productos)'!B265","v":"Político institucional"},{"$f":"+'Plan Indicativo (Productos)'!C265","v":40},{"$f":"+'Plan Indicativo (Productos)'!D265","v":"40. Vivienda, Ciudad y Territorio"},{"$f":"+'Plan Indicativo (Productos)'!E265","v":"4002"},{"$f":"+'Plan Indicativo (Productos)'!F265","v":"Ordenamiento territorial y desarrollo urbano"},{"$f":"+'Plan Indicativo (Productos)'!G265","v":"400202000"},{"$f":"+'Plan Indicativo (Productos)'!H265","v":"Espacio publico adecuado"},{"$f":"+'Plan Indicativo (Productos)'!I265","v":"Metros cuadrados"},{"$f":"+'Plan Indicativo (Productos)'!J265","v":0},{"$f":"+'Plan Indicativo (Productos)'!K265","v":100},null,5,5,1647981215,1647981215]
[{"$f":"+'Plan Indicativo (Productos)'!A266","v":262},{"$f":"+'Plan Indicativo (Productos)'!B266","v":"Político institucional"},{"$f":"+'Plan Indicativo (Productos)'!C266","v":40},{"$f":"+'Plan Indicativo (Productos)'!D266","v":"40. Vivienda, Ciudad y Territorio"},{"$f":"+'Plan Indicativo (Productos)'!E266","v":"4002"},{"$f":"+'Plan Indicativo (Productos)'!F266","v":"Ordenamiento territorial y desarrollo urbano"},{"$f":"+'Plan Indicativo (Productos)'!G266","v":"400202000"},{"$f":"+'Plan Indicativo (Productos)'!H266","v":"Espacio publico adecuado"},{"$f":"+'Plan Indicativo (Productos)'!I266","v":"Metros cuadrados"},{"$f":"+'Plan Indicativo (Productos)'!J266","v":0},{"$f":"+'Plan Indicativo (Productos)'!K266","v":6000},null,300,300,0,0]
[{"$f":"+'Plan Indicativo (Productos)'!A267","v":263},{"$f":"+'Plan Indicativo (Productos)'!B267","v":"Político institucional"},{"$f":"+'Plan Indicativo (Productos)'!C267","v":40},{"$f":"+'Plan Indicativo (Productos)'!D267","v":"40. Vivienda, Ciudad y Territorio"},{"$f":"+'Plan Indicativo (Productos)'!E267","v":"4002"},{"$f":"+'Plan Indicativo (Productos)'!F267","v":"Ordenamiento territorial y desarrollo urbano"},{"$f":"+'Plan Indicativo (Productos)'!G267","v":"400203000"},{"$f":"+'Plan Indicativo (Productos)'!H267","v":"Plazas construidas"},{"$f":"+'Plan Indicativo (Productos)'!I267","v":"Metros cuadrados"},{"$f":"+'Plan Indicativo (Productos)'!J267","v":0},{"$f":"+'Plan Indicativo (Productos)'!K267","v":300},null,50,50,1647981215,1647981215]
[{"$f":"+'Plan Indicativo (Productos)'!A268","v":264},{"$f":"+'Plan Indicativo (Productos)'!B268","v":"Político institucional"},{"$f":"+'Plan Indicativo (Productos)'!C268","v":40},{"$f":"+'Plan Indicativo (Productos)'!D268","v":"40. Vivienda, Ciudad y Territorio"},{"$f":"+'Plan Indicativo (Productos)'!E268","v":"4002"},{"$f":"+'Plan Indicativo (Productos)'!F268","v":"Ordenamiento territorial y desarrollo urbano"},{"$f":"+'Plan Indicativo (Productos)'!G268","v":"400203400"},{"$f":"+'Plan Indicativo (Productos)'!H268","v":"Estudios o diseños realizados "},{"$f":"+'Plan Indicativo (Productos)'!I268","v":"Número"},{"$f":"+'Plan Indicativo (Productos)'!J268","v":0},{"$f":"+'Plan Indicativo (Productos)'!K268","v":1},null,0,0,0,0]
[{"$f":"+'Plan Indicativo (Productos)'!A269","v":265},{"$f":"+'Plan Indicativo (Productos)'!B269","v":"Político institucional"},{"$f":"+'Plan Indicativo (Productos)'!C269","v":36},{"$f":"+'Plan Indicativo (Productos)'!D269","v":"36.  Trabajo"},{"$f":"+'Plan Indicativo (Productos)'!E269","v":"3604"},{"$f":"+'Plan Indicativo (Productos)'!F269","v":"Derechos fundamentales del trabajo y fortalecimiento del diálogo social"},{"$f":"+'Plan Indicativo (Productos)'!G269","v":"360401900"},{"$f":"+'Plan Indicativo (Productos)'!H269","v":"Personas asistidas técnicamente"},{"$f":"+'Plan Indicativo (Productos)'!I269","v":"Número"},{"$f":"+'Plan Indicativo (Productos)'!J269","v":107},{"$f":"+'Plan Indicativo (Productos)'!K269","v":116},null,116,116,521973866,521973866]
[{"$f":"+'Plan Indicativo (Productos)'!A270","v":266},{"$f":"+'Plan Indicativo (Productos)'!B270","v":"Político institucional"},{"$f":"+'Plan Indicativo (Productos)'!C270","v":45},{"$f":"+'Plan Indicativo (Productos)'!D270","v":"45. Gobierno Territorial"},{"$f":"+'Plan Indicativo (Productos)'!E270","v":"4501"},{"$f":"+'Plan Indicativo (Productos)'!F270","v":"Fortalecimiento de la convivencia y la seguridad ciudadana"},{"$f":"+'Plan Indicativo (Productos)'!G270","v":"450100800"},{"$f":"+'Plan Indicativo (Productos)'!H270","v":"Sistemas de información actualizados"},{"$f":"+'Plan Indicativo (Productos)'!I270","v":"Número"},{"$f":"+'Plan Indicativo (Productos)'!J270","v":1},{"$f":"+'Plan Indicativo (Productos)'!K270","v":1},null,0.25,0.25,232100000,232100000]
[{"$f":"+'Plan Indicativo (Productos)'!A271","v":267},{"$f":"+'Plan Indicativo (Productos)'!B271","v":"Político institucional"},{"$f":"+'Plan Indicativo (Productos)'!C271","v":45},{"$f":"+'Plan Indicativo (Productos)'!D271","v":"45. Gobierno Territorial"},{"$f":"+'Plan Indicativo (Productos)'!E271","v":"4599"},{"$f":"+'Plan Indicativo (Productos)'!F271","v":"Fortalecimiento a la gestión y dirección de la administración pública territorial"},{"$f":"+'Plan Indicativo (Productos)'!G271","v":"459901900"},{"$f":"+'Plan Indicativo (Productos)'!H271","v":"Documentos de planeación realizados"},{"$f":"+'Plan Indicativo (Productos)'!I271","v":"Número"},{"$f":"+'Plan Indicativo (Productos)'!J271","v":1},{"$f":"+'Plan Indicativo (Productos)'!K271","v":1},null,0.25,0.25,232100000,232100000]
[{"$f":"+'Plan Indicativo (Productos)'!A272","v":268},{"$f":"+'Plan Indicativo (Productos)'!B272","v":"Político institucional"},{"$f":"+'Plan Indicativo (Productos)'!C272","v":45},{"$f":"+'Plan Indicativo (Productos)'!D272","v":"45. Gobierno Territorial"},{"$f":"+'Plan Indicativo (Productos)'!E272","v":"4502"},{"$f":"+'Plan Indicativo (Productos)'!F272","v":"Fortalecimiento del buen gobierno para el respeto y garantía de los derechos humanos"},{"$f":"+'Plan Indicativo (Productos)'!G272","v":"450200100"},{"$f":"+'Plan Indicativo (Productos)'!H272","v":"Espacios de participación promovidos"},{"$f":"+'Plan Indicativo (Productos)'!I272","v":"Número"},{"$f":"+'Plan Indicativo (Productos)'!J272","v":0},{"$f":"+'Plan Indicativo (Productos)'!K272","v":16},null,4,4,0,0]
[{"$f":"+'Plan Indicativo (Productos)'!A273","v":269},{"$f":"+'Plan Indicativo (Productos)'!B273","v":"Político institucional"},{"$f":"+'Plan Indicativo (Productos)'!C273","v":45},{"$f":"+'Plan Indicativo (Productos)'!D273","v":"45. Gobierno Territorial"},{"$f":"+'Plan Indicativo (Productos)'!E273","v":"4502"},{"$f":"+'Plan Indicativo (Productos)'!F273","v":"Fortalecimiento del buen gobierno para el respeto y garantía de los derechos humanos"},{"$f":"+'Plan Indicativo (Productos)'!G273","v":"450200100"},{"$f":"+'Plan Indicativo (Productos)'!H273","v":"Espacios de participación promovidos"},{"$f":"+'Plan Indicativo (Productos)'!I273","v":"Número"},{"$f":"+'Plan Indicativo (Productos)'!J273","v":0},{"$f":"+'Plan Indicativo (Productos)'!K273","v":16},null,4,4,0,0]
[{"$f":"+'Plan Indicativo (Productos)'!A274","v":270},{"$f":"+'Plan Indicativo (Productos)'!B274","v":"Político institucional"},{"$f":"+'Plan Indicativo (Productos)'!C274","v":4},{"$f":"+'Plan Indicativo (Productos)'!D274","v":"4. Información Estadística"},{"$f":"+'Plan Indicativo (Productos)'!E274","v":"0401"},{"$f":"+'Plan Indicativo (Productos)'!F274","v":"Levantamiento y actualización de información estadística de calidad"},{"$f":"+'Plan Indicativo (Productos)'!G274","v":"040110200"},{"$f":"+'Plan Indicativo (Productos)'!H274","v":"Sistemas de información implementados"},{"$f":"+'Plan Indicativo (Productos)'!I274","v":"Número"},{"$f":"+'Plan Indicativo (Productos)'!J274","v":0},{"$f":"+'Plan Indicativo (Productos)'!K274","v":1},null,0,0.25,127179013,127179013]
[{"$f":"+'Plan Indicativo (Productos)'!A275","v":271},{"$f":"+'Plan Indicativo (Productos)'!B275","v":"Político institucional"},{"$f":"+'Plan Indicativo (Productos)'!C275","v":4},{"$f":"+'Plan Indicativo (Productos)'!D275","v":"4. Información Estadística"},{"$f":"+'Plan Indicativo (Productos)'!E275","v":"0401"},{"$f":"+'Plan Indicativo (Productos)'!F275","v":"Levantamiento y actualización de información estadística de calidad"},{"$f":"+'Plan Indicativo (Productos)'!G275","v":40110200},{"$f":"+'Plan Indicativo (Productos)'!H275","v":"Sistemas de información implementados"},{"$f":"+'Plan Indicativo (Productos)'!I275","v":"Número"},{"$f":"+'Plan Indicativo (Productos)'!J275","v":0},{"$f":"+'Plan Indicativo (Productos)'!K275","v":1},null,0,0,0,0]
[{"$f":"+'Plan Indicativo (Productos)'!A276","v":272},{"$f":"+'Plan Indicativo (Productos)'!B276","v":"Político institucional"},{"$f":"+'Plan Indicativo (Productos)'!C276","v":45},{"$f":"+'Plan Indicativo (Productos)'!D276","v":"45. Gobierno Territorial"},{"$f":"+'Plan Indicativo (Productos)'!E276","v":"4501"},{"$f":"+'Plan Indicativo (Productos)'!F276","v":"Fortalecimiento de la convivencia y la seguridad ciudadana"},{"$f":"+'Plan Indicativo (Productos)'!G276","v":"450108100"},{"$f":"+'Plan Indicativo (Productos)'!H276","v":"Casos atendidos"},{"$f":"+'Plan Indicativo (Productos)'!I276","v":"Número"},{"$f":"+'Plan Indicativo (Productos)'!J276","v":3161},{"$f":"+'Plan Indicativo (Productos)'!K276","v":4800},null,1920,1920,400558424,400558424]
[{"$f":"+'Plan Indicativo (Productos)'!A277","v":273},{"$f":"+'Plan Indicativo (Productos)'!B277","v":"Político institucional"},{"$f":"+'Plan Indicativo (Productos)'!C277","v":45},{"$f":"+'Plan Indicativo (Productos)'!D277","v":"45. Gobierno Territorial"},{"$f":"+'Plan Indicativo (Productos)'!E277","v":"4501"},{"$f":"+'Plan Indicativo (Productos)'!F277","v":"Fortalecimiento de la convivencia y la seguridad ciudadana"},{"$f":"+'Plan Indicativo (Productos)'!G277","v":"450102800"},{"$f":"+'Plan Indicativo (Productos)'!H277","v":"Cámaras de seguridad instaladas"},{"$f":"+'Plan Indicativo (Productos)'!I277","v":"Número"},{"$f":"+'Plan Indicativo (Productos)'!J277","v":40},{"$f":"+'Plan Indicativo (Productos)'!K277","v":60},null,20,20,400558424,400558424]
[{"$f":"+'Plan Indicativo (Productos)'!A278","v":274},{"$f":"+'Plan Indicativo (Productos)'!B278","v":"Político institucional"},{"$f":"+'Plan Indicativo (Productos)'!C278","v":45},{"$f":"+'Plan Indicativo (Productos)'!D278","v":"45. Gobierno Territorial"},{"$f":"+'Plan Indicativo (Productos)'!E278","v":"4501"},{"$f":"+'Plan Indicativo (Productos)'!F278","v":"Fortalecimiento de la convivencia y la seguridad ciudadana"},{"$f":"+'Plan Indicativo (Productos)'!G278","v":"450107800"},{"$f":"+'Plan Indicativo (Productos)'!H278","v":"Unidades policiales dotadas"},{"$f":"+'Plan Indicativo (Productos)'!I278","v":"Número"},{"$f":"+'Plan Indicativo (Productos)'!J278","v":4},{"$f":"+'Plan Indicativo (Productos)'!K278","v":32},null,8,8,400558424,400558424]
[{"$f":"+'Plan Indicativo (Productos)'!A279","v":275},{"$f":"+'Plan Indicativo (Productos)'!B279","v":"Político institucional"},{"$f":"+'Plan Indicativo (Productos)'!C279","v":45},{"$f":"+'Plan Indicativo (Productos)'!D279","v":"45. Gobierno Territorial"},{"$f":"+'Plan Indicativo (Productos)'!E279","v":"4501"},{"$f":"+'Plan Indicativo (Productos)'!F279","v":"Fortalecimiento de la convivencia y la seguridad ciudadana"},{"$f":"+'Plan Indicativo (Productos)'!G279","v":"450104905"},{"$f":"+'Plan Indicativo (Productos)'!H279","v":"Capacitaciones realizadas"},{"$f":"+'Plan Indicativo (Productos)'!I279","v":"Número"},{"$f":"+'Plan Indicativo (Productos)'!J279","v":1},{"$f":"+'Plan Indicativo (Productos)'!K279","v":96},null,24,24,400558424,400558424]
[{"$f":"+'Plan Indicativo (Productos)'!A280","v":276},{"$f":"+'Plan Indicativo (Productos)'!B280","v":"Político institucional"},{"$f":"+'Plan Indicativo (Productos)'!C280","v":12},{"$f":"+'Plan Indicativo (Productos)'!D280","v":"12. Justicia y del Derecho"},{"$f":"+'Plan Indicativo (Productos)'!E280","v":"1207"},{"$f":"+'Plan Indicativo (Productos)'!F280","v":"Fortalecimiento de la política criminal del Estado colombiano"},{"$f":"+'Plan Indicativo (Productos)'!G280","v":"120701700"},{"$f":"+'Plan Indicativo (Productos)'!H280","v":"Asistencias técnicas en prevención del delito realizadas"},{"$f":"+'Plan Indicativo (Productos)'!I280","v":"Número"},{"$f":"+'Plan Indicativo (Productos)'!J280","v":54},{"$f":"+'Plan Indicativo (Productos)'!K280","v":96},null,24,24,247029476,247029476]
[{"$f":"+'Plan Indicativo (Productos)'!A281","v":277},{"$f":"+'Plan Indicativo (Productos)'!B281","v":"Político institucional"},{"$f":"+'Plan Indicativo (Productos)'!C281","v":45},{"$f":"+'Plan Indicativo (Productos)'!D281","v":"45. Gobierno Territorial"},{"$f":"+'Plan Indicativo (Productos)'!E281","v":"4502"},{"$f":"+'Plan Indicativo (Productos)'!F281","v":"Fortalecimiento del buen gobierno para el respeto y garantía de los derechos humanos"},{"$f":"+'Plan Indicativo (Productos)'!G281","v":"450200100"},{"$f":"+'Plan Indicativo (Productos)'!H281","v":"Espacios de participación promovidos"},{"$f":"+'Plan Indicativo (Productos)'!I281","v":"Número"},{"$f":"+'Plan Indicativo (Productos)'!J281","v":3},{"$f":"+'Plan Indicativo (Productos)'!K281","v":24},null,6,4,572641750,572641750]
[{"$f":"+'Plan Indicativo (Productos)'!A282","v":278},{"$f":"+'Plan Indicativo (Productos)'!B282","v":"Político institucional"},{"$f":"+'Plan Indicativo (Productos)'!C282","v":12},{"$f":"+'Plan Indicativo (Productos)'!D282","v":"12. Justicia y del Derecho"},{"$f":"+'Plan Indicativo (Productos)'!E282","v":"1202"},{"$f":"+'Plan Indicativo (Productos)'!F282","v":"Promoción al acceso a la justicia"},{"$f":"+'Plan Indicativo (Productos)'!G282","v":"120200200"},{"$f":"+'Plan Indicativo (Productos)'!H282","v":"Ciudadanos con servicio de justicia prestado"},{"$f":"+'Plan Indicativo (Productos)'!I282","v":"Número"},{"$f":"+'Plan Indicativo (Productos)'!J282","v":645},{"$f":"+'Plan Indicativo (Productos)'!K282","v":1800},null,720,720,464911357,464911357]
[{"$f":"+'Plan Indicativo (Productos)'!A283","v":279},{"$f":"+'Plan Indicativo (Productos)'!B283","v":"Político institucional"},{"$f":"+'Plan Indicativo (Productos)'!C283","v":45},{"$f":"+'Plan Indicativo (Productos)'!D283","v":"45. Gobierno Territorial"},{"$f":"+'Plan Indicativo (Productos)'!E283","v":"4502"},{"$f":"+'Plan Indicativo (Productos)'!F283","v":"Fortalecimiento del buen gobierno para el respeto y garantía de los derechos humanos"},{"$f":"+'Plan Indicativo (Productos)'!G283","v":"450200100"},{"$f":"+'Plan Indicativo (Productos)'!H283","v":"Espacios de participación promovidos"},{"$f":"+'Plan Indicativo (Productos)'!I283","v":"Número"},{"$f":"+'Plan Indicativo (Productos)'!J283","v":31},{"$f":"+'Plan Indicativo (Productos)'!K283","v":16},null,4,4,181711213,181711213]
[{"$f":"+'Plan Indicativo (Productos)'!A284","v":280},{"$f":"+'Plan Indicativo (Productos)'!B284","v":"Político institucional"},{"$f":"+'Plan Indicativo (Productos)'!C284","v":45},{"$f":"+'Plan Indicativo (Productos)'!D284","v":"45. Gobierno Territorial"},{"$f":"+'Plan Indicativo (Productos)'!E284","v":"4502"},{"$f":"+'Plan Indicativo (Productos)'!F284","v":"Fortalecimiento del buen gobierno para el respeto y garantía de los derechos humanos"},{"$f":"+'Plan Indicativo (Productos)'!G284","v":"450200200"},{"$f":"+'Plan Indicativo (Productos)'!H284","v":"Salones comunales construidos y dotados"},{"$f":"+'Plan Indicativo (Productos)'!I284","v":"Número"},{"$f":"+'Plan Indicativo (Productos)'!J284","v":0},{"$f":"+'Plan Indicativo (Productos)'!K284","v":4},null,1,1,423992829,423992829]
[{"$f":"+'Plan Indicativo (Productos)'!A285","v":281},{"$f":"+'Plan Indicativo (Productos)'!B285","v":"Político institucional"},{"$f":"+'Plan Indicativo (Productos)'!C285","v":41},{"$f":"+'Plan Indicativo (Productos)'!D285","v":"41. Inclusión Social y Reconciliación"},{"$f":"+'Plan Indicativo (Productos)'!E285","v":"4103"},{"$f":"+'Plan Indicativo (Productos)'!F285","v":"Inclusión social y productiva para la población en situación de vulnerabilidad"},{"$f":"+'Plan Indicativo (Productos)'!G285","v":"410300500"},{"$f":"+'Plan Indicativo (Productos)'!H285","v":"Proyectos productivos formulados"},{"$f":"+'Plan Indicativo (Productos)'!I285","v":"Número"},{"$f":"+'Plan Indicativo (Productos)'!J285","v":0},{"$f":"+'Plan Indicativo (Productos)'!K285","v":4},null,1,1,303161787,303161787]
[{"$f":"+'Plan Indicativo (Productos)'!A286","v":282},{"$f":"+'Plan Indicativo (Productos)'!B286","v":"Político institucional"},{"$f":"+'Plan Indicativo (Productos)'!C286","v":45},{"$f":"+'Plan Indicativo (Productos)'!D286","v":"45. Gobierno Territorial"},{"$f":"+'Plan Indicativo (Productos)'!E286","v":"4599"},{"$f":"+'Plan Indicativo (Productos)'!F286","v":"Fortalecimiento a la gestión y dirección de la administración pública territorial"},{"$f":"+'Plan Indicativo (Productos)'!G286","v":"459900200"},{"$f":"+'Plan Indicativo (Productos)'!H286","v":"Programa de sanemiento fiscal y financiero ejecutado"},{"$f":"+'Plan Indicativo (Productos)'!I286","v":"Porcentaje"},{"$f":"+'Plan Indicativo (Productos)'!J286","v":0},{"$f":"+'Plan Indicativo (Productos)'!K286","v":1},null,0.3,0.3,292295710,292295710]
[{"$f":"+'Plan Indicativo (Productos)'!A287","v":283},{"$f":"+'Plan Indicativo (Productos)'!B287","v":"Político institucional"},{"$f":"+'Plan Indicativo (Productos)'!C287","v":45},{"$f":"+'Plan Indicativo (Productos)'!D287","v":"45. Gobierno Territorial"},{"$f":"+'Plan Indicativo (Productos)'!E287","v":"4599"},{"$f":"+'Plan Indicativo (Productos)'!F287","v":"Fortalecimiento a la gestión y dirección de la administración pública territorial"},{"$f":"+'Plan Indicativo (Productos)'!G287","v":"459900200"},{"$f":"+'Plan Indicativo (Productos)'!H287","v":"Programa de sanemiento fiscal y financiero ejecutado"},{"$f":"+'Plan Indicativo (Productos)'!I287","v":"Porcentaje"},{"$f":"+'Plan Indicativo (Productos)'!J287","v":1},{"$f":"+'Plan Indicativo (Productos)'!K287","v":8},null,2,2,292295710,292295710]
[{"$f":"+'Plan Indicativo (Productos)'!A288","v":284},{"$f":"+'Plan Indicativo (Productos)'!B288","v":"Político institucional"},{"$f":"+'Plan Indicativo (Productos)'!C288","v":45},{"$f":"+'Plan Indicativo (Productos)'!D288","v":"45. Gobierno Territorial"},{"$f":"+'Plan Indicativo (Productos)'!E288","v":"4599"},{"$f":"+'Plan Indicativo (Productos)'!F288","v":"Fortalecimiento a la gestión y dirección de la administración pública territorial"},{"$f":"+'Plan Indicativo (Productos)'!G288","v":"459900200"},{"$f":"+'Plan Indicativo (Productos)'!H288","v":"Programa de sanemiento fiscal y financiero ejecutado"},{"$f":"+'Plan Indicativo (Productos)'!I288","v":"Porcentaje"},{"$f":"+'Plan Indicativo (Productos)'!J288","v":1},{"$f":"+'Plan Indicativo (Productos)'!K288","v":8},null,2,2,0,0]
[{"$f":"+'Plan Indicativo (Productos)'!A289","v":285},{"$f":"+'Plan Indicativo (Productos)'!B289","v":"Político institucional"},{"$f":"+'Plan Indicativo (Productos)'!C289","v":36},{"$f":"+'Plan Indicativo (Productos)'!D289","v":"36.  Trabajo"},{"$f":"+'Plan Indicativo (Productos)'!E289","v":"3602"},{"$f":"+'Plan Indicativo (Productos)'!F289","v":"Generación y formalización del empleo"},{"$f":"+'Plan Indicativo (Productos)'!G289","v":"360203300"},{"$f":"+'Plan Indicativo (Productos)'!H289","v":"Planes de negocios financiados"},{"$f":"+'Plan Indicativo (Productos)'!I289","v":"Número"},{"$f":"+'Plan Indicativo (Productos)'!J289","v":0},{"$f":"+'Plan Indicativo (Productos)'!K289","v":4},null,1,1,0,0]
[{"$f":"+'Plan Indicativo (Productos)'!A290","v":286},{"$f":"+'Plan Indicativo (Productos)'!B290","v":"Político institucional"},{"$f":"+'Plan Indicativo (Productos)'!C290","v":35},{"$f":"+'Plan Indicativo (Productos)'!D290","v":"35. Comercio, Industria y Turismo"},{"$f":"+'Plan Indicativo (Productos)'!E290","v":"3502"},{"$f":"+'Plan Indicativo (Productos)'!F290","v":"Productividad y competitividad de las empresas colombianas"},{"$f":"+'Plan Indicativo (Productos)'!G290","v":"350209600"},{"$f":"+'Plan Indicativo (Productos)'!H290","v":"Proyectos cofinanciados para la gestión y el uso eficiente de recursos"},{"$f":"+'Plan Indicativo (Productos)'!I290","v":"Número"},{"$f":"+'Plan Indicativo (Productos)'!J290","v":8},{"$f":"+'Plan Indicativo (Productos)'!K290","v":20},null,5,5,324552271,324552271]
[{"$f":"+'Plan Indicativo (Productos)'!A291","v":287},{"$f":"+'Plan Indicativo (Productos)'!B291","v":"Político institucional"},{"$f":"+'Plan Indicativo (Productos)'!C291","v":35},{"$f":"+'Plan Indicativo (Productos)'!D291","v":"35. Comercio, Industria y Turismo"},{"$f":"+'Plan Indicativo (Productos)'!E291","v":"3502"},{"$f":"+'Plan Indicativo (Productos)'!F291","v":"Productividad y competitividad de las empresas colombianas"},{"$f":"+'Plan Indicativo (Productos)'!G291","v":"350209600"},{"$f":"+'Plan Indicativo (Productos)'!H291","v":"Proyectos cofinanciados para la gestión y el uso eficiente de recursos"},{"$f":"+'Plan Indicativo (Productos)'!I291","v":"Número"},{"$f":"+'Plan Indicativo (Productos)'!J291","v":0},{"$f":"+'Plan Indicativo (Productos)'!K291","v":4},null,1,1,173545891,173545891]
[{"$f":"+'Plan Indicativo (Productos)'!A292","v":288},{"$f":"+'Plan Indicativo (Productos)'!B292","v":"Político institucional"},{"$f":"+'Plan Indicativo (Productos)'!C292","v":45},{"$f":"+'Plan Indicativo (Productos)'!D292","v":"45. Gobierno Territorial"},{"$f":"+'Plan Indicativo (Productos)'!E292","v":"4599"},{"$f":"+'Plan Indicativo (Productos)'!F292","v":"Fortalecimiento a la gestión y dirección de la administración pública territorial"},{"$f":"+'Plan Indicativo (Productos)'!G292","v":"459900600"},{"$f":"+'Plan Indicativo (Productos)'!H292","v":"Estudios de preinversión elaborados"},{"$f":"+'Plan Indicativo (Productos)'!I292","v":"Número"},{"$f":"+'Plan Indicativo (Productos)'!J292","v":0},{"$f":"+'Plan Indicativo (Productos)'!K292","v":4},null,0,0,0,0]
[{"$f":"+'Plan Indicativo (Productos)'!A293","v":289},{"$f":"+'Plan Indicativo (Productos)'!B293","v":"Político institucional"},{"$f":"+'Plan Indicativo (Productos)'!C293","v":45},{"$f":"+'Plan Indicativo (Productos)'!D293","v":"45. Gobierno Territorial"},{"$f":"+'Plan Indicativo (Productos)'!E293","v":"4501"},{"$f":"+'Plan Indicativo (Productos)'!F293","v":"Fortalecimiento de la convivencia y la seguridad ciudadana"},{"$f":"+'Plan Indicativo (Productos)'!G293","v":"450102600"},{"$f":"+'Plan Indicativo (Productos)'!H293","v":"Planes estratégicos elaborados"},{"$f":"+'Plan Indicativo (Productos)'!I293","v":"Número"},{"$f":"+'Plan Indicativo (Productos)'!J293","v":0},{"$f":"+'Plan Indicativo (Productos)'!K293","v":1},null,0.1,0.1,21186150,21186150]
[{"$f":"+'Plan Indicativo (Productos)'!A294","v":290},{"$f":"+'Plan Indicativo (Productos)'!B294","v":"Político institucional"},{"$f":"+'Plan Indicativo (Productos)'!C294","v":35},{"$f":"+'Plan Indicativo (Productos)'!D294","v":"35. Comercio, Industria y Turismo"},{"$f":"+'Plan Indicativo (Productos)'!E294","v":"3502"},{"$f":"+'Plan Indicativo (Productos)'!F294","v":"Productividad y competitividad de las empresas colombianas"},{"$f":"+'Plan Indicativo (Productos)'!G294","v":"350209600"},{"$f":"+'Plan Indicativo (Productos)'!H294","v":"Proyectos cofinanciados para la gestión y el uso eficiente de recursos"},{"$f":"+'Plan Indicativo (Productos)'!I294","v":"Número"},{"$f":"+'Plan Indicativo (Productos)'!J294","v":0},{"$f":"+'Plan Indicativo (Productos)'!K294","v":7},null,0,0,0,0]
[{"$f":"+'Plan Indicativo (Productos)'!A295","v":291},{"$f":"+'Plan Indicativo (Productos)'!B295","v":"Político institucional"},{"$f":"+'Plan Indicativo (Productos)'!C295","v":35},{"$f":"+'Plan Indicativo (Productos)'!D295","v":"35. Comercio, Industria y Turismo"},{"$f":"+'Plan Indicativo (Productos)'!E295","v":3502},{"$f":"+'Plan Indicativo (Productos)'!F295","v":"Productividad y competitividad de las empresas colombianas"},{"$f":"+'Plan Indicativo (Productos)'!G295","v":"350209600"},{"$f":"+'Plan Indicativo (Productos)'!H295","v":"Proyectos cofinanciados para la gestión y el uso eficiente de recursos"},{"$f":"+'Plan Indicativo (Productos)'!I295","v":"Número"},{"$f":"+'Plan Indicativo (Productos)'!J295","v":0},{"$f":"+'Plan Indicativo (Productos)'!K295","v":11},null,0,0,0,0]
[{"$f":"+'Plan Indicativo (Productos)'!A296","v":292},{"$f":"+'Plan Indicativo (Productos)'!B296","v":"Tecnológica"},{"$f":"+'Plan Indicativo (Productos)'!C296","v":23},{"$f":"+'Plan Indicativo (Productos)'!D296","v":"23. Tecnologias de la Información y Las Comunicaciones "},{"$f":"+'Plan Indicativo (Productos)'!E296","v":"2301"},{"$f":"+'Plan Indicativo (Productos)'!F296","v":"Facilitar el acceso y uso de las Tecnologías de la Información y las Comunicaciones en todo el territorio nacional"},{"$f":"+'Plan Indicativo (Productos)'!G296","v":"230106100"},{"$f":"+'Plan Indicativo (Productos)'!H296","v":"Centro Integrado de Servicios adecuado"},{"$f":"+'Plan Indicativo (Productos)'!I296","v":"Número"},{"$f":"+'Plan Indicativo (Productos)'!J296","v":0},{"$f":"+'Plan Indicativo (Productos)'!K296","v":1},null,0.35,0.35,1191627107,1191627107]
[{"$f":"+'Plan Indicativo (Productos)'!A297","v":293},{"$f":"+'Plan Indicativo (Productos)'!B297","v":"Tecnológica"},{"$f":"+'Plan Indicativo (Productos)'!C297","v":23},{"$f":"+'Plan Indicativo (Productos)'!D297","v":"23. Tecnologias de la Información y Las Comunicaciones "},{"$f":"+'Plan Indicativo (Productos)'!E297","v":"2301"},{"$f":"+'Plan Indicativo (Productos)'!F297","v":"Facilitar el acceso y uso de las Tecnologías de la Información y las Comunicaciones en todo el territorio nacional"},{"$f":"+'Plan Indicativo (Productos)'!G297","v":"230103100"},{"$f":"+'Plan Indicativo (Productos)'!H297","v":"Personas de la comunidad capacitadas en uso básico de tecnologías de la información y las comunicaciones."},{"$f":"+'Plan Indicativo (Productos)'!I297","v":"Número"},{"$f":"+'Plan Indicativo (Productos)'!J297","v":0},{"$f":"+'Plan Indicativo (Productos)'!K297","v":800},null,200,200,116050000,116050000]
[{"$f":"+'Plan Indicativo (Productos)'!A298","v":294},{"$f":"+'Plan Indicativo (Productos)'!B298","v":"Tecnológica"},{"$f":"+'Plan Indicativo (Productos)'!C298","v":23},{"$f":"+'Plan Indicativo (Productos)'!D298","v":"23. Tecnologias de la Información y Las Comunicaciones "},{"$f":"+'Plan Indicativo (Productos)'!E298","v":"2302"},{"$f":"+'Plan Indicativo (Productos)'!F298","v":"Fomento del desarrollo de aplicaciones, software y contenidos para impulsar la apropiación de las Tecnologías de la Información y las Comunicaciones (TIC)"},{"$f":"+'Plan Indicativo (Productos)'!G298","v":"230200300"},{"$f":"+'Plan Indicativo (Productos)'!H298","v":"Productos digitales desarrollados"},{"$f":"+'Plan Indicativo (Productos)'!I298","v":"Número"},{"$f":"+'Plan Indicativo (Productos)'!J298","v":1},{"$f":"+'Plan Indicativo (Productos)'!K298","v":1},null,0.25,0.25,81235000,81235000]
[{"$f":"+'Plan Indicativo (Productos)'!A299","v":295},{"$f":"+'Plan Indicativo (Productos)'!B299","v":"Tecnológica"},{"$f":"+'Plan Indicativo (Productos)'!C299","v":23},{"$f":"+'Plan Indicativo (Productos)'!D299","v":"23. Tecnologias de la Información y Las Comunicaciones "},{"$f":"+'Plan Indicativo (Productos)'!E299","v":"2302"},{"$f":"+'Plan Indicativo (Productos)'!F299","v":"Fomento del desarrollo de aplicaciones, software y contenidos para impulsar la apropiación de las Tecnologías de la Información y las Comunicaciones (TIC)"},{"$f":"+'Plan Indicativo (Productos)'!G299","v":230205100},{"$f":"+'Plan Indicativo (Productos)'!H299","v":"Eventos para difundir instrumentos de promoción de la innovación en la industria TI  realizados"},{"$f":"+'Plan Indicativo (Productos)'!I299","v":"Número"},{"$f":"+'Plan Indicativo (Productos)'!J299","v":0},{"$f":"+'Plan Indicativo (Productos)'!K299","v":4},null,1,1,34815000,34815000]
[{"$f":"+'Plan Indicativo (Productos)'!A300","v":296},{"$f":"+'Plan Indicativo (Productos)'!B300","v":0},{"$f":"+'Plan Indicativo (Productos)'!C300","v":""},{"$f":"+'Plan Indicativo (Productos)'!D300","v":0},{"$f":"+'Plan Indicativo (Productos)'!E300","v":0},{"$f":"+'Plan Indicativo (Productos)'!F300","v":0},{"$f":"+'Plan Indicativo (Productos)'!G300","v":0},{"$f":"+'Plan Indicativo (Productos)'!H300","v":0},{"$f":"+'Plan Indicativo (Productos)'!I300","v":0},{"$f":"+'Plan Indicativo (Productos)'!J300","v":0},{"$f":"+'Plan Indicativo (Productos)'!K300","v":0}]
[{"$f":"+'Plan Indicativo (Productos)'!A301","v":297},{"$f":"+'Plan Indicativo (Productos)'!B301","v":0},{"$f":"+'Plan Indicativo (Productos)'!C301","v":""},{"$f":"+'Plan Indicativo (Productos)'!D301","v":0},{"$f":"+'Plan Indicativo (Productos)'!E301","v":0},{"$f":"+'Plan Indicativo (Productos)'!F301","v":0},{"$f":"+'Plan Indicativo (Productos)'!G301","v":0},{"$f":"+'Plan Indicativo (Productos)'!H301","v":0},{"$f":"+'Plan Indicativo (Productos)'!I301","v":0},{"$f":"+'Plan Indicativo (Productos)'!J301","v":0},{"$f":"+'Plan Indicativo (Productos)'!K301","v":0}]
[{"$f":"+'Plan Indicativo (Productos)'!A302","v":298},{"$f":"+'Plan Indicativo (Productos)'!B302","v":0},{"$f":"+'Plan Indicativo (Productos)'!C302","v":""},{"$f":"+'Plan Indicativo (Productos)'!D302","v":0},{"$f":"+'Plan Indicativo (Productos)'!E302","v":0},{"$f":"+'Plan Indicativo (Productos)'!F302","v":0},{"$f":"+'Plan Indicativo (Productos)'!G302","v":0},{"$f":"+'Plan Indicativo (Productos)'!H302","v":0},{"$f":"+'Plan Indicativo (Productos)'!I302","v":0},{"$f":"+'Plan Indicativo (Productos)'!J302","v":0},{"$f":"+'Plan Indicativo (Productos)'!K302","v":0}]
[{"$f":"+'Plan Indicativo (Productos)'!A303","v":299},{"$f":"+'Plan Indicativo (Productos)'!B303","v":0},{"$f":"+'Plan Indicativo (Productos)'!C303","v":""},{"$f":"+'Plan Indicativo (Productos)'!D303","v":0},{"$f":"+'Plan Indicativo (Productos)'!E303","v":0},{"$f":"+'Plan Indicativo (Productos)'!F303","v":0},{"$f":"+'Plan Indicativo (Productos)'!G303","v":0},{"$f":"+'Plan Indicativo (Productos)'!H303","v":0},{"$f":"+'Plan Indicativo (Productos)'!I303","v":0},{"$f":"+'Plan Indicativo (Productos)'!J303","v":0},{"$f":"+'Plan Indicativo (Productos)'!K303","v":0}]
[{"$f":"+'Plan Indicativo (Productos)'!A304","v":300},{"$f":"+'Plan Indicativo (Productos)'!B304","v":0},{"$f":"+'Plan Indicativo (Productos)'!C304","v":""},{"$f":"+'Plan Indicativo (Productos)'!D304","v":0},{"$f":"+'Plan Indicativo (Productos)'!E304","v":0},{"$f":"+'Plan Indicativo (Productos)'!F304","v":0},{"$f":"+'Plan Indicativo (Productos)'!G304","v":0},{"$f":"+'Plan Indicativo (Productos)'!H304","v":0},{"$f":"+'Plan Indicativo (Productos)'!I304","v":0},{"$f":"+'Plan Indicativo (Productos)'!J304","v":0},{"$f":"+'Plan Indicativo (Productos)'!K304","v":0}]
[{"$f":"+'Plan Indicativo (Productos)'!A305","v":301},{"$f":"+'Plan Indicativo (Productos)'!B305","v":0},{"$f":"+'Plan Indicativo (Productos)'!C305","v":""},{"$f":"+'Plan Indicativo (Productos)'!D305","v":0},{"$f":"+'Plan Indicativo (Productos)'!E305","v":0},{"$f":"+'Plan Indicativo (Productos)'!F305","v":0},{"$f":"+'Plan Indicativo (Productos)'!G305","v":0},{"$f":"+'Plan Indicativo (Productos)'!H305","v":0},{"$f":"+'Plan Indicativo (Productos)'!I305","v":0},{"$f":"+'Plan Indicativo (Productos)'!J305","v":0},{"$f":"+'Plan Indicativo (Productos)'!K305","v":0}]
[{"$f":"+'Plan Indicativo (Productos)'!A306","v":302},{"$f":"+'Plan Indicativo (Productos)'!B306","v":0},{"$f":"+'Plan Indicativo (Productos)'!C306","v":""},{"$f":"+'Plan Indicativo (Productos)'!D306","v":0},{"$f":"+'Plan Indicativo (Productos)'!E306","v":0},{"$f":"+'Plan Indicativo (Productos)'!F306","v":0},{"$f":"+'Plan Indicativo (Productos)'!G306","v":0},{"$f":"+'Plan Indicativo (Productos)'!H306","v":0},{"$f":"+'Plan Indicativo (Productos)'!I306","v":0},{"$f":"+'Plan Indicativo (Productos)'!J306","v":0},{"$f":"+'Plan Indicativo (Productos)'!K306","v":0}]
[{"$f":"+'Plan Indicativo (Productos)'!A307","v":303},{"$f":"+'Plan Indicativo (Productos)'!B307","v":0},{"$f":"+'Plan Indicativo (Productos)'!C307","v":""},{"$f":"+'Plan Indicativo (Productos)'!D307","v":0},{"$f":"+'Plan Indicativo (Productos)'!E307","v":0},{"$f":"+'Plan Indicativo (Productos)'!F307","v":0},{"$f":"+'Plan Indicativo (Productos)'!G307","v":0},{"$f":"+'Plan Indicativo (Productos)'!H307","v":0},{"$f":"+'Plan Indicativo (Productos)'!I307","v":0},{"$f":"+'Plan Indicativo (Productos)'!J307","v":0},{"$f":"+'Plan Indicativo (Productos)'!K307","v":0}]
[{"$f":"+'Plan Indicativo (Productos)'!A308","v":304},{"$f":"+'Plan Indicativo (Productos)'!B308","v":0},{"$f":"+'Plan Indicativo (Productos)'!C308","v":""},{"$f":"+'Plan Indicativo (Productos)'!D308","v":0},{"$f":"+'Plan Indicativo (Productos)'!E308","v":0},{"$f":"+'Plan Indicativo (Productos)'!F308","v":0},{"$f":"+'Plan Indicativo (Productos)'!G308","v":0},{"$f":"+'Plan Indicativo (Productos)'!H308","v":0},{"$f":"+'Plan Indicativo (Productos)'!I308","v":0},{"$f":"+'Plan Indicativo (Productos)'!J308","v":0},{"$f":"+'Plan Indicativo (Productos)'!K308","v":0}]
[{"$f":"+'Plan Indicativo (Productos)'!A309","v":305},{"$f":"+'Plan Indicativo (Productos)'!B309","v":0},{"$f":"+'Plan Indicativo (Productos)'!C309","v":""},{"$f":"+'Plan Indicativo (Productos)'!D309","v":0},{"$f":"+'Plan Indicativo (Productos)'!E309","v":0},{"$f":"+'Plan Indicativo (Productos)'!F309","v":0},{"$f":"+'Plan Indicativo (Productos)'!G309","v":0},{"$f":"+'Plan Indicativo (Productos)'!H309","v":0},{"$f":"+'Plan Indicativo (Productos)'!I309","v":0},{"$f":"+'Plan Indicativo (Productos)'!J309","v":0},{"$f":"+'Plan Indicativo (Productos)'!K309","v":0}]
[{"$f":"+'Plan Indicativo (Productos)'!A310","v":306},{"$f":"+'Plan Indicativo (Productos)'!B310","v":0},{"$f":"+'Plan Indicativo (Productos)'!C310","v":""},{"$f":"+'Plan Indicativo (Productos)'!D310","v":0},{"$f":"+'Plan Indicativo (Productos)'!E310","v":0},{"$f":"+'Plan Indicativo (Productos)'!F310","v":0},{"$f":"+'Plan Indicativo (Productos)'!G310","v":0},{"$f":"+'Plan Indicativo (Productos)'!H310","v":0},{"$f":"+'Plan Indicativo (Productos)'!I310","v":0},{"$f":"+'Plan Indicativo (Productos)'!J310","v":0},{"$f":"+'Plan Indicativo (Productos)'!K310","v":0}]
[{"$f":"+'Plan Indicativo (Productos)'!A311","v":307},{"$f":"+'Plan Indicativo (Productos)'!B311","v":0},{"$f":"+'Plan Indicativo (Productos)'!C311","v":""},{"$f":"+'Plan Indicativo (Productos)'!D311","v":0},{"$f":"+'Plan Indicativo (Productos)'!E311","v":0},{"$f":"+'Plan Indicativo (Productos)'!F311","v":0},{"$f":"+'Plan Indicativo (Productos)'!G311","v":0},{"$f":"+'Plan Indicativo (Productos)'!H311","v":0},{"$f":"+'Plan Indicativo (Productos)'!I311","v":0},{"$f":"+'Plan Indicativo (Productos)'!J311","v":0},{"$f":"+'Plan Indicativo (Productos)'!K311","v":0}]
[{"$f":"+'Plan Indicativo (Productos)'!A312","v":308},{"$f":"+'Plan Indicativo (Productos)'!B312","v":0},{"$f":"+'Plan Indicativo (Productos)'!C312","v":""},{"$f":"+'Plan Indicativo (Productos)'!D312","v":0},{"$f":"+'Plan Indicativo (Productos)'!E312","v":0},{"$f":"+'Plan Indicativo (Productos)'!F312","v":0},{"$f":"+'Plan Indicativo (Productos)'!G312","v":0},{"$f":"+'Plan Indicativo (Productos)'!H312","v":0},{"$f":"+'Plan Indicativo (Productos)'!I312","v":0},{"$f":"+'Plan Indicativo (Productos)'!J312","v":0},{"$f":"+'Plan Indicativo (Productos)'!K312","v":0}]
[{"$f":"+'Plan Indicativo (Productos)'!A313","v":309},{"$f":"+'Plan Indicativo (Productos)'!B313","v":0},{"$f":"+'Plan Indicativo (Productos)'!C313","v":""},{"$f":"+'Plan Indicativo (Productos)'!D313","v":0},{"$f":"+'Plan Indicativo (Productos)'!E313","v":0},{"$f":"+'Plan Indicativo (Productos)'!F313","v":0},{"$f":"+'Plan Indicativo (Productos)'!G313","v":0},{"$f":"+'Plan Indicativo (Productos)'!H313","v":0},{"$f":"+'Plan Indicativo (Productos)'!I313","v":0},{"$f":"+'Plan Indicativo (Productos)'!J313","v":0},{"$f":"+'Plan Indicativo (Productos)'!K313","v":0}]
[{"$f":"+'Plan Indicativo (Productos)'!A314","v":310},{"$f":"+'Plan Indicativo (Productos)'!B314","v":0},{"$f":"+'Plan Indicativo (Productos)'!C314","v":""},{"$f":"+'Plan Indicativo (Productos)'!D314","v":0},{"$f":"+'Plan Indicativo (Productos)'!E314","v":0},{"$f":"+'Plan Indicativo (Productos)'!F314","v":0},{"$f":"+'Plan Indicativo (Productos)'!G314","v":0},{"$f":"+'Plan Indicativo (Productos)'!H314","v":0},{"$f":"+'Plan Indicativo (Productos)'!I314","v":0},{"$f":"+'Plan Indicativo (Productos)'!J314","v":0},{"$f":"+'Plan Indicativo (Productos)'!K314","v":0}]
[{"$f":"+'Plan Indicativo (Productos)'!A315","v":311},{"$f":"+'Plan Indicativo (Productos)'!B315","v":0},{"$f":"+'Plan Indicativo (Productos)'!C315","v":""},{"$f":"+'Plan Indicativo (Productos)'!D315","v":0},{"$f":"+'Plan Indicativo (Productos)'!E315","v":0},{"$f":"+'Plan Indicativo (Productos)'!F315","v":0},{"$f":"+'Plan Indicativo (Productos)'!G315","v":0},{"$f":"+'Plan Indicativo (Productos)'!H315","v":0},{"$f":"+'Plan Indicativo (Productos)'!I315","v":0},{"$f":"+'Plan Indicativo (Productos)'!J315","v":0},{"$f":"+'Plan Indicativo (Productos)'!K315","v":0}]
[{"$f":"+'Plan Indicativo (Productos)'!A316","v":312},{"$f":"+'Plan Indicativo (Productos)'!B316","v":0},{"$f":"+'Plan Indicativo (Productos)'!C316","v":""},{"$f":"+'Plan Indicativo (Productos)'!D316","v":0},{"$f":"+'Plan Indicativo (Productos)'!E316","v":0},{"$f":"+'Plan Indicativo (Productos)'!F316","v":0},{"$f":"+'Plan Indicativo (Productos)'!G316","v":0},{"$f":"+'Plan Indicativo (Productos)'!H316","v":0},{"$f":"+'Plan Indicativo (Productos)'!I316","v":0},{"$f":"+'Plan Indicativo (Productos)'!J316","v":0},{"$f":"+'Plan Indicativo (Productos)'!K316","v":0}]
[{"$f":"+'Plan Indicativo (Productos)'!A317","v":313},{"$f":"+'Plan Indicativo (Productos)'!B317","v":0},{"$f":"+'Plan Indicativo (Productos)'!C317","v":""},{"$f":"+'Plan Indicativo (Productos)'!D317","v":0},{"$f":"+'Plan Indicativo (Productos)'!E317","v":0},{"$f":"+'Plan Indicativo (Productos)'!F317","v":0},{"$f":"+'Plan Indicativo (Productos)'!G317","v":0},{"$f":"+'Plan Indicativo (Productos)'!H317","v":0},{"$f":"+'Plan Indicativo (Productos)'!I317","v":0},{"$f":"+'Plan Indicativo (Productos)'!J317","v":0},{"$f":"+'Plan Indicativo (Productos)'!K317","v":0}]
[{"$f":"+'Plan Indicativo (Productos)'!A318","v":314},{"$f":"+'Plan Indicativo (Productos)'!B318","v":0},{"$f":"+'Plan Indicativo (Productos)'!C318","v":""},{"$f":"+'Plan Indicativo (Productos)'!D318","v":0},{"$f":"+'Plan Indicativo (Productos)'!E318","v":0},{"$f":"+'Plan Indicativo (Productos)'!F318","v":0},{"$f":"+'Plan Indicativo (Productos)'!G318","v":0},{"$f":"+'Plan Indicativo (Productos)'!H318","v":0},{"$f":"+'Plan Indicativo (Productos)'!I318","v":0},{"$f":"+'Plan Indicativo (Productos)'!J318","v":0},{"$f":"+'Plan Indicativo (Productos)'!K318","v":0}]
[{"$f":"+'Plan Indicativo (Productos)'!A319","v":315},{"$f":"+'Plan Indicativo (Productos)'!B319","v":0},{"$f":"+'Plan Indicativo (Productos)'!C319","v":""},{"$f":"+'Plan Indicativo (Productos)'!D319","v":0},{"$f":"+'Plan Indicativo (Productos)'!E319","v":0},{"$f":"+'Plan Indicativo (Productos)'!F319","v":0},{"$f":"+'Plan Indicativo (Productos)'!G319","v":0},{"$f":"+'Plan Indicativo (Productos)'!H319","v":0},{"$f":"+'Plan Indicativo (Productos)'!I319","v":0},{"$f":"+'Plan Indicativo (Productos)'!J319","v":0},{"$f":"+'Plan Indicativo (Productos)'!K319","v":0}]
[{"$f":"+'Plan Indicativo (Productos)'!A320","v":316},{"$f":"+'Plan Indicativo (Productos)'!B320","v":0},{"$f":"+'Plan Indicativo (Productos)'!C320","v":""},{"$f":"+'Plan Indicativo (Productos)'!D320","v":0},{"$f":"+'Plan Indicativo (Productos)'!E320","v":0},{"$f":"+'Plan Indicativo (Productos)'!F320","v":0},{"$f":"+'Plan Indicativo (Productos)'!G320","v":0},{"$f":"+'Plan Indicativo (Productos)'!H320","v":0},{"$f":"+'Plan Indicativo (Productos)'!I320","v":0},{"$f":"+'Plan Indicativo (Productos)'!J320","v":0},{"$f":"+'Plan Indicativo (Productos)'!K320","v":0}]
[{"$f":"+'Plan Indicativo (Productos)'!A321","v":317},{"$f":"+'Plan Indicativo (Productos)'!B321","v":0},{"$f":"+'Plan Indicativo (Productos)'!C321","v":""},{"$f":"+'Plan Indicativo (Productos)'!D321","v":0},{"$f":"+'Plan Indicativo (Productos)'!E321","v":0},{"$f":"+'Plan Indicativo (Productos)'!F321","v":0},{"$f":"+'Plan Indicativo (Productos)'!G321","v":0},{"$f":"+'Plan Indicativo (Productos)'!H321","v":0},{"$f":"+'Plan Indicativo (Productos)'!I321","v":0},{"$f":"+'Plan Indicativo (Productos)'!J321","v":0},{"$f":"+'Plan Indicativo (Productos)'!K321","v":0}]
[{"$f":"+'Plan Indicativo (Productos)'!A322","v":318},{"$f":"+'Plan Indicativo (Productos)'!B322","v":0},{"$f":"+'Plan Indicativo (Productos)'!C322","v":""},{"$f":"+'Plan Indicativo (Productos)'!D322","v":0},{"$f":"+'Plan Indicativo (Productos)'!E322","v":0},{"$f":"+'Plan Indicativo (Productos)'!F322","v":0},{"$f":"+'Plan Indicativo (Productos)'!G322","v":0},{"$f":"+'Plan Indicativo (Productos)'!H322","v":0},{"$f":"+'Plan Indicativo (Productos)'!I322","v":0},{"$f":"+'Plan Indicativo (Productos)'!J322","v":0},{"$f":"+'Plan Indicativo (Productos)'!K322","v":0}]
[{"$f":"+'Plan Indicativo (Productos)'!A323","v":319},{"$f":"+'Plan Indicativo (Productos)'!B323","v":0},{"$f":"+'Plan Indicativo (Productos)'!C323","v":""},{"$f":"+'Plan Indicativo (Productos)'!D323","v":0},{"$f":"+'Plan Indicativo (Productos)'!E323","v":0},{"$f":"+'Plan Indicativo (Productos)'!F323","v":0},{"$f":"+'Plan Indicativo (Productos)'!G323","v":0},{"$f":"+'Plan Indicativo (Productos)'!H323","v":0},{"$f":"+'Plan Indicativo (Productos)'!I323","v":0},{"$f":"+'Plan Indicativo (Productos)'!J323","v":0},{"$f":"+'Plan Indicativo (Productos)'!K323","v":0}]
[{"$f":"+'Plan Indicativo (Productos)'!A324","v":320},{"$f":"+'Plan Indicativo (Productos)'!B324","v":0},{"$f":"+'Plan Indicativo (Productos)'!C324","v":""},{"$f":"+'Plan Indicativo (Productos)'!D324","v":0},{"$f":"+'Plan Indicativo (Productos)'!E324","v":0},{"$f":"+'Plan Indicativo (Productos)'!F324","v":0},{"$f":"+'Plan Indicativo (Productos)'!G324","v":0},{"$f":"+'Plan Indicativo (Productos)'!H324","v":0},{"$f":"+'Plan Indicativo (Productos)'!I324","v":0},{"$f":"+'Plan Indicativo (Productos)'!J324","v":0},{"$f":"+'Plan Indicativo (Productos)'!K324","v":0}]
[{"$f":"+'Plan Indicativo (Productos)'!A325","v":321},{"$f":"+'Plan Indicativo (Productos)'!B325","v":0},{"$f":"+'Plan Indicativo (Productos)'!C325","v":""},{"$f":"+'Plan Indicativo (Productos)'!D325","v":0},{"$f":"+'Plan Indicativo (Productos)'!E325","v":0},{"$f":"+'Plan Indicativo (Productos)'!F325","v":0},{"$f":"+'Plan Indicativo (Productos)'!G325","v":0},{"$f":"+'Plan Indicativo (Productos)'!H325","v":0},{"$f":"+'Plan Indicativo (Productos)'!I325","v":0},{"$f":"+'Plan Indicativo (Productos)'!J325","v":0},{"$f":"+'Plan Indicativo (Productos)'!K325","v":0}]
[{"$f":"+'Plan Indicativo (Productos)'!A326","v":322},{"$f":"+'Plan Indicativo (Productos)'!B326","v":0},{"$f":"+'Plan Indicativo (Productos)'!C326","v":""},{"$f":"+'Plan Indicativo (Productos)'!D326","v":0},{"$f":"+'Plan Indicativo (Productos)'!E326","v":0},{"$f":"+'Plan Indicativo (Productos)'!F326","v":0},{"$f":"+'Plan Indicativo (Productos)'!G326","v":0},{"$f":"+'Plan Indicativo (Productos)'!H326","v":0},{"$f":"+'Plan Indicativo (Productos)'!I326","v":0},{"$f":"+'Plan Indicativo (Productos)'!J326","v":0},{"$f":"+'Plan Indicativo (Productos)'!K326","v":0}]
[{"$f":"+'Plan Indicativo (Productos)'!A327","v":323},{"$f":"+'Plan Indicativo (Productos)'!B327","v":0},{"$f":"+'Plan Indicativo (Productos)'!C327","v":""},{"$f":"+'Plan Indicativo (Productos)'!D327","v":0},{"$f":"+'Plan Indicativo (Productos)'!E327","v":0},{"$f":"+'Plan Indicativo (Productos)'!F327","v":0},{"$f":"+'Plan Indicativo (Productos)'!G327","v":0},{"$f":"+'Plan Indicativo (Productos)'!H327","v":0},{"$f":"+'Plan Indicativo (Productos)'!I327","v":0},{"$f":"+'Plan Indicativo (Productos)'!J327","v":0},{"$f":"+'Plan Indicativo (Productos)'!K327","v":0}]
[{"$f":"+'Plan Indicativo (Productos)'!A328","v":324},{"$f":"+'Plan Indicativo (Productos)'!B328","v":0},{"$f":"+'Plan Indicativo (Productos)'!C328","v":""},{"$f":"+'Plan Indicativo (Productos)'!D328","v":0},{"$f":"+'Plan Indicativo (Productos)'!E328","v":0},{"$f":"+'Plan Indicativo (Productos)'!F328","v":0},{"$f":"+'Plan Indicativo (Productos)'!G328","v":0},{"$f":"+'Plan Indicativo (Productos)'!H328","v":0},{"$f":"+'Plan Indicativo (Productos)'!I328","v":0},{"$f":"+'Plan Indicativo (Productos)'!J328","v":0},{"$f":"+'Plan Indicativo (Productos)'!K328","v":0}]
[{"$f":"+'Plan Indicativo (Productos)'!A329","v":325},{"$f":"+'Plan Indicativo (Productos)'!B329","v":0},{"$f":"+'Plan Indicativo (Productos)'!C329","v":""},{"$f":"+'Plan Indicativo (Productos)'!D329","v":0},{"$f":"+'Plan Indicativo (Productos)'!E329","v":0},{"$f":"+'Plan Indicativo (Productos)'!F329","v":0},{"$f":"+'Plan Indicativo (Productos)'!G329","v":0},{"$f":"+'Plan Indicativo (Productos)'!H329","v":0},{"$f":"+'Plan Indicativo (Productos)'!I329","v":0},{"$f":"+'Plan Indicativo (Productos)'!J329","v":0},{"$f":"+'Plan Indicativo (Productos)'!K329","v":0}]
[{"$f":"+'Plan Indicativo (Productos)'!A330","v":326},{"$f":"+'Plan Indicativo (Productos)'!B330","v":0},{"$f":"+'Plan Indicativo (Productos)'!C330","v":""},{"$f":"+'Plan Indicativo (Productos)'!D330","v":0},{"$f":"+'Plan Indicativo (Productos)'!E330","v":0},{"$f":"+'Plan Indicativo (Productos)'!F330","v":0},{"$f":"+'Plan Indicativo (Productos)'!G330","v":0},{"$f":"+'Plan Indicativo (Productos)'!H330","v":0},{"$f":"+'Plan Indicativo (Productos)'!I330","v":0},{"$f":"+'Plan Indicativo (Productos)'!J330","v":0},{"$f":"+'Plan Indicativo (Productos)'!K330","v":0}]
[{"$f":"+'Plan Indicativo (Productos)'!A331","v":327},{"$f":"+'Plan Indicativo (Productos)'!B331","v":0},{"$f":"+'Plan Indicativo (Productos)'!C331","v":""},{"$f":"+'Plan Indicativo (Productos)'!D331","v":0},{"$f":"+'Plan Indicativo (Productos)'!E331","v":0},{"$f":"+'Plan Indicativo (Productos)'!F331","v":0},{"$f":"+'Plan Indicativo (Productos)'!G331","v":0},{"$f":"+'Plan Indicativo (Productos)'!H331","v":0},{"$f":"+'Plan Indicativo (Productos)'!I331","v":0},{"$f":"+'Plan Indicativo (Productos)'!J331","v":0},{"$f":"+'Plan Indicativo (Productos)'!K331","v":0}]
[{"$f":"+'Plan Indicativo (Productos)'!A332","v":328},{"$f":"+'Plan Indicativo (Productos)'!B332","v":0},{"$f":"+'Plan Indicativo (Productos)'!C332","v":""},{"$f":"+'Plan Indicativo (Productos)'!D332","v":0},{"$f":"+'Plan Indicativo (Productos)'!E332","v":0},{"$f":"+'Plan Indicativo (Productos)'!F332","v":0},{"$f":"+'Plan Indicativo (Productos)'!G332","v":0},{"$f":"+'Plan Indicativo (Productos)'!H332","v":0},{"$f":"+'Plan Indicativo (Productos)'!I332","v":0},{"$f":"+'Plan Indicativo (Productos)'!J332","v":0},{"$f":"+'Plan Indicativo (Productos)'!K332","v":0}]
[{"$f":"+'Plan Indicativo (Productos)'!A333","v":329},{"$f":"+'Plan Indicativo (Productos)'!B333","v":0},{"$f":"+'Plan Indicativo (Productos)'!C333","v":""},{"$f":"+'Plan Indicativo (Productos)'!D333","v":0},{"$f":"+'Plan Indicativo (Productos)'!E333","v":0},{"$f":"+'Plan Indicativo (Productos)'!F333","v":0},{"$f":"+'Plan Indicativo (Productos)'!G333","v":0},{"$f":"+'Plan Indicativo (Productos)'!H333","v":0},{"$f":"+'Plan Indicativo (Productos)'!I333","v":0},{"$f":"+'Plan Indicativo (Productos)'!J333","v":0},{"$f":"+'Plan Indicativo (Productos)'!K333","v":0}]
[{"$f":"+'Plan Indicativo (Productos)'!A334","v":330},{"$f":"+'Plan Indicativo (Productos)'!B334","v":0},{"$f":"+'Plan Indicativo (Productos)'!C334","v":""},{"$f":"+'Plan Indicativo (Productos)'!D334","v":0},{"$f":"+'Plan Indicativo (Productos)'!E334","v":0},{"$f":"+'Plan Indicativo (Productos)'!F334","v":0},{"$f":"+'Plan Indicativo (Productos)'!G334","v":0},{"$f":"+'Plan Indicativo (Productos)'!H334","v":0},{"$f":"+'Plan Indicativo (Productos)'!I334","v":0},{"$f":"+'Plan Indicativo (Productos)'!J334","v":0},{"$f":"+'Plan Indicativo (Productos)'!K334","v":0}]
[{"$f":"+'Plan Indicativo (Productos)'!A335","v":331},{"$f":"+'Plan Indicativo (Productos)'!B335","v":0},{"$f":"+'Plan Indicativo (Productos)'!C335","v":""},{"$f":"+'Plan Indicativo (Productos)'!D335","v":0},{"$f":"+'Plan Indicativo (Productos)'!E335","v":0},{"$f":"+'Plan Indicativo (Productos)'!F335","v":0},{"$f":"+'Plan Indicativo (Productos)'!G335","v":0},{"$f":"+'Plan Indicativo (Productos)'!H335","v":0},{"$f":"+'Plan Indicativo (Productos)'!I335","v":0},{"$f":"+'Plan Indicativo (Productos)'!J335","v":0},{"$f":"+'Plan Indicativo (Productos)'!K335","v":0}]
[{"$f":"+'Plan Indicativo (Productos)'!A336","v":332},{"$f":"+'Plan Indicativo (Productos)'!B336","v":0},{"$f":"+'Plan Indicativo (Productos)'!C336","v":""},{"$f":"+'Plan Indicativo (Productos)'!D336","v":0},{"$f":"+'Plan Indicativo (Productos)'!E336","v":0},{"$f":"+'Plan Indicativo (Productos)'!F336","v":0},{"$f":"+'Plan Indicativo (Productos)'!G336","v":0},{"$f":"+'Plan Indicativo (Productos)'!H336","v":0},{"$f":"+'Plan Indicativo (Productos)'!I336","v":0},{"$f":"+'Plan Indicativo (Productos)'!J336","v":0},{"$f":"+'Plan Indicativo (Productos)'!K336","v":0}]
[{"$f":"+'Plan Indicativo (Productos)'!A337","v":333},{"$f":"+'Plan Indicativo (Productos)'!B337","v":0},{"$f":"+'Plan Indicativo (Productos)'!C337","v":""},{"$f":"+'Plan Indicativo (Productos)'!D337","v":0},{"$f":"+'Plan Indicativo (Productos)'!E337","v":0},{"$f":"+'Plan Indicativo (Productos)'!F337","v":0},{"$f":"+'Plan Indicativo (Productos)'!G337","v":0},{"$f":"+'Plan Indicativo (Productos)'!H337","v":0},{"$f":"+'Plan Indicativo (Productos)'!I337","v":0},{"$f":"+'Plan Indicativo (Productos)'!J337","v":0},{"$f":"+'Plan Indicativo (Productos)'!K337","v":0}]
[{"$f":"+'Plan Indicativo (Productos)'!A338","v":334},{"$f":"+'Plan Indicativo (Productos)'!B338","v":0},{"$f":"+'Plan Indicativo (Productos)'!C338","v":""},{"$f":"+'Plan Indicativo (Productos)'!D338","v":0},{"$f":"+'Plan Indicativo (Productos)'!E338","v":0},{"$f":"+'Plan Indicativo (Productos)'!F338","v":0},{"$f":"+'Plan Indicativo (Productos)'!G338","v":0},{"$f":"+'Plan Indicativo (Productos)'!H338","v":0},{"$f":"+'Plan Indicativo (Productos)'!I338","v":0},{"$f":"+'Plan Indicativo (Productos)'!J338","v":0},{"$f":"+'Plan Indicativo (Productos)'!K338","v":0}]
[{"$f":"+'Plan Indicativo (Productos)'!A339","v":335},{"$f":"+'Plan Indicativo (Productos)'!B339","v":0},{"$f":"+'Plan Indicativo (Productos)'!C339","v":""},{"$f":"+'Plan Indicativo (Productos)'!D339","v":0},{"$f":"+'Plan Indicativo (Productos)'!E339","v":0},{"$f":"+'Plan Indicativo (Productos)'!F339","v":0},{"$f":"+'Plan Indicativo (Productos)'!G339","v":0},{"$f":"+'Plan Indicativo (Productos)'!H339","v":0},{"$f":"+'Plan Indicativo (Productos)'!I339","v":0},{"$f":"+'Plan Indicativo (Productos)'!J339","v":0},{"$f":"+'Plan Indicativo (Productos)'!K339","v":0}]
[{"$f":"+'Plan Indicativo (Productos)'!A340","v":336},{"$f":"+'Plan Indicativo (Productos)'!B340","v":0},{"$f":"+'Plan Indicativo (Productos)'!C340","v":""},{"$f":"+'Plan Indicativo (Productos)'!D340","v":0},{"$f":"+'Plan Indicativo (Productos)'!E340","v":0},{"$f":"+'Plan Indicativo (Productos)'!F340","v":0},{"$f":"+'Plan Indicativo (Productos)'!G340","v":0},{"$f":"+'Plan Indicativo (Productos)'!H340","v":0},{"$f":"+'Plan Indicativo (Productos)'!I340","v":0},{"$f":"+'Plan Indicativo (Productos)'!J340","v":0},{"$f":"+'Plan Indicativo (Productos)'!K340","v":0}]
[{"$f":"+'Plan Indicativo (Productos)'!A341","v":337},{"$f":"+'Plan Indicativo (Productos)'!B341","v":0},{"$f":"+'Plan Indicativo (Productos)'!C341","v":""},{"$f":"+'Plan Indicativo (Productos)'!D341","v":0},{"$f":"+'Plan Indicativo (Productos)'!E341","v":0},{"$f":"+'Plan Indicativo (Productos)'!F341","v":0},{"$f":"+'Plan Indicativo (Productos)'!G341","v":0},{"$f":"+'Plan Indicativo (Productos)'!H341","v":0},{"$f":"+'Plan Indicativo (Productos)'!I341","v":0},{"$f":"+'Plan Indicativo (Productos)'!J341","v":0},{"$f":"+'Plan Indicativo (Productos)'!K341","v":0}]
[{"$f":"+'Plan Indicativo (Productos)'!A342","v":338},{"$f":"+'Plan Indicativo (Productos)'!B342","v":0},{"$f":"+'Plan Indicativo (Productos)'!C342","v":""},{"$f":"+'Plan Indicativo (Productos)'!D342","v":0},{"$f":"+'Plan Indicativo (Productos)'!E342","v":0},{"$f":"+'Plan Indicativo (Productos)'!F342","v":0},{"$f":"+'Plan Indicativo (Productos)'!G342","v":0},{"$f":"+'Plan Indicativo (Productos)'!H342","v":0},{"$f":"+'Plan Indicativo (Productos)'!I342","v":0},{"$f":"+'Plan Indicativo (Productos)'!J342","v":0},{"$f":"+'Plan Indicativo (Productos)'!K342","v":0}]
[{"$f":"+'Plan Indicativo (Productos)'!A343","v":339},{"$f":"+'Plan Indicativo (Productos)'!B343","v":0},{"$f":"+'Plan Indicativo (Productos)'!C343","v":""},{"$f":"+'Plan Indicativo (Productos)'!D343","v":0},{"$f":"+'Plan Indicativo (Productos)'!E343","v":0},{"$f":"+'Plan Indicativo (Productos)'!F343","v":0},{"$f":"+'Plan Indicativo (Productos)'!G343","v":0},{"$f":"+'Plan Indicativo (Productos)'!H343","v":0},{"$f":"+'Plan Indicativo (Productos)'!I343","v":0},{"$f":"+'Plan Indicativo (Productos)'!J343","v":0},{"$f":"+'Plan Indicativo (Productos)'!K343","v":0}]
[{"$f":"+'Plan Indicativo (Productos)'!A344","v":340},{"$f":"+'Plan Indicativo (Productos)'!B344","v":0},{"$f":"+'Plan Indicativo (Productos)'!C344","v":""},{"$f":"+'Plan Indicativo (Productos)'!D344","v":0},{"$f":"+'Plan Indicativo (Productos)'!E344","v":0},{"$f":"+'Plan Indicativo (Productos)'!F344","v":0},{"$f":"+'Plan Indicativo (Productos)'!G344","v":0},{"$f":"+'Plan Indicativo (Productos)'!H344","v":0},{"$f":"+'Plan Indicativo (Productos)'!I344","v":0},{"$f":"+'Plan Indicativo (Productos)'!J344","v":0},{"$f":"+'Plan Indicativo (Productos)'!K344","v":0}]
[{"$f":"+'Plan Indicativo (Productos)'!A345","v":341},{"$f":"+'Plan Indicativo (Productos)'!B345","v":0},{"$f":"+'Plan Indicativo (Productos)'!C345","v":""},{"$f":"+'Plan Indicativo (Productos)'!D345","v":0},{"$f":"+'Plan Indicativo (Productos)'!E345","v":0},{"$f":"+'Plan Indicativo (Productos)'!F345","v":0},{"$f":"+'Plan Indicativo (Productos)'!G345","v":0},{"$f":"+'Plan Indicativo (Productos)'!H345","v":0},{"$f":"+'Plan Indicativo (Productos)'!I345","v":0},{"$f":"+'Plan Indicativo (Productos)'!J345","v":0},{"$f":"+'Plan Indicativo (Productos)'!K345","v":0}]
[{"$f":"+'Plan Indicativo (Productos)'!A346","v":342},{"$f":"+'Plan Indicativo (Productos)'!B346","v":0},{"$f":"+'Plan Indicativo (Productos)'!C346","v":""},{"$f":"+'Plan Indicativo (Productos)'!D346","v":0},{"$f":"+'Plan Indicativo (Productos)'!E346","v":0},{"$f":"+'Plan Indicativo (Productos)'!F346","v":0},{"$f":"+'Plan Indicativo (Productos)'!G346","v":0},{"$f":"+'Plan Indicativo (Productos)'!H346","v":0},{"$f":"+'Plan Indicativo (Productos)'!I346","v":0},{"$f":"+'Plan Indicativo (Productos)'!J346","v":0},{"$f":"+'Plan Indicativo (Productos)'!K346","v":0}]
[{"$f":"+'Plan Indicativo (Productos)'!A347","v":343},{"$f":"+'Plan Indicativo (Productos)'!B347","v":0},{"$f":"+'Plan Indicativo (Productos)'!C347","v":""},{"$f":"+'Plan Indicativo (Productos)'!D347","v":0},{"$f":"+'Plan Indicativo (Productos)'!E347","v":0},{"$f":"+'Plan Indicativo (Productos)'!F347","v":0},{"$f":"+'Plan Indicativo (Productos)'!G347","v":0},{"$f":"+'Plan Indicativo (Productos)'!H347","v":0},{"$f":"+'Plan Indicativo (Productos)'!I347","v":0},{"$f":"+'Plan Indicativo (Productos)'!J347","v":0},{"$f":"+'Plan Indicativo (Productos)'!K347","v":0}]
[{"$f":"+'Plan Indicativo (Productos)'!A348","v":344},{"$f":"+'Plan Indicativo (Productos)'!B348","v":0},{"$f":"+'Plan Indicativo (Productos)'!C348","v":""},{"$f":"+'Plan Indicativo (Productos)'!D348","v":0},{"$f":"+'Plan Indicativo (Productos)'!E348","v":0},{"$f":"+'Plan Indicativo (Productos)'!F348","v":0},{"$f":"+'Plan Indicativo (Productos)'!G348","v":0},{"$f":"+'Plan Indicativo (Productos)'!H348","v":0},{"$f":"+'Plan Indicativo (Productos)'!I348","v":0},{"$f":"+'Plan Indicativo (Productos)'!J348","v":0},{"$f":"+'Plan Indicativo (Productos)'!K348","v":0}]
[{"$f":"+'Plan Indicativo (Productos)'!A349","v":345},{"$f":"+'Plan Indicativo (Productos)'!B349","v":0},{"$f":"+'Plan Indicativo (Productos)'!C349","v":""},{"$f":"+'Plan Indicativo (Productos)'!D349","v":0},{"$f":"+'Plan Indicativo (Productos)'!E349","v":0},{"$f":"+'Plan Indicativo (Productos)'!F349","v":0},{"$f":"+'Plan Indicativo (Productos)'!G349","v":0},{"$f":"+'Plan Indicativo (Productos)'!H349","v":0},{"$f":"+'Plan Indicativo (Productos)'!I349","v":0},{"$f":"+'Plan Indicativo (Productos)'!J349","v":0},{"$f":"+'Plan Indicativo (Productos)'!K349","v":0}]
[{"$f":"+'Plan Indicativo (Productos)'!A350","v":346},{"$f":"+'Plan Indicativo (Productos)'!B350","v":0},{"$f":"+'Plan Indicativo (Productos)'!C350","v":""},{"$f":"+'Plan Indicativo (Productos)'!D350","v":0},{"$f":"+'Plan Indicativo (Productos)'!E350","v":0},{"$f":"+'Plan Indicativo (Productos)'!F350","v":0},{"$f":"+'Plan Indicativo (Productos)'!G350","v":0},{"$f":"+'Plan Indicativo (Productos)'!H350","v":0},{"$f":"+'Plan Indicativo (Productos)'!I350","v":0},{"$f":"+'Plan Indicativo (Productos)'!J350","v":0},{"$f":"+'Plan Indicativo (Productos)'!K350","v":0}]
[{"$f":"+'Plan Indicativo (Productos)'!A351","v":347},{"$f":"+'Plan Indicativo (Productos)'!B351","v":0},{"$f":"+'Plan Indicativo (Productos)'!C351","v":""},{"$f":"+'Plan Indicativo (Productos)'!D351","v":0},{"$f":"+'Plan Indicativo (Productos)'!E351","v":0},{"$f":"+'Plan Indicativo (Productos)'!F351","v":0},{"$f":"+'Plan Indicativo (Productos)'!G351","v":0},{"$f":"+'Plan Indicativo (Productos)'!H351","v":0},{"$f":"+'Plan Indicativo (Productos)'!I351","v":0},{"$f":"+'Plan Indicativo (Productos)'!J351","v":0},{"$f":"+'Plan Indicativo (Productos)'!K351","v":0}]
[{"$f":"+'Plan Indicativo (Productos)'!A352","v":348},{"$f":"+'Plan Indicativo (Productos)'!B352","v":0},{"$f":"+'Plan Indicativo (Productos)'!C352","v":""},{"$f":"+'Plan Indicativo (Productos)'!D352","v":0},{"$f":"+'Plan Indicativo (Productos)'!E352","v":0},{"$f":"+'Plan Indicativo (Productos)'!F352","v":0},{"$f":"+'Plan Indicativo (Productos)'!G352","v":0},{"$f":"+'Plan Indicativo (Productos)'!H352","v":0},{"$f":"+'Plan Indicativo (Productos)'!I352","v":0},{"$f":"+'Plan Indicativo (Productos)'!J352","v":0},{"$f":"+'Plan Indicativo (Productos)'!K352","v":0}]
[{"$f":"+'Plan Indicativo (Productos)'!A353","v":349},{"$f":"+'Plan Indicativo (Productos)'!B353","v":0},{"$f":"+'Plan Indicativo (Productos)'!C353","v":""},{"$f":"+'Plan Indicativo (Productos)'!D353","v":0},{"$f":"+'Plan Indicativo (Productos)'!E353","v":0},{"$f":"+'Plan Indicativo (Productos)'!F353","v":0},{"$f":"+'Plan Indicativo (Productos)'!G353","v":0},{"$f":"+'Plan Indicativo (Productos)'!H353","v":0},{"$f":"+'Plan Indicativo (Productos)'!I353","v":0},{"$f":"+'Plan Indicativo (Productos)'!J353","v":0},{"$f":"+'Plan Indicativo (Productos)'!K353","v":0}]
[{"$f":"+'Plan Indicativo (Productos)'!A354","v":350},{"$f":"+'Plan Indicativo (Productos)'!B354","v":0},{"$f":"+'Plan Indicativo (Productos)'!C354","v":""},{"$f":"+'Plan Indicativo (Productos)'!D354","v":0},{"$f":"+'Plan Indicativo (Productos)'!E354","v":0},{"$f":"+'Plan Indicativo (Productos)'!F354","v":0},{"$f":"+'Plan Indicativo (Productos)'!G354","v":0},{"$f":"+'Plan Indicativo (Productos)'!H354","v":0},{"$f":"+'Plan Indicativo (Productos)'!I354","v":0},{"$f":"+'Plan Indicativo (Productos)'!J354","v":0},{"$f":"+'Plan Indicativo (Productos)'!K354","v":0}]
[{"$f":"+'Plan Indicativo (Productos)'!A355","v":351},{"$f":"+'Plan Indicativo (Productos)'!B355","v":0},{"$f":"+'Plan Indicativo (Productos)'!C355","v":""},{"$f":"+'Plan Indicativo (Productos)'!D355","v":0},{"$f":"+'Plan Indicativo (Productos)'!E355","v":0},{"$f":"+'Plan Indicativo (Productos)'!F355","v":0},{"$f":"+'Plan Indicativo (Productos)'!G355","v":0},{"$f":"+'Plan Indicativo (Productos)'!H355","v":0},{"$f":"+'Plan Indicativo (Productos)'!I355","v":0},{"$f":"+'Plan Indicativo (Productos)'!J355","v":0},{"$f":"+'Plan Indicativo (Productos)'!K355","v":0}]
[{"$f":"+'Plan Indicativo (Productos)'!A356","v":352},{"$f":"+'Plan Indicativo (Productos)'!B356","v":0},{"$f":"+'Plan Indicativo (Productos)'!C356","v":""},{"$f":"+'Plan Indicativo (Productos)'!D356","v":0},{"$f":"+'Plan Indicativo (Productos)'!E356","v":0},{"$f":"+'Plan Indicativo (Productos)'!F356","v":0},{"$f":"+'Plan Indicativo (Productos)'!G356","v":0},{"$f":"+'Plan Indicativo (Productos)'!H356","v":0},{"$f":"+'Plan Indicativo (Productos)'!I356","v":0},{"$f":"+'Plan Indicativo (Productos)'!J356","v":0},{"$f":"+'Plan Indicativo (Productos)'!K356","v":0}]
[{"$f":"+'Plan Indicativo (Productos)'!A357","v":353},{"$f":"+'Plan Indicativo (Productos)'!B357","v":0},{"$f":"+'Plan Indicativo (Productos)'!C357","v":""},{"$f":"+'Plan Indicativo (Productos)'!D357","v":0},{"$f":"+'Plan Indicativo (Productos)'!E357","v":0},{"$f":"+'Plan Indicativo (Productos)'!F357","v":0},{"$f":"+'Plan Indicativo (Productos)'!G357","v":0},{"$f":"+'Plan Indicativo (Productos)'!H357","v":0},{"$f":"+'Plan Indicativo (Productos)'!I357","v":0},{"$f":"+'Plan Indicativo (Productos)'!J357","v":0},{"$f":"+'Plan Indicativo (Productos)'!K357","v":0}]
[{"$f":"+'Plan Indicativo (Productos)'!A358","v":354},{"$f":"+'Plan Indicativo (Productos)'!B358","v":0},{"$f":"+'Plan Indicativo (Productos)'!C358","v":""},{"$f":"+'Plan Indicativo (Productos)'!D358","v":0},{"$f":"+'Plan Indicativo (Productos)'!E358","v":0},{"$f":"+'Plan Indicativo (Productos)'!F358","v":0},{"$f":"+'Plan Indicativo (Productos)'!G358","v":0},{"$f":"+'Plan Indicativo (Productos)'!H358","v":0},{"$f":"+'Plan Indicativo (Productos)'!I358","v":0},{"$f":"+'Plan Indicativo (Productos)'!J358","v":0},{"$f":"+'Plan Indicativo (Productos)'!K358","v":0}]
[{"$f":"+'Plan Indicativo (Productos)'!A359","v":355},{"$f":"+'Plan Indicativo (Productos)'!B359","v":0},{"$f":"+'Plan Indicativo (Productos)'!C359","v":""},{"$f":"+'Plan Indicativo (Productos)'!D359","v":0},{"$f":"+'Plan Indicativo (Productos)'!E359","v":0},{"$f":"+'Plan Indicativo (Productos)'!F359","v":0},{"$f":"+'Plan Indicativo (Productos)'!G359","v":0},{"$f":"+'Plan Indicativo (Productos)'!H359","v":0},{"$f":"+'Plan Indicativo (Productos)'!I359","v":0},{"$f":"+'Plan Indicativo (Productos)'!J359","v":0},{"$f":"+'Plan Indicativo (Productos)'!K359","v":0}]
[{"$f":"+'Plan Indicativo (Productos)'!A360","v":356},{"$f":"+'Plan Indicativo (Productos)'!B360","v":0},{"$f":"+'Plan Indicativo (Productos)'!C360","v":""},{"$f":"+'Plan Indicativo (Productos)'!D360","v":0},{"$f":"+'Plan Indicativo (Productos)'!E360","v":0},{"$f":"+'Plan Indicativo (Productos)'!F360","v":0},{"$f":"+'Plan Indicativo (Productos)'!G360","v":0},{"$f":"+'Plan Indicativo (Productos)'!H360","v":0},{"$f":"+'Plan Indicativo (Productos)'!I360","v":0},{"$f":"+'Plan Indicativo (Productos)'!J360","v":0},{"$f":"+'Plan Indicativo (Productos)'!K360","v":0}]
[{"$f":"+'Plan Indicativo (Productos)'!A361","v":357},{"$f":"+'Plan Indicativo (Productos)'!B361","v":0},{"$f":"+'Plan Indicativo (Productos)'!C361","v":""},{"$f":"+'Plan Indicativo (Productos)'!D361","v":0},{"$f":"+'Plan Indicativo (Productos)'!E361","v":0},{"$f":"+'Plan Indicativo (Productos)'!F361","v":0},{"$f":"+'Plan Indicativo (Productos)'!G361","v":0},{"$f":"+'Plan Indicativo (Productos)'!H361","v":0},{"$f":"+'Plan Indicativo (Productos)'!I361","v":0},{"$f":"+'Plan Indicativo (Productos)'!J361","v":0},{"$f":"+'Plan Indicativo (Productos)'!K361","v":0}]
[{"$f":"+'Plan Indicativo (Productos)'!A362","v":358},{"$f":"+'Plan Indicativo (Productos)'!B362","v":0},{"$f":"+'Plan Indicativo (Productos)'!C362","v":""},{"$f":"+'Plan Indicativo (Productos)'!D362","v":0},{"$f":"+'Plan Indicativo (Productos)'!E362","v":0},{"$f":"+'Plan Indicativo (Productos)'!F362","v":0},{"$f":"+'Plan Indicativo (Productos)'!G362","v":0},{"$f":"+'Plan Indicativo (Productos)'!H362","v":0},{"$f":"+'Plan Indicativo (Productos)'!I362","v":0},{"$f":"+'Plan Indicativo (Productos)'!J362","v":0},{"$f":"+'Plan Indicativo (Productos)'!K362","v":0}]
[{"$f":"+'Plan Indicativo (Productos)'!A363","v":359},{"$f":"+'Plan Indicativo (Productos)'!B363","v":0},{"$f":"+'Plan Indicativo (Productos)'!C363","v":""},{"$f":"+'Plan Indicativo (Productos)'!D363","v":0},{"$f":"+'Plan Indicativo (Productos)'!E363","v":0},{"$f":"+'Plan Indicativo (Productos)'!F363","v":0},{"$f":"+'Plan Indicativo (Productos)'!G363","v":0},{"$f":"+'Plan Indicativo (Productos)'!H363","v":0},{"$f":"+'Plan Indicativo (Productos)'!I363","v":0},{"$f":"+'Plan Indicativo (Productos)'!J363","v":0},{"$f":"+'Plan Indicativo (Productos)'!K363","v":0}]
[{"$f":"+'Plan Indicativo (Productos)'!A364","v":360},{"$f":"+'Plan Indicativo (Productos)'!B364","v":0},{"$f":"+'Plan Indicativo (Productos)'!C364","v":""},{"$f":"+'Plan Indicativo (Productos)'!D364","v":0},{"$f":"+'Plan Indicativo (Productos)'!E364","v":0},{"$f":"+'Plan Indicativo (Productos)'!F364","v":0},{"$f":"+'Plan Indicativo (Productos)'!G364","v":0},{"$f":"+'Plan Indicativo (Productos)'!H364","v":0},{"$f":"+'Plan Indicativo (Productos)'!I364","v":0},{"$f":"+'Plan Indicativo (Productos)'!J364","v":0},{"$f":"+'Plan Indicativo (Productos)'!K364","v":0}]
[{"$f":"+'Plan Indicativo (Productos)'!A365","v":361},{"$f":"+'Plan Indicativo (Productos)'!B365","v":0},{"$f":"+'Plan Indicativo (Productos)'!C365","v":""},{"$f":"+'Plan Indicativo (Productos)'!D365","v":0},{"$f":"+'Plan Indicativo (Productos)'!E365","v":0},{"$f":"+'Plan Indicativo (Productos)'!F365","v":0},{"$f":"+'Plan Indicativo (Productos)'!G365","v":0},{"$f":"+'Plan Indicativo (Productos)'!H365","v":0},{"$f":"+'Plan Indicativo (Productos)'!I365","v":0},{"$f":"+'Plan Indicativo (Productos)'!J365","v":0},{"$f":"+'Plan Indicativo (Productos)'!K365","v":0}]
[{"$f":"+'Plan Indicativo (Productos)'!A366","v":362},{"$f":"+'Plan Indicativo (Productos)'!B366","v":0},{"$f":"+'Plan Indicativo (Productos)'!C366","v":""},{"$f":"+'Plan Indicativo (Productos)'!D366","v":0},{"$f":"+'Plan Indicativo (Productos)'!E366","v":0},{"$f":"+'Plan Indicativo (Productos)'!F366","v":0},{"$f":"+'Plan Indicativo (Productos)'!G366","v":0},{"$f":"+'Plan Indicativo (Productos)'!H366","v":0},{"$f":"+'Plan Indicativo (Productos)'!I366","v":0},{"$f":"+'Plan Indicativo (Productos)'!J366","v":0},{"$f":"+'Plan Indicativo (Productos)'!K366","v":0}]
[{"$f":"+'Plan Indicativo (Productos)'!A367","v":363},{"$f":"+'Plan Indicativo (Productos)'!B367","v":0},{"$f":"+'Plan Indicativo (Productos)'!C367","v":""},{"$f":"+'Plan Indicativo (Productos)'!D367","v":0},{"$f":"+'Plan Indicativo (Productos)'!E367","v":0},{"$f":"+'Plan Indicativo (Productos)'!F367","v":0},{"$f":"+'Plan Indicativo (Productos)'!G367","v":0},{"$f":"+'Plan Indicativo (Productos)'!H367","v":0},{"$f":"+'Plan Indicativo (Productos)'!I367","v":0},{"$f":"+'Plan Indicativo (Productos)'!J367","v":0},{"$f":"+'Plan Indicativo (Productos)'!K367","v":0}]
[{"$f":"+'Plan Indicativo (Productos)'!A368","v":364},{"$f":"+'Plan Indicativo (Productos)'!B368","v":0},{"$f":"+'Plan Indicativo (Productos)'!C368","v":""},{"$f":"+'Plan Indicativo (Productos)'!D368","v":0},{"$f":"+'Plan Indicativo (Productos)'!E368","v":0},{"$f":"+'Plan Indicativo (Productos)'!F368","v":0},{"$f":"+'Plan Indicativo (Productos)'!G368","v":0},{"$f":"+'Plan Indicativo (Productos)'!H368","v":0},{"$f":"+'Plan Indicativo (Productos)'!I368","v":0},{"$f":"+'Plan Indicativo (Productos)'!J368","v":0},{"$f":"+'Plan Indicativo (Productos)'!K368","v":0}]
[{"$f":"+'Plan Indicativo (Productos)'!A369","v":365},{"$f":"+'Plan Indicativo (Productos)'!B369","v":0},{"$f":"+'Plan Indicativo (Productos)'!C369","v":""},{"$f":"+'Plan Indicativo (Productos)'!D369","v":0},{"$f":"+'Plan Indicativo (Productos)'!E369","v":0},{"$f":"+'Plan Indicativo (Productos)'!F369","v":0},{"$f":"+'Plan Indicativo (Productos)'!G369","v":0},{"$f":"+'Plan Indicativo (Productos)'!H369","v":0},{"$f":"+'Plan Indicativo (Productos)'!I369","v":0},{"$f":"+'Plan Indicativo (Productos)'!J369","v":0},{"$f":"+'Plan Indicativo (Productos)'!K369","v":0}]
[{"$f":"+'Plan Indicativo (Productos)'!A370","v":366},{"$f":"+'Plan Indicativo (Productos)'!B370","v":0},{"$f":"+'Plan Indicativo (Productos)'!C370","v":""},{"$f":"+'Plan Indicativo (Productos)'!D370","v":0},{"$f":"+'Plan Indicativo (Productos)'!E370","v":0},{"$f":"+'Plan Indicativo (Productos)'!F370","v":0},{"$f":"+'Plan Indicativo (Productos)'!G370","v":0},{"$f":"+'Plan Indicativo (Productos)'!H370","v":0},{"$f":"+'Plan Indicativo (Productos)'!I370","v":0},{"$f":"+'Plan Indicativo (Productos)'!J370","v":0},{"$f":"+'Plan Indicativo (Productos)'!K370","v":0}]
[{"$f":"+'Plan Indicativo (Productos)'!A371","v":367},{"$f":"+'Plan Indicativo (Productos)'!B371","v":0},{"$f":"+'Plan Indicativo (Productos)'!C371","v":""},{"$f":"+'Plan Indicativo (Productos)'!D371","v":0},{"$f":"+'Plan Indicativo (Productos)'!E371","v":0},{"$f":"+'Plan Indicativo (Productos)'!F371","v":0},{"$f":"+'Plan Indicativo (Productos)'!G371","v":0},{"$f":"+'Plan Indicativo (Productos)'!H371","v":0},{"$f":"+'Plan Indicativo (Productos)'!I371","v":0},{"$f":"+'Plan Indicativo (Productos)'!J371","v":0},{"$f":"+'Plan Indicativo (Productos)'!K371","v":0}]
[{"$f":"+'Plan Indicativo (Productos)'!A372","v":368},{"$f":"+'Plan Indicativo (Productos)'!B372","v":0},{"$f":"+'Plan Indicativo (Productos)'!C372","v":""},{"$f":"+'Plan Indicativo (Productos)'!D372","v":0},{"$f":"+'Plan Indicativo (Productos)'!E372","v":0},{"$f":"+'Plan Indicativo (Productos)'!F372","v":0},{"$f":"+'Plan Indicativo (Productos)'!G372","v":0},{"$f":"+'Plan Indicativo (Productos)'!H372","v":0},{"$f":"+'Plan Indicativo (Productos)'!I372","v":0},{"$f":"+'Plan Indicativo (Productos)'!J372","v":0},{"$f":"+'Plan Indicativo (Productos)'!K372","v":0}]
[{"$f":"+'Plan Indicativo (Productos)'!A373","v":369},{"$f":"+'Plan Indicativo (Productos)'!B373","v":0},{"$f":"+'Plan Indicativo (Productos)'!C373","v":""},{"$f":"+'Plan Indicativo (Productos)'!D373","v":0},{"$f":"+'Plan Indicativo (Productos)'!E373","v":0},{"$f":"+'Plan Indicativo (Productos)'!F373","v":0},{"$f":"+'Plan Indicativo (Productos)'!G373","v":0},{"$f":"+'Plan Indicativo (Productos)'!H373","v":0},{"$f":"+'Plan Indicativo (Productos)'!I373","v":0},{"$f":"+'Plan Indicativo (Productos)'!J373","v":0},{"$f":"+'Plan Indicativo (Productos)'!K373","v":0}]
[{"$f":"+'Plan Indicativo (Productos)'!A374","v":370},{"$f":"+'Plan Indicativo (Productos)'!B374","v":0},{"$f":"+'Plan Indicativo (Productos)'!C374","v":""},{"$f":"+'Plan Indicativo (Productos)'!D374","v":0},{"$f":"+'Plan Indicativo (Productos)'!E374","v":0},{"$f":"+'Plan Indicativo (Productos)'!F374","v":0},{"$f":"+'Plan Indicativo (Productos)'!G374","v":0},{"$f":"+'Plan Indicativo (Productos)'!H374","v":0},{"$f":"+'Plan Indicativo (Productos)'!I374","v":0},{"$f":"+'Plan Indicativo (Productos)'!J374","v":0},{"$f":"+'Plan Indicativo (Productos)'!K374","v":0}]
[{"$f":"+'Plan Indicativo (Productos)'!A375","v":371},{"$f":"+'Plan Indicativo (Productos)'!B375","v":0},{"$f":"+'Plan Indicativo (Productos)'!C375","v":""},{"$f":"+'Plan Indicativo (Productos)'!D375","v":0},{"$f":"+'Plan Indicativo (Productos)'!E375","v":0},{"$f":"+'Plan Indicativo (Productos)'!F375","v":0},{"$f":"+'Plan Indicativo (Productos)'!G375","v":0},{"$f":"+'Plan Indicativo (Productos)'!H375","v":0},{"$f":"+'Plan Indicativo (Productos)'!I375","v":0},{"$f":"+'Plan Indicativo (Productos)'!J375","v":0},{"$f":"+'Plan Indicativo (Productos)'!K375","v":0}]
[{"$f":"+'Plan Indicativo (Productos)'!A376","v":372},{"$f":"+'Plan Indicativo (Productos)'!B376","v":0},{"$f":"+'Plan Indicativo (Productos)'!C376","v":""},{"$f":"+'Plan Indicativo (Productos)'!D376","v":0},{"$f":"+'Plan Indicativo (Productos)'!E376","v":0},{"$f":"+'Plan Indicativo (Productos)'!F376","v":0},{"$f":"+'Plan Indicativo (Productos)'!G376","v":0},{"$f":"+'Plan Indicativo (Productos)'!H376","v":0},{"$f":"+'Plan Indicativo (Productos)'!I376","v":0},{"$f":"+'Plan Indicativo (Productos)'!J376","v":0},{"$f":"+'Plan Indicativo (Productos)'!K376","v":0}]
[{"$f":"+'Plan Indicativo (Productos)'!A377","v":373},{"$f":"+'Plan Indicativo (Productos)'!B377","v":0},{"$f":"+'Plan Indicativo (Productos)'!C377","v":""},{"$f":"+'Plan Indicativo (Productos)'!D377","v":0},{"$f":"+'Plan Indicativo (Productos)'!E377","v":0},{"$f":"+'Plan Indicativo (Productos)'!F377","v":0},{"$f":"+'Plan Indicativo (Productos)'!G377","v":0},{"$f":"+'Plan Indicativo (Productos)'!H377","v":0},{"$f":"+'Plan Indicativo (Productos)'!I377","v":0},{"$f":"+'Plan Indicativo (Productos)'!J377","v":0},{"$f":"+'Plan Indicativo (Productos)'!K377","v":0}]
[{"$f":"+'Plan Indicativo (Productos)'!A378","v":374},{"$f":"+'Plan Indicativo (Productos)'!B378","v":0},{"$f":"+'Plan Indicativo (Productos)'!C378","v":""},{"$f":"+'Plan Indicativo (Productos)'!D378","v":0},{"$f":"+'Plan Indicativo (Productos)'!E378","v":0},{"$f":"+'Plan Indicativo (Productos)'!F378","v":0},{"$f":"+'Plan Indicativo (Productos)'!G378","v":0},{"$f":"+'Plan Indicativo (Productos)'!H378","v":0},{"$f":"+'Plan Indicativo (Productos)'!I378","v":0},{"$f":"+'Plan Indicativo (Productos)'!J378","v":0},{"$f":"+'Plan Indicativo (Productos)'!K378","v":0}]
[{"$f":"+'Plan Indicativo (Productos)'!A379","v":375},{"$f":"+'Plan Indicativo (Productos)'!B379","v":0},{"$f":"+'Plan Indicativo (Productos)'!C379","v":""},{"$f":"+'Plan Indicativo (Productos)'!D379","v":0},{"$f":"+'Plan Indicativo (Productos)'!E379","v":0},{"$f":"+'Plan Indicativo (Productos)'!F379","v":0},{"$f":"+'Plan Indicativo (Productos)'!G379","v":0},{"$f":"+'Plan Indicativo (Productos)'!H379","v":0},{"$f":"+'Plan Indicativo (Productos)'!I379","v":0},{"$f":"+'Plan Indicativo (Productos)'!J379","v":0},{"$f":"+'Plan Indicativo (Productos)'!K379","v":0}]
[{"$f":"+'Plan Indicativo (Productos)'!A380","v":376},{"$f":"+'Plan Indicativo (Productos)'!B380","v":0},{"$f":"+'Plan Indicativo (Productos)'!C380","v":""},{"$f":"+'Plan Indicativo (Productos)'!D380","v":0},{"$f":"+'Plan Indicativo (Productos)'!E380","v":0},{"$f":"+'Plan Indicativo (Productos)'!F380","v":0},{"$f":"+'Plan Indicativo (Productos)'!G380","v":0},{"$f":"+'Plan Indicativo (Productos)'!H380","v":0},{"$f":"+'Plan Indicativo (Productos)'!I380","v":0},{"$f":"+'Plan Indicativo (Productos)'!J380","v":0},{"$f":"+'Plan Indicativo (Productos)'!K380","v":0}]
[{"$f":"+'Plan Indicativo (Productos)'!A381","v":377},{"$f":"+'Plan Indicativo (Productos)'!B381","v":0},{"$f":"+'Plan Indicativo (Productos)'!C381","v":""},{"$f":"+'Plan Indicativo (Productos)'!D381","v":0},{"$f":"+'Plan Indicativo (Productos)'!E381","v":0},{"$f":"+'Plan Indicativo (Productos)'!F381","v":0},{"$f":"+'Plan Indicativo (Productos)'!G381","v":0},{"$f":"+'Plan Indicativo (Productos)'!H381","v":0},{"$f":"+'Plan Indicativo (Productos)'!I381","v":0},{"$f":"+'Plan Indicativo (Productos)'!J381","v":0},{"$f":"+'Plan Indicativo (Productos)'!K381","v":0}]
[{"$f":"+'Plan Indicativo (Productos)'!A382","v":378},{"$f":"+'Plan Indicativo (Productos)'!B382","v":0},{"$f":"+'Plan Indicativo (Productos)'!C382","v":""},{"$f":"+'Plan Indicativo (Productos)'!D382","v":0},{"$f":"+'Plan Indicativo (Productos)'!E382","v":0},{"$f":"+'Plan Indicativo (Productos)'!F382","v":0},{"$f":"+'Plan Indicativo (Productos)'!G382","v":0},{"$f":"+'Plan Indicativo (Productos)'!H382","v":0},{"$f":"+'Plan Indicativo (Productos)'!I382","v":0},{"$f":"+'Plan Indicativo (Productos)'!J382","v":0},{"$f":"+'Plan Indicativo (Productos)'!K382","v":0}]
[{"$f":"+'Plan Indicativo (Productos)'!A383","v":379},{"$f":"+'Plan Indicativo (Productos)'!B383","v":0},{"$f":"+'Plan Indicativo (Productos)'!C383","v":""},{"$f":"+'Plan Indicativo (Productos)'!D383","v":0},{"$f":"+'Plan Indicativo (Productos)'!E383","v":0},{"$f":"+'Plan Indicativo (Productos)'!F383","v":0},{"$f":"+'Plan Indicativo (Productos)'!G383","v":0},{"$f":"+'Plan Indicativo (Productos)'!H383","v":0},{"$f":"+'Plan Indicativo (Productos)'!I383","v":0},{"$f":"+'Plan Indicativo (Productos)'!J383","v":0},{"$f":"+'Plan Indicativo (Productos)'!K383","v":0}]
[{"$f":"+'Plan Indicativo (Productos)'!A384","v":380},{"$f":"+'Plan Indicativo (Productos)'!B384","v":0},{"$f":"+'Plan Indicativo (Productos)'!C384","v":""},{"$f":"+'Plan Indicativo (Productos)'!D384","v":0},{"$f":"+'Plan Indicativo (Productos)'!E384","v":0},{"$f":"+'Plan Indicativo (Productos)'!F384","v":0},{"$f":"+'Plan Indicativo (Productos)'!G384","v":0},{"$f":"+'Plan Indicativo (Productos)'!H384","v":0},{"$f":"+'Plan Indicativo (Productos)'!I384","v":0},{"$f":"+'Plan Indicativo (Productos)'!J384","v":0},{"$f":"+'Plan Indicativo (Productos)'!K384","v":0}]
[{"$f":"+'Plan Indicativo (Productos)'!A385","v":381},{"$f":"+'Plan Indicativo (Productos)'!B385","v":0},{"$f":"+'Plan Indicativo (Productos)'!C385","v":""},{"$f":"+'Plan Indicativo (Productos)'!D385","v":0},{"$f":"+'Plan Indicativo (Productos)'!E385","v":0},{"$f":"+'Plan Indicativo (Productos)'!F385","v":0},{"$f":"+'Plan Indicativo (Productos)'!G385","v":0},{"$f":"+'Plan Indicativo (Productos)'!H385","v":0},{"$f":"+'Plan Indicativo (Productos)'!I385","v":0},{"$f":"+'Plan Indicativo (Productos)'!J385","v":0},{"$f":"+'Plan Indicativo (Productos)'!K385","v":0}]
[{"$f":"+'Plan Indicativo (Productos)'!A386","v":382},{"$f":"+'Plan Indicativo (Productos)'!B386","v":0},{"$f":"+'Plan Indicativo (Productos)'!C386","v":""},{"$f":"+'Plan Indicativo (Productos)'!D386","v":0},{"$f":"+'Plan Indicativo (Productos)'!E386","v":0},{"$f":"+'Plan Indicativo (Productos)'!F386","v":0},{"$f":"+'Plan Indicativo (Productos)'!G386","v":0},{"$f":"+'Plan Indicativo (Productos)'!H386","v":0},{"$f":"+'Plan Indicativo (Productos)'!I386","v":0},{"$f":"+'Plan Indicativo (Productos)'!J386","v":0},{"$f":"+'Plan Indicativo (Productos)'!K386","v":0}]
[{"$f":"+'Plan Indicativo (Productos)'!A387","v":383},{"$f":"+'Plan Indicativo (Productos)'!B387","v":0},{"$f":"+'Plan Indicativo (Productos)'!C387","v":""},{"$f":"+'Plan Indicativo (Productos)'!D387","v":0},{"$f":"+'Plan Indicativo (Productos)'!E387","v":0},{"$f":"+'Plan Indicativo (Productos)'!F387","v":0},{"$f":"+'Plan Indicativo (Productos)'!G387","v":0},{"$f":"+'Plan Indicativo (Productos)'!H387","v":0},{"$f":"+'Plan Indicativo (Productos)'!I387","v":0},{"$f":"+'Plan Indicativo (Productos)'!J387","v":0},{"$f":"+'Plan Indicativo (Productos)'!K387","v":0}]
[{"$f":"+'Plan Indicativo (Productos)'!A388","v":384},{"$f":"+'Plan Indicativo (Productos)'!B388","v":0},{"$f":"+'Plan Indicativo (Productos)'!C388","v":""},{"$f":"+'Plan Indicativo (Productos)'!D388","v":0},{"$f":"+'Plan Indicativo (Productos)'!E388","v":0},{"$f":"+'Plan Indicativo (Productos)'!F388","v":0},{"$f":"+'Plan Indicativo (Productos)'!G388","v":0},{"$f":"+'Plan Indicativo (Productos)'!H388","v":0},{"$f":"+'Plan Indicativo (Productos)'!I388","v":0},{"$f":"+'Plan Indicativo (Productos)'!J388","v":0},{"$f":"+'Plan Indicativo (Productos)'!K388","v":0}]
[{"$f":"+'Plan Indicativo (Productos)'!A389","v":385},{"$f":"+'Plan Indicativo (Productos)'!B389","v":0},{"$f":"+'Plan Indicativo (Productos)'!C389","v":""},{"$f":"+'Plan Indicativo (Productos)'!D389","v":0},{"$f":"+'Plan Indicativo (Productos)'!E389","v":0},{"$f":"+'Plan Indicativo (Productos)'!F389","v":0},{"$f":"+'Plan Indicativo (Productos)'!G389","v":0},{"$f":"+'Plan Indicativo (Productos)'!H389","v":0},{"$f":"+'Plan Indicativo (Productos)'!I389","v":0},{"$f":"+'Plan Indicativo (Productos)'!J389","v":0},{"$f":"+'Plan Indicativo (Productos)'!K389","v":0}]
[{"$f":"+'Plan Indicativo (Productos)'!A390","v":386},{"$f":"+'Plan Indicativo (Productos)'!B390","v":0},{"$f":"+'Plan Indicativo (Productos)'!C390","v":""},{"$f":"+'Plan Indicativo (Productos)'!D390","v":0},{"$f":"+'Plan Indicativo (Productos)'!E390","v":0},{"$f":"+'Plan Indicativo (Productos)'!F390","v":0},{"$f":"+'Plan Indicativo (Productos)'!G390","v":0},{"$f":"+'Plan Indicativo (Productos)'!H390","v":0},{"$f":"+'Plan Indicativo (Productos)'!I390","v":0},{"$f":"+'Plan Indicativo (Productos)'!J390","v":0},{"$f":"+'Plan Indicativo (Productos)'!K390","v":0}]
[{"$f":"+'Plan Indicativo (Productos)'!A391","v":387},{"$f":"+'Plan Indicativo (Productos)'!B391","v":0},{"$f":"+'Plan Indicativo (Productos)'!C391","v":""},{"$f":"+'Plan Indicativo (Productos)'!D391","v":0},{"$f":"+'Plan Indicativo (Productos)'!E391","v":0},{"$f":"+'Plan Indicativo (Productos)'!F391","v":0},{"$f":"+'Plan Indicativo (Productos)'!G391","v":0},{"$f":"+'Plan Indicativo (Productos)'!H391","v":0},{"$f":"+'Plan Indicativo (Productos)'!I391","v":0},{"$f":"+'Plan Indicativo (Productos)'!J391","v":0},{"$f":"+'Plan Indicativo (Productos)'!K391","v":0}]
[{"$f":"+'Plan Indicativo (Productos)'!A392","v":388},{"$f":"+'Plan Indicativo (Productos)'!B392","v":0},{"$f":"+'Plan Indicativo (Productos)'!C392","v":""},{"$f":"+'Plan Indicativo (Productos)'!D392","v":0},{"$f":"+'Plan Indicativo (Productos)'!E392","v":0},{"$f":"+'Plan Indicativo (Productos)'!F392","v":0},{"$f":"+'Plan Indicativo (Productos)'!G392","v":0},{"$f":"+'Plan Indicativo (Productos)'!H392","v":0},{"$f":"+'Plan Indicativo (Productos)'!I392","v":0},{"$f":"+'Plan Indicativo (Productos)'!J392","v":0},{"$f":"+'Plan Indicativo (Productos)'!K392","v":0}]
[{"$f":"+'Plan Indicativo (Productos)'!A393","v":389},{"$f":"+'Plan Indicativo (Productos)'!B393","v":0},{"$f":"+'Plan Indicativo (Productos)'!C393","v":""},{"$f":"+'Plan Indicativo (Productos)'!D393","v":0},{"$f":"+'Plan Indicativo (Productos)'!E393","v":0},{"$f":"+'Plan Indicativo (Productos)'!F393","v":0},{"$f":"+'Plan Indicativo (Productos)'!G393","v":0},{"$f":"+'Plan Indicativo (Productos)'!H393","v":0},{"$f":"+'Plan Indicativo (Productos)'!I393","v":0},{"$f":"+'Plan Indicativo (Productos)'!J393","v":0},{"$f":"+'Plan Indicativo (Productos)'!K393","v":0}]
[{"$f":"+'Plan Indicativo (Productos)'!A394","v":390},{"$f":"+'Plan Indicativo (Productos)'!B394","v":0},{"$f":"+'Plan Indicativo (Productos)'!C394","v":""},{"$f":"+'Plan Indicativo (Productos)'!D394","v":0},{"$f":"+'Plan Indicativo (Productos)'!E394","v":0},{"$f":"+'Plan Indicativo (Productos)'!F394","v":0},{"$f":"+'Plan Indicativo (Productos)'!G394","v":0},{"$f":"+'Plan Indicativo (Productos)'!H394","v":0},{"$f":"+'Plan Indicativo (Productos)'!I394","v":0},{"$f":"+'Plan Indicativo (Productos)'!J394","v":0},{"$f":"+'Plan Indicativo (Productos)'!K394","v":0}]
[{"$f":"+'Plan Indicativo (Productos)'!A395","v":391},{"$f":"+'Plan Indicativo (Productos)'!B395","v":0},{"$f":"+'Plan Indicativo (Productos)'!C395","v":""},{"$f":"+'Plan Indicativo (Productos)'!D395","v":0},{"$f":"+'Plan Indicativo (Productos)'!E395","v":0},{"$f":"+'Plan Indicativo (Productos)'!F395","v":0},{"$f":"+'Plan Indicativo (Productos)'!G395","v":0},{"$f":"+'Plan Indicativo (Productos)'!H395","v":0},{"$f":"+'Plan Indicativo (Productos)'!I395","v":0},{"$f":"+'Plan Indicativo (Productos)'!J395","v":0},{"$f":"+'Plan Indicativo (Productos)'!K395","v":0}]
[{"$f":"+'Plan Indicativo (Productos)'!A396","v":392},{"$f":"+'Plan Indicativo (Productos)'!B396","v":0},{"$f":"+'Plan Indicativo (Productos)'!C396","v":""},{"$f":"+'Plan Indicativo (Productos)'!D396","v":0},{"$f":"+'Plan Indicativo (Productos)'!E396","v":0},{"$f":"+'Plan Indicativo (Productos)'!F396","v":0},{"$f":"+'Plan Indicativo (Productos)'!G396","v":0},{"$f":"+'Plan Indicativo (Productos)'!H396","v":0},{"$f":"+'Plan Indicativo (Productos)'!I396","v":0},{"$f":"+'Plan Indicativo (Productos)'!J396","v":0},{"$f":"+'Plan Indicativo (Productos)'!K396","v":0}]
[{"$f":"+'Plan Indicativo (Productos)'!A397","v":393},{"$f":"+'Plan Indicativo (Productos)'!B397","v":0},{"$f":"+'Plan Indicativo (Productos)'!C397","v":""},{"$f":"+'Plan Indicativo (Productos)'!D397","v":0},{"$f":"+'Plan Indicativo (Productos)'!E397","v":0},{"$f":"+'Plan Indicativo (Productos)'!F397","v":0},{"$f":"+'Plan Indicativo (Productos)'!G397","v":0},{"$f":"+'Plan Indicativo (Productos)'!H397","v":0},{"$f":"+'Plan Indicativo (Productos)'!I397","v":0},{"$f":"+'Plan Indicativo (Productos)'!J397","v":0},{"$f":"+'Plan Indicativo (Productos)'!K397","v":0}]
[{"$f":"+'Plan Indicativo (Productos)'!A398","v":394},{"$f":"+'Plan Indicativo (Productos)'!B398","v":0},{"$f":"+'Plan Indicativo (Productos)'!C398","v":""},{"$f":"+'Plan Indicativo (Productos)'!D398","v":0},{"$f":"+'Plan Indicativo (Productos)'!E398","v":0},{"$f":"+'Plan Indicativo (Productos)'!F398","v":0},{"$f":"+'Plan Indicativo (Productos)'!G398","v":0},{"$f":"+'Plan Indicativo (Productos)'!H398","v":0},{"$f":"+'Plan Indicativo (Productos)'!I398","v":0},{"$f":"+'Plan Indicativo (Productos)'!J398","v":0},{"$f":"+'Plan Indicativo (Productos)'!K398","v":0}]
[{"$f":"+'Plan Indicativo (Productos)'!A399","v":395},{"$f":"+'Plan Indicativo (Productos)'!B399","v":0},{"$f":"+'Plan Indicativo (Productos)'!C399","v":""},{"$f":"+'Plan Indicativo (Productos)'!D399","v":0},{"$f":"+'Plan Indicativo (Productos)'!E399","v":0},{"$f":"+'Plan Indicativo (Productos)'!F399","v":0},{"$f":"+'Plan Indicativo (Productos)'!G399","v":0},{"$f":"+'Plan Indicativo (Productos)'!H399","v":0},{"$f":"+'Plan Indicativo (Productos)'!I399","v":0},{"$f":"+'Plan Indicativo (Productos)'!J399","v":0},{"$f":"+'Plan Indicativo (Productos)'!K399","v":0}]
[{"$f":"+'Plan Indicativo (Productos)'!A400","v":396},{"$f":"+'Plan Indicativo (Productos)'!B400","v":0},{"$f":"+'Plan Indicativo (Productos)'!C400","v":""},{"$f":"+'Plan Indicativo (Productos)'!D400","v":0},{"$f":"+'Plan Indicativo (Productos)'!E400","v":0},{"$f":"+'Plan Indicativo (Productos)'!F400","v":0},{"$f":"+'Plan Indicativo (Productos)'!G400","v":0},{"$f":"+'Plan Indicativo (Productos)'!H400","v":0},{"$f":"+'Plan Indicativo (Productos)'!I400","v":0},{"$f":"+'Plan Indicativo (Productos)'!J400","v":0},{"$f":"+'Plan Indicativo (Productos)'!K400","v":0}]
[{"$f":"+'Plan Indicativo (Productos)'!A401","v":397},{"$f":"+'Plan Indicativo (Productos)'!B401","v":0},{"$f":"+'Plan Indicativo (Productos)'!C401","v":""},{"$f":"+'Plan Indicativo (Productos)'!D401","v":0},{"$f":"+'Plan Indicativo (Productos)'!E401","v":0},{"$f":"+'Plan Indicativo (Productos)'!F401","v":0},{"$f":"+'Plan Indicativo (Productos)'!G401","v":0},{"$f":"+'Plan Indicativo (Productos)'!H401","v":0},{"$f":"+'Plan Indicativo (Productos)'!I401","v":0},{"$f":"+'Plan Indicativo (Productos)'!J401","v":0},{"$f":"+'Plan Indicativo (Productos)'!K401","v":0}]
[{"$f":"+'Plan Indicativo (Productos)'!A402","v":398},{"$f":"+'Plan Indicativo (Productos)'!B402","v":0},{"$f":"+'Plan Indicativo (Productos)'!C402","v":""},{"$f":"+'Plan Indicativo (Productos)'!D402","v":0},{"$f":"+'Plan Indicativo (Productos)'!E402","v":0},{"$f":"+'Plan Indicativo (Productos)'!F402","v":0},{"$f":"+'Plan Indicativo (Productos)'!G402","v":0},{"$f":"+'Plan Indicativo (Productos)'!H402","v":0},{"$f":"+'Plan Indicativo (Productos)'!I402","v":0},{"$f":"+'Plan Indicativo (Productos)'!J402","v":0},{"$f":"+'Plan Indicativo (Productos)'!K402","v":0}]
[{"$f":"+'Plan Indicativo (Productos)'!A403","v":399},{"$f":"+'Plan Indicativo (Productos)'!B403","v":0},{"$f":"+'Plan Indicativo (Productos)'!C403","v":""},{"$f":"+'Plan Indicativo (Productos)'!D403","v":0},{"$f":"+'Plan Indicativo (Productos)'!E403","v":0},{"$f":"+'Plan Indicativo (Productos)'!F403","v":0},{"$f":"+'Plan Indicativo (Productos)'!G403","v":0},{"$f":"+'Plan Indicativo (Productos)'!H403","v":0},{"$f":"+'Plan Indicativo (Productos)'!I403","v":0},{"$f":"+'Plan Indicativo (Productos)'!J403","v":0},{"$f":"+'Plan Indicativo (Productos)'!K403","v":0}]
[{"$f":"+'Plan Indicativo (Productos)'!A404","v":400},{"$f":"+'Plan Indicativo (Productos)'!B404","v":0},{"$f":"+'Plan Indicativo (Productos)'!C404","v":""},{"$f":"+'Plan Indicativo (Productos)'!D404","v":0},{"$f":"+'Plan Indicativo (Productos)'!E404","v":0},{"$f":"+'Plan Indicativo (Productos)'!F404","v":0},{"$f":"+'Plan Indicativo (Productos)'!G404","v":0},{"$f":"+'Plan Indicativo (Productos)'!H404","v":0},{"$f":"+'Plan Indicativo (Productos)'!I404","v":0},{"$f":"+'Plan Indicativo (Productos)'!J404","v":0},{"$f":"+'Plan Indicativo (Productos)'!K404","v":0}]
[{"$f":"+'Plan Indicativo (Productos)'!A405","v":401},{"$f":"+'Plan Indicativo (Productos)'!B405","v":0},{"$f":"+'Plan Indicativo (Productos)'!C405","v":""},{"$f":"+'Plan Indicativo (Productos)'!D405","v":0},{"$f":"+'Plan Indicativo (Productos)'!E405","v":0},{"$f":"+'Plan Indicativo (Productos)'!F405","v":0},{"$f":"+'Plan Indicativo (Productos)'!G405","v":0},{"$f":"+'Plan Indicativo (Productos)'!H405","v":0},{"$f":"+'Plan Indicativo (Productos)'!I405","v":0},{"$f":"+'Plan Indicativo (Productos)'!J405","v":0},{"$f":"+'Plan Indicativo (Productos)'!K405","v":0}]
[{"$f":"+'Plan Indicativo (Productos)'!A406","v":402},{"$f":"+'Plan Indicativo (Productos)'!B406","v":0},{"$f":"+'Plan Indicativo (Productos)'!C406","v":""},{"$f":"+'Plan Indicativo (Productos)'!D406","v":0},{"$f":"+'Plan Indicativo (Productos)'!E406","v":0},{"$f":"+'Plan Indicativo (Productos)'!F406","v":0},{"$f":"+'Plan Indicativo (Productos)'!G406","v":0},{"$f":"+'Plan Indicativo (Productos)'!H406","v":0},{"$f":"+'Plan Indicativo (Productos)'!I406","v":0},{"$f":"+'Plan Indicativo (Productos)'!J406","v":0},{"$f":"+'Plan Indicativo (Productos)'!K406","v":0}]
[{"$f":"+'Plan Indicativo (Productos)'!A407","v":403},{"$f":"+'Plan Indicativo (Productos)'!B407","v":0},{"$f":"+'Plan Indicativo (Productos)'!C407","v":""},{"$f":"+'Plan Indicativo (Productos)'!D407","v":0},{"$f":"+'Plan Indicativo (Productos)'!E407","v":0},{"$f":"+'Plan Indicativo (Productos)'!F407","v":0},{"$f":"+'Plan Indicativo (Productos)'!G407","v":0},{"$f":"+'Plan Indicativo (Productos)'!H407","v":0},{"$f":"+'Plan Indicativo (Productos)'!I407","v":0},{"$f":"+'Plan Indicativo (Productos)'!J407","v":0},{"$f":"+'Plan Indicativo (Productos)'!K407","v":0}]
[{"$f":"+'Plan Indicativo (Productos)'!A408","v":404},{"$f":"+'Plan Indicativo (Productos)'!B408","v":0},{"$f":"+'Plan Indicativo (Productos)'!C408","v":""},{"$f":"+'Plan Indicativo (Productos)'!D408","v":0},{"$f":"+'Plan Indicativo (Productos)'!E408","v":0},{"$f":"+'Plan Indicativo (Productos)'!F408","v":0},{"$f":"+'Plan Indicativo (Productos)'!G408","v":0},{"$f":"+'Plan Indicativo (Productos)'!H408","v":0},{"$f":"+'Plan Indicativo (Productos)'!I408","v":0},{"$f":"+'Plan Indicativo (Productos)'!J408","v":0},{"$f":"+'Plan Indicativo (Productos)'!K408","v":0}]
[{"$f":"+'Plan Indicativo (Productos)'!A409","v":405},{"$f":"+'Plan Indicativo (Productos)'!B409","v":0},{"$f":"+'Plan Indicativo (Productos)'!C409","v":""},{"$f":"+'Plan Indicativo (Productos)'!D409","v":0},{"$f":"+'Plan Indicativo (Productos)'!E409","v":0},{"$f":"+'Plan Indicativo (Productos)'!F409","v":0},{"$f":"+'Plan Indicativo (Productos)'!G409","v":0},{"$f":"+'Plan Indicativo (Productos)'!H409","v":0},{"$f":"+'Plan Indicativo (Productos)'!I409","v":0},{"$f":"+'Plan Indicativo (Productos)'!J409","v":0},{"$f":"+'Plan Indicativo (Productos)'!K409","v":0}]
[{"$f":"+'Plan Indicativo (Productos)'!A410","v":406},{"$f":"+'Plan Indicativo (Productos)'!B410","v":0},{"$f":"+'Plan Indicativo (Productos)'!C410","v":""},{"$f":"+'Plan Indicativo (Productos)'!D410","v":0},{"$f":"+'Plan Indicativo (Productos)'!E410","v":0},{"$f":"+'Plan Indicativo (Productos)'!F410","v":0},{"$f":"+'Plan Indicativo (Productos)'!G410","v":0},{"$f":"+'Plan Indicativo (Productos)'!H410","v":0},{"$f":"+'Plan Indicativo (Productos)'!I410","v":0},{"$f":"+'Plan Indicativo (Productos)'!J410","v":0},{"$f":"+'Plan Indicativo (Productos)'!K410","v":0}]
[{"$f":"+'Plan Indicativo (Productos)'!A411","v":407},{"$f":"+'Plan Indicativo (Productos)'!B411","v":0},{"$f":"+'Plan Indicativo (Productos)'!C411","v":""},{"$f":"+'Plan Indicativo (Productos)'!D411","v":0},{"$f":"+'Plan Indicativo (Productos)'!E411","v":0},{"$f":"+'Plan Indicativo (Productos)'!F411","v":0},{"$f":"+'Plan Indicativo (Productos)'!G411","v":0},{"$f":"+'Plan Indicativo (Productos)'!H411","v":0},{"$f":"+'Plan Indicativo (Productos)'!I411","v":0},{"$f":"+'Plan Indicativo (Productos)'!J411","v":0},{"$f":"+'Plan Indicativo (Productos)'!K411","v":0}]
[{"$f":"+'Plan Indicativo (Productos)'!A412","v":408},{"$f":"+'Plan Indicativo (Productos)'!B412","v":0},{"$f":"+'Plan Indicativo (Productos)'!C412","v":""},{"$f":"+'Plan Indicativo (Productos)'!D412","v":0},{"$f":"+'Plan Indicativo (Productos)'!E412","v":0},{"$f":"+'Plan Indicativo (Productos)'!F412","v":0},{"$f":"+'Plan Indicativo (Productos)'!G412","v":0},{"$f":"+'Plan Indicativo (Productos)'!H412","v":0},{"$f":"+'Plan Indicativo (Productos)'!I412","v":0},{"$f":"+'Plan Indicativo (Productos)'!J412","v":0},{"$f":"+'Plan Indicativo (Productos)'!K412","v":0}]
[{"$f":"+'Plan Indicativo (Productos)'!A413","v":409},{"$f":"+'Plan Indicativo (Productos)'!B413","v":0},{"$f":"+'Plan Indicativo (Productos)'!C413","v":""},{"$f":"+'Plan Indicativo (Productos)'!D413","v":0},{"$f":"+'Plan Indicativo (Productos)'!E413","v":0},{"$f":"+'Plan Indicativo (Productos)'!F413","v":0},{"$f":"+'Plan Indicativo (Productos)'!G413","v":0},{"$f":"+'Plan Indicativo (Productos)'!H413","v":0},{"$f":"+'Plan Indicativo (Productos)'!I413","v":0},{"$f":"+'Plan Indicativo (Productos)'!J413","v":0},{"$f":"+'Plan Indicativo (Productos)'!K413","v":0}]
[{"$f":"+'Plan Indicativo (Productos)'!A414","v":410},{"$f":"+'Plan Indicativo (Productos)'!B414","v":0},{"$f":"+'Plan Indicativo (Productos)'!C414","v":""},{"$f":"+'Plan Indicativo (Productos)'!D414","v":0},{"$f":"+'Plan Indicativo (Productos)'!E414","v":0},{"$f":"+'Plan Indicativo (Productos)'!F414","v":0},{"$f":"+'Plan Indicativo (Productos)'!G414","v":0},{"$f":"+'Plan Indicativo (Productos)'!H414","v":0},{"$f":"+'Plan Indicativo (Productos)'!I414","v":0},{"$f":"+'Plan Indicativo (Productos)'!J414","v":0},{"$f":"+'Plan Indicativo (Productos)'!K414","v":0}]
[{"$f":"+'Plan Indicativo (Productos)'!A415","v":411},{"$f":"+'Plan Indicativo (Productos)'!B415","v":0},{"$f":"+'Plan Indicativo (Productos)'!C415","v":""},{"$f":"+'Plan Indicativo (Productos)'!D415","v":0},{"$f":"+'Plan Indicativo (Productos)'!E415","v":0},{"$f":"+'Plan Indicativo (Productos)'!F415","v":0},{"$f":"+'Plan Indicativo (Productos)'!G415","v":0},{"$f":"+'Plan Indicativo (Productos)'!H415","v":0},{"$f":"+'Plan Indicativo (Productos)'!I415","v":0},{"$f":"+'Plan Indicativo (Productos)'!J415","v":0},{"$f":"+'Plan Indicativo (Productos)'!K415","v":0}]
[{"$f":"+'Plan Indicativo (Productos)'!A416","v":412},{"$f":"+'Plan Indicativo (Productos)'!B416","v":0},{"$f":"+'Plan Indicativo (Productos)'!C416","v":""},{"$f":"+'Plan Indicativo (Productos)'!D416","v":0},{"$f":"+'Plan Indicativo (Productos)'!E416","v":0},{"$f":"+'Plan Indicativo (Productos)'!F416","v":0},{"$f":"+'Plan Indicativo (Productos)'!G416","v":0},{"$f":"+'Plan Indicativo (Productos)'!H416","v":0},{"$f":"+'Plan Indicativo (Productos)'!I416","v":0},{"$f":"+'Plan Indicativo (Productos)'!J416","v":0},{"$f":"+'Plan Indicativo (Productos)'!K416","v":0}]
[{"$f":"+'Plan Indicativo (Productos)'!A417","v":413},{"$f":"+'Plan Indicativo (Productos)'!B417","v":0},{"$f":"+'Plan Indicativo (Productos)'!C417","v":""},{"$f":"+'Plan Indicativo (Productos)'!D417","v":0},{"$f":"+'Plan Indicativo (Productos)'!E417","v":0},{"$f":"+'Plan Indicativo (Productos)'!F417","v":0},{"$f":"+'Plan Indicativo (Productos)'!G417","v":0},{"$f":"+'Plan Indicativo (Productos)'!H417","v":0},{"$f":"+'Plan Indicativo (Productos)'!I417","v":0},{"$f":"+'Plan Indicativo (Productos)'!J417","v":0},{"$f":"+'Plan Indicativo (Productos)'!K417","v":0}]
[{"$f":"+'Plan Indicativo (Productos)'!A418","v":414},{"$f":"+'Plan Indicativo (Productos)'!B418","v":0},{"$f":"+'Plan Indicativo (Productos)'!C418","v":""},{"$f":"+'Plan Indicativo (Productos)'!D418","v":0},{"$f":"+'Plan Indicativo (Productos)'!E418","v":0},{"$f":"+'Plan Indicativo (Productos)'!F418","v":0},{"$f":"+'Plan Indicativo (Productos)'!G418","v":0},{"$f":"+'Plan Indicativo (Productos)'!H418","v":0},{"$f":"+'Plan Indicativo (Productos)'!I418","v":0},{"$f":"+'Plan Indicativo (Productos)'!J418","v":0},{"$f":"+'Plan Indicativo (Productos)'!K418","v":0}]
[{"$f":"+'Plan Indicativo (Productos)'!A419","v":415},{"$f":"+'Plan Indicativo (Productos)'!B419","v":0},{"$f":"+'Plan Indicativo (Productos)'!C419","v":""},{"$f":"+'Plan Indicativo (Productos)'!D419","v":0},{"$f":"+'Plan Indicativo (Productos)'!E419","v":0},{"$f":"+'Plan Indicativo (Productos)'!F419","v":0},{"$f":"+'Plan Indicativo (Productos)'!G419","v":0},{"$f":"+'Plan Indicativo (Productos)'!H419","v":0},{"$f":"+'Plan Indicativo (Productos)'!I419","v":0},{"$f":"+'Plan Indicativo (Productos)'!J419","v":0},{"$f":"+'Plan Indicativo (Productos)'!K419","v":0}]
[{"$f":"+'Plan Indicativo (Productos)'!A420","v":416},{"$f":"+'Plan Indicativo (Productos)'!B420","v":0},{"$f":"+'Plan Indicativo (Productos)'!C420","v":""},{"$f":"+'Plan Indicativo (Productos)'!D420","v":0},{"$f":"+'Plan Indicativo (Productos)'!E420","v":0},{"$f":"+'Plan Indicativo (Productos)'!F420","v":0},{"$f":"+'Plan Indicativo (Productos)'!G420","v":0},{"$f":"+'Plan Indicativo (Productos)'!H420","v":0},{"$f":"+'Plan Indicativo (Productos)'!I420","v":0},{"$f":"+'Plan Indicativo (Productos)'!J420","v":0},{"$f":"+'Plan Indicativo (Productos)'!K420","v":0}]
[{"$f":"+'Plan Indicativo (Productos)'!A421","v":417},{"$f":"+'Plan Indicativo (Productos)'!B421","v":0},{"$f":"+'Plan Indicativo (Productos)'!C421","v":""},{"$f":"+'Plan Indicativo (Productos)'!D421","v":0},{"$f":"+'Plan Indicativo (Productos)'!E421","v":0},{"$f":"+'Plan Indicativo (Productos)'!F421","v":0},{"$f":"+'Plan Indicativo (Productos)'!G421","v":0},{"$f":"+'Plan Indicativo (Productos)'!H421","v":0},{"$f":"+'Plan Indicativo (Productos)'!I421","v":0},{"$f":"+'Plan Indicativo (Productos)'!J421","v":0},{"$f":"+'Plan Indicativo (Productos)'!K421","v":0}]
[{"$f":"+'Plan Indicativo (Productos)'!A422","v":418},{"$f":"+'Plan Indicativo (Productos)'!B422","v":0},{"$f":"+'Plan Indicativo (Productos)'!C422","v":""},{"$f":"+'Plan Indicativo (Productos)'!D422","v":0},{"$f":"+'Plan Indicativo (Productos)'!E422","v":0},{"$f":"+'Plan Indicativo (Productos)'!F422","v":0},{"$f":"+'Plan Indicativo (Productos)'!G422","v":0},{"$f":"+'Plan Indicativo (Productos)'!H422","v":0},{"$f":"+'Plan Indicativo (Productos)'!I422","v":0},{"$f":"+'Plan Indicativo (Productos)'!J422","v":0},{"$f":"+'Plan Indicativo (Productos)'!K422","v":0}]
[{"$f":"+'Plan Indicativo (Productos)'!A423","v":419},{"$f":"+'Plan Indicativo (Productos)'!B423","v":0},{"$f":"+'Plan Indicativo (Productos)'!C423","v":""},{"$f":"+'Plan Indicativo (Productos)'!D423","v":0},{"$f":"+'Plan Indicativo (Productos)'!E423","v":0},{"$f":"+'Plan Indicativo (Productos)'!F423","v":0},{"$f":"+'Plan Indicativo (Productos)'!G423","v":0},{"$f":"+'Plan Indicativo (Productos)'!H423","v":0},{"$f":"+'Plan Indicativo (Productos)'!I423","v":0},{"$f":"+'Plan Indicativo (Productos)'!J423","v":0},{"$f":"+'Plan Indicativo (Productos)'!K423","v":0}]
[{"$f":"+'Plan Indicativo (Productos)'!A424","v":420},{"$f":"+'Plan Indicativo (Productos)'!B424","v":0},{"$f":"+'Plan Indicativo (Productos)'!C424","v":""},{"$f":"+'Plan Indicativo (Productos)'!D424","v":0},{"$f":"+'Plan Indicativo (Productos)'!E424","v":0},{"$f":"+'Plan Indicativo (Productos)'!F424","v":0},{"$f":"+'Plan Indicativo (Productos)'!G424","v":0},{"$f":"+'Plan Indicativo (Productos)'!H424","v":0},{"$f":"+'Plan Indicativo (Productos)'!I424","v":0},{"$f":"+'Plan Indicativo (Productos)'!J424","v":0},{"$f":"+'Plan Indicativo (Productos)'!K424","v":0}]
[{"$f":"+'Plan Indicativo (Productos)'!A425","v":421},{"$f":"+'Plan Indicativo (Productos)'!B425","v":0},{"$f":"+'Plan Indicativo (Productos)'!C425","v":""},{"$f":"+'Plan Indicativo (Productos)'!D425","v":0},{"$f":"+'Plan Indicativo (Productos)'!E425","v":0},{"$f":"+'Plan Indicativo (Productos)'!F425","v":0},{"$f":"+'Plan Indicativo (Productos)'!G425","v":0},{"$f":"+'Plan Indicativo (Productos)'!H425","v":0},{"$f":"+'Plan Indicativo (Productos)'!I425","v":0},{"$f":"+'Plan Indicativo (Productos)'!J425","v":0},{"$f":"+'Plan Indicativo (Productos)'!K425","v":0}]
[{"$f":"+'Plan Indicativo (Productos)'!A426","v":422},{"$f":"+'Plan Indicativo (Productos)'!B426","v":0},{"$f":"+'Plan Indicativo (Productos)'!C426","v":""},{"$f":"+'Plan Indicativo (Productos)'!D426","v":0},{"$f":"+'Plan Indicativo (Productos)'!E426","v":0},{"$f":"+'Plan Indicativo (Productos)'!F426","v":0},{"$f":"+'Plan Indicativo (Productos)'!G426","v":0},{"$f":"+'Plan Indicativo (Productos)'!H426","v":0},{"$f":"+'Plan Indicativo (Productos)'!I426","v":0},{"$f":"+'Plan Indicativo (Productos)'!J426","v":0},{"$f":"+'Plan Indicativo (Productos)'!K426","v":0}]
[{"$f":"+'Plan Indicativo (Productos)'!A427","v":423},{"$f":"+'Plan Indicativo (Productos)'!B427","v":0},{"$f":"+'Plan Indicativo (Productos)'!C427","v":""},{"$f":"+'Plan Indicativo (Productos)'!D427","v":0},{"$f":"+'Plan Indicativo (Productos)'!E427","v":0},{"$f":"+'Plan Indicativo (Productos)'!F427","v":0},{"$f":"+'Plan Indicativo (Productos)'!G427","v":0},{"$f":"+'Plan Indicativo (Productos)'!H427","v":0},{"$f":"+'Plan Indicativo (Productos)'!I427","v":0},{"$f":"+'Plan Indicativo (Productos)'!J427","v":0},{"$f":"+'Plan Indicativo (Productos)'!K427","v":0}]
[{"$f":"+'Plan Indicativo (Productos)'!A428","v":424},{"$f":"+'Plan Indicativo (Productos)'!B428","v":0},{"$f":"+'Plan Indicativo (Productos)'!C428","v":""},{"$f":"+'Plan Indicativo (Productos)'!D428","v":0},{"$f":"+'Plan Indicativo (Productos)'!E428","v":0},{"$f":"+'Plan Indicativo (Productos)'!F428","v":0},{"$f":"+'Plan Indicativo (Productos)'!G428","v":0},{"$f":"+'Plan Indicativo (Productos)'!H428","v":0},{"$f":"+'Plan Indicativo (Productos)'!I428","v":0},{"$f":"+'Plan Indicativo (Productos)'!J428","v":0},{"$f":"+'Plan Indicativo (Productos)'!K428","v":0}]
[{"$f":"+'Plan Indicativo (Productos)'!A429","v":425},{"$f":"+'Plan Indicativo (Productos)'!B429","v":0},{"$f":"+'Plan Indicativo (Productos)'!C429","v":""},{"$f":"+'Plan Indicativo (Productos)'!D429","v":0},{"$f":"+'Plan Indicativo (Productos)'!E429","v":0},{"$f":"+'Plan Indicativo (Productos)'!F429","v":0},{"$f":"+'Plan Indicativo (Productos)'!G429","v":0},{"$f":"+'Plan Indicativo (Productos)'!H429","v":0},{"$f":"+'Plan Indicativo (Productos)'!I429","v":0},{"$f":"+'Plan Indicativo (Productos)'!J429","v":0},{"$f":"+'Plan Indicativo (Productos)'!K429","v":0}]
[{"$f":"+'Plan Indicativo (Productos)'!A430","v":426},{"$f":"+'Plan Indicativo (Productos)'!B430","v":0},{"$f":"+'Plan Indicativo (Productos)'!C430","v":""},{"$f":"+'Plan Indicativo (Productos)'!D430","v":0},{"$f":"+'Plan Indicativo (Productos)'!E430","v":0},{"$f":"+'Plan Indicativo (Productos)'!F430","v":0},{"$f":"+'Plan Indicativo (Productos)'!G430","v":0},{"$f":"+'Plan Indicativo (Productos)'!H430","v":0},{"$f":"+'Plan Indicativo (Productos)'!I430","v":0},{"$f":"+'Plan Indicativo (Productos)'!J430","v":0},{"$f":"+'Plan Indicativo (Productos)'!K430","v":0}]
[{"$f":"+'Plan Indicativo (Productos)'!A431","v":427},{"$f":"+'Plan Indicativo (Productos)'!B431","v":0},{"$f":"+'Plan Indicativo (Productos)'!C431","v":""},{"$f":"+'Plan Indicativo (Productos)'!D431","v":0},{"$f":"+'Plan Indicativo (Productos)'!E431","v":0},{"$f":"+'Plan Indicativo (Productos)'!F431","v":0},{"$f":"+'Plan Indicativo (Productos)'!G431","v":0},{"$f":"+'Plan Indicativo (Productos)'!H431","v":0},{"$f":"+'Plan Indicativo (Productos)'!I431","v":0},{"$f":"+'Plan Indicativo (Productos)'!J431","v":0},{"$f":"+'Plan Indicativo (Productos)'!K431","v":0}]
[{"$f":"+'Plan Indicativo (Productos)'!A432","v":428},{"$f":"+'Plan Indicativo (Productos)'!B432","v":0},{"$f":"+'Plan Indicativo (Productos)'!C432","v":""},{"$f":"+'Plan Indicativo (Productos)'!D432","v":0},{"$f":"+'Plan Indicativo (Productos)'!E432","v":0},{"$f":"+'Plan Indicativo (Productos)'!F432","v":0},{"$f":"+'Plan Indicativo (Productos)'!G432","v":0},{"$f":"+'Plan Indicativo (Productos)'!H432","v":0},{"$f":"+'Plan Indicativo (Productos)'!I432","v":0},{"$f":"+'Plan Indicativo (Productos)'!J432","v":0},{"$f":"+'Plan Indicativo (Productos)'!K432","v":0}]
[{"$f":"+'Plan Indicativo (Productos)'!A433","v":429},{"$f":"+'Plan Indicativo (Productos)'!B433","v":0},{"$f":"+'Plan Indicativo (Productos)'!C433","v":""},{"$f":"+'Plan Indicativo (Productos)'!D433","v":0},{"$f":"+'Plan Indicativo (Productos)'!E433","v":0},{"$f":"+'Plan Indicativo (Productos)'!F433","v":0},{"$f":"+'Plan Indicativo (Productos)'!G433","v":0},{"$f":"+'Plan Indicativo (Productos)'!H433","v":0},{"$f":"+'Plan Indicativo (Productos)'!I433","v":0},{"$f":"+'Plan Indicativo (Productos)'!J433","v":0},{"$f":"+'Plan Indicativo (Productos)'!K433","v":0}]
[{"$f":"+'Plan Indicativo (Productos)'!A434","v":430},{"$f":"+'Plan Indicativo (Productos)'!B434","v":0},{"$f":"+'Plan Indicativo (Productos)'!C434","v":""},{"$f":"+'Plan Indicativo (Productos)'!D434","v":0},{"$f":"+'Plan Indicativo (Productos)'!E434","v":0},{"$f":"+'Plan Indicativo (Productos)'!F434","v":0},{"$f":"+'Plan Indicativo (Productos)'!G434","v":0},{"$f":"+'Plan Indicativo (Productos)'!H434","v":0},{"$f":"+'Plan Indicativo (Productos)'!I434","v":0},{"$f":"+'Plan Indicativo (Productos)'!J434","v":0},{"$f":"+'Plan Indicativo (Productos)'!K434","v":0}]
[{"$f":"+'Plan Indicativo (Productos)'!A435","v":431},{"$f":"+'Plan Indicativo (Productos)'!B435","v":0},{"$f":"+'Plan Indicativo (Productos)'!C435","v":""},{"$f":"+'Plan Indicativo (Productos)'!D435","v":0},{"$f":"+'Plan Indicativo (Productos)'!E435","v":0},{"$f":"+'Plan Indicativo (Productos)'!F435","v":0},{"$f":"+'Plan Indicativo (Productos)'!G435","v":0},{"$f":"+'Plan Indicativo (Productos)'!H435","v":0},{"$f":"+'Plan Indicativo (Productos)'!I435","v":0},{"$f":"+'Plan Indicativo (Productos)'!J435","v":0},{"$f":"+'Plan Indicativo (Productos)'!K435","v":0}]
[{"$f":"+'Plan Indicativo (Productos)'!A436","v":432},{"$f":"+'Plan Indicativo (Productos)'!B436","v":0},{"$f":"+'Plan Indicativo (Productos)'!C436","v":""},{"$f":"+'Plan Indicativo (Productos)'!D436","v":0},{"$f":"+'Plan Indicativo (Productos)'!E436","v":0},{"$f":"+'Plan Indicativo (Productos)'!F436","v":0},{"$f":"+'Plan Indicativo (Productos)'!G436","v":0},{"$f":"+'Plan Indicativo (Productos)'!H436","v":0},{"$f":"+'Plan Indicativo (Productos)'!I436","v":0},{"$f":"+'Plan Indicativo (Productos)'!J436","v":0},{"$f":"+'Plan Indicativo (Productos)'!K436","v":0}]
[{"$f":"+'Plan Indicativo (Productos)'!A437","v":433},{"$f":"+'Plan Indicativo (Productos)'!B437","v":0},{"$f":"+'Plan Indicativo (Productos)'!C437","v":""},{"$f":"+'Plan Indicativo (Productos)'!D437","v":0},{"$f":"+'Plan Indicativo (Productos)'!E437","v":0},{"$f":"+'Plan Indicativo (Productos)'!F437","v":0},{"$f":"+'Plan Indicativo (Productos)'!G437","v":0},{"$f":"+'Plan Indicativo (Productos)'!H437","v":0},{"$f":"+'Plan Indicativo (Productos)'!I437","v":0},{"$f":"+'Plan Indicativo (Productos)'!J437","v":0},{"$f":"+'Plan Indicativo (Productos)'!K437","v":0}]
[{"$f":"+'Plan Indicativo (Productos)'!A438","v":434},{"$f":"+'Plan Indicativo (Productos)'!B438","v":0},{"$f":"+'Plan Indicativo (Productos)'!C438","v":""},{"$f":"+'Plan Indicativo (Productos)'!D438","v":0},{"$f":"+'Plan Indicativo (Productos)'!E438","v":0},{"$f":"+'Plan Indicativo (Productos)'!F438","v":0},{"$f":"+'Plan Indicativo (Productos)'!G438","v":0},{"$f":"+'Plan Indicativo (Productos)'!H438","v":0},{"$f":"+'Plan Indicativo (Productos)'!I438","v":0},{"$f":"+'Plan Indicativo (Productos)'!J438","v":0},{"$f":"+'Plan Indicativo (Productos)'!K438","v":0}]
[{"$f":"+'Plan Indicativo (Productos)'!A439","v":435},{"$f":"+'Plan Indicativo (Productos)'!B439","v":0},{"$f":"+'Plan Indicativo (Productos)'!C439","v":""},{"$f":"+'Plan Indicativo (Productos)'!D439","v":0},{"$f":"+'Plan Indicativo (Productos)'!E439","v":0},{"$f":"+'Plan Indicativo (Productos)'!F439","v":0},{"$f":"+'Plan Indicativo (Productos)'!G439","v":0},{"$f":"+'Plan Indicativo (Productos)'!H439","v":0},{"$f":"+'Plan Indicativo (Productos)'!I439","v":0},{"$f":"+'Plan Indicativo (Productos)'!J439","v":0},{"$f":"+'Plan Indicativo (Productos)'!K439","v":0}]
[{"$f":"+'Plan Indicativo (Productos)'!A440","v":436},{"$f":"+'Plan Indicativo (Productos)'!B440","v":0},{"$f":"+'Plan Indicativo (Productos)'!C440","v":""},{"$f":"+'Plan Indicativo (Productos)'!D440","v":0},{"$f":"+'Plan Indicativo (Productos)'!E440","v":0},{"$f":"+'Plan Indicativo (Productos)'!F440","v":0},{"$f":"+'Plan Indicativo (Productos)'!G440","v":0},{"$f":"+'Plan Indicativo (Productos)'!H440","v":0},{"$f":"+'Plan Indicativo (Productos)'!I440","v":0},{"$f":"+'Plan Indicativo (Productos)'!J440","v":0},{"$f":"+'Plan Indicativo (Productos)'!K440","v":0}]
[{"$f":"+'Plan Indicativo (Productos)'!A441","v":437},{"$f":"+'Plan Indicativo (Productos)'!B441","v":0},{"$f":"+'Plan Indicativo (Productos)'!C441","v":""},{"$f":"+'Plan Indicativo (Productos)'!D441","v":0},{"$f":"+'Plan Indicativo (Productos)'!E441","v":0},{"$f":"+'Plan Indicativo (Productos)'!F441","v":0},{"$f":"+'Plan Indicativo (Productos)'!G441","v":0},{"$f":"+'Plan Indicativo (Productos)'!H441","v":0},{"$f":"+'Plan Indicativo (Productos)'!I441","v":0},{"$f":"+'Plan Indicativo (Productos)'!J441","v":0},{"$f":"+'Plan Indicativo (Productos)'!K441","v":0}]
[{"$f":"+'Plan Indicativo (Productos)'!A442","v":438},{"$f":"+'Plan Indicativo (Productos)'!B442","v":0},{"$f":"+'Plan Indicativo (Productos)'!C442","v":""},{"$f":"+'Plan Indicativo (Productos)'!D442","v":0},{"$f":"+'Plan Indicativo (Productos)'!E442","v":0},{"$f":"+'Plan Indicativo (Productos)'!F442","v":0},{"$f":"+'Plan Indicativo (Productos)'!G442","v":0},{"$f":"+'Plan Indicativo (Productos)'!H442","v":0},{"$f":"+'Plan Indicativo (Productos)'!I442","v":0},{"$f":"+'Plan Indicativo (Productos)'!J442","v":0},{"$f":"+'Plan Indicativo (Productos)'!K442","v":0}]
[{"$f":"+'Plan Indicativo (Productos)'!A443","v":439},{"$f":"+'Plan Indicativo (Productos)'!B443","v":0},{"$f":"+'Plan Indicativo (Productos)'!C443","v":""},{"$f":"+'Plan Indicativo (Productos)'!D443","v":0},{"$f":"+'Plan Indicativo (Productos)'!E443","v":0},{"$f":"+'Plan Indicativo (Productos)'!F443","v":0},{"$f":"+'Plan Indicativo (Productos)'!G443","v":0},{"$f":"+'Plan Indicativo (Productos)'!H443","v":0},{"$f":"+'Plan Indicativo (Productos)'!I443","v":0},{"$f":"+'Plan Indicativo (Productos)'!J443","v":0},{"$f":"+'Plan Indicativo (Productos)'!K443","v":0}]
[{"$f":"+'Plan Indicativo (Productos)'!A444","v":440},{"$f":"+'Plan Indicativo (Productos)'!B444","v":0},{"$f":"+'Plan Indicativo (Productos)'!C444","v":""},{"$f":"+'Plan Indicativo (Productos)'!D444","v":0},{"$f":"+'Plan Indicativo (Productos)'!E444","v":0},{"$f":"+'Plan Indicativo (Productos)'!F444","v":0},{"$f":"+'Plan Indicativo (Productos)'!G444","v":0},{"$f":"+'Plan Indicativo (Productos)'!H444","v":0},{"$f":"+'Plan Indicativo (Productos)'!I444","v":0},{"$f":"+'Plan Indicativo (Productos)'!J444","v":0},{"$f":"+'Plan Indicativo (Productos)'!K444","v":0}]
[{"$f":"+'Plan Indicativo (Productos)'!A445","v":441},{"$f":"+'Plan Indicativo (Productos)'!B445","v":0},{"$f":"+'Plan Indicativo (Productos)'!C445","v":""},{"$f":"+'Plan Indicativo (Productos)'!D445","v":0},{"$f":"+'Plan Indicativo (Productos)'!E445","v":0},{"$f":"+'Plan Indicativo (Productos)'!F445","v":0},{"$f":"+'Plan Indicativo (Productos)'!G445","v":0},{"$f":"+'Plan Indicativo (Productos)'!H445","v":0},{"$f":"+'Plan Indicativo (Productos)'!I445","v":0},{"$f":"+'Plan Indicativo (Productos)'!J445","v":0},{"$f":"+'Plan Indicativo (Productos)'!K445","v":0}]
[{"$f":"+'Plan Indicativo (Productos)'!A446","v":442},{"$f":"+'Plan Indicativo (Productos)'!B446","v":0},{"$f":"+'Plan Indicativo (Productos)'!C446","v":""},{"$f":"+'Plan Indicativo (Productos)'!D446","v":0},{"$f":"+'Plan Indicativo (Productos)'!E446","v":0},{"$f":"+'Plan Indicativo (Productos)'!F446","v":0},{"$f":"+'Plan Indicativo (Productos)'!G446","v":0},{"$f":"+'Plan Indicativo (Productos)'!H446","v":0},{"$f":"+'Plan Indicativo (Productos)'!I446","v":0},{"$f":"+'Plan Indicativo (Productos)'!J446","v":0},{"$f":"+'Plan Indicativo (Productos)'!K446","v":0}]
[{"$f":"+'Plan Indicativo (Productos)'!A447","v":443},{"$f":"+'Plan Indicativo (Productos)'!B447","v":0},{"$f":"+'Plan Indicativo (Productos)'!C447","v":""},{"$f":"+'Plan Indicativo (Productos)'!D447","v":0},{"$f":"+'Plan Indicativo (Productos)'!E447","v":0},{"$f":"+'Plan Indicativo (Productos)'!F447","v":0},{"$f":"+'Plan Indicativo (Productos)'!G447","v":0},{"$f":"+'Plan Indicativo (Productos)'!H447","v":0},{"$f":"+'Plan Indicativo (Productos)'!I447","v":0},{"$f":"+'Plan Indicativo (Productos)'!J447","v":0},{"$f":"+'Plan Indicativo (Productos)'!K447","v":0}]
[{"$f":"+'Plan Indicativo (Productos)'!A448","v":444},{"$f":"+'Plan Indicativo (Productos)'!B448","v":0},{"$f":"+'Plan Indicativo (Productos)'!C448","v":""},{"$f":"+'Plan Indicativo (Productos)'!D448","v":0},{"$f":"+'Plan Indicativo (Productos)'!E448","v":0},{"$f":"+'Plan Indicativo (Productos)'!F448","v":0},{"$f":"+'Plan Indicativo (Productos)'!G448","v":0},{"$f":"+'Plan Indicativo (Productos)'!H448","v":0},{"$f":"+'Plan Indicativo (Productos)'!I448","v":0},{"$f":"+'Plan Indicativo (Productos)'!J448","v":0},{"$f":"+'Plan Indicativo (Productos)'!K448","v":0}]
[{"$f":"+'Plan Indicativo (Productos)'!A449","v":445},{"$f":"+'Plan Indicativo (Productos)'!B449","v":0},{"$f":"+'Plan Indicativo (Productos)'!C449","v":""},{"$f":"+'Plan Indicativo (Productos)'!D449","v":0},{"$f":"+'Plan Indicativo (Productos)'!E449","v":0},{"$f":"+'Plan Indicativo (Productos)'!F449","v":0},{"$f":"+'Plan Indicativo (Productos)'!G449","v":0},{"$f":"+'Plan Indicativo (Productos)'!H449","v":0},{"$f":"+'Plan Indicativo (Productos)'!I449","v":0},{"$f":"+'Plan Indicativo (Productos)'!J449","v":0},{"$f":"+'Plan Indicativo (Productos)'!K449","v":0}]
[{"$f":"+'Plan Indicativo (Productos)'!A450","v":446},{"$f":"+'Plan Indicativo (Productos)'!B450","v":0},{"$f":"+'Plan Indicativo (Productos)'!C450","v":""},{"$f":"+'Plan Indicativo (Productos)'!D450","v":0},{"$f":"+'Plan Indicativo (Productos)'!E450","v":0},{"$f":"+'Plan Indicativo (Productos)'!F450","v":0},{"$f":"+'Plan Indicativo (Productos)'!G450","v":0},{"$f":"+'Plan Indicativo (Productos)'!H450","v":0},{"$f":"+'Plan Indicativo (Productos)'!I450","v":0},{"$f":"+'Plan Indicativo (Productos)'!J450","v":0},{"$f":"+'Plan Indicativo (Productos)'!K450","v":0}]
[{"$f":"+'Plan Indicativo (Productos)'!A451","v":447},{"$f":"+'Plan Indicativo (Productos)'!B451","v":0},{"$f":"+'Plan Indicativo (Productos)'!C451","v":""},{"$f":"+'Plan Indicativo (Productos)'!D451","v":0},{"$f":"+'Plan Indicativo (Productos)'!E451","v":0},{"$f":"+'Plan Indicativo (Productos)'!F451","v":0},{"$f":"+'Plan Indicativo (Productos)'!G451","v":0},{"$f":"+'Plan Indicativo (Productos)'!H451","v":0},{"$f":"+'Plan Indicativo (Productos)'!I451","v":0},{"$f":"+'Plan Indicativo (Productos)'!J451","v":0},{"$f":"+'Plan Indicativo (Productos)'!K451","v":0}]
[{"$f":"+'Plan Indicativo (Productos)'!A452","v":448},{"$f":"+'Plan Indicativo (Productos)'!B452","v":0},{"$f":"+'Plan Indicativo (Productos)'!C452","v":""},{"$f":"+'Plan Indicativo (Productos)'!D452","v":0},{"$f":"+'Plan Indicativo (Productos)'!E452","v":0},{"$f":"+'Plan Indicativo (Productos)'!F452","v":0},{"$f":"+'Plan Indicativo (Productos)'!G452","v":0},{"$f":"+'Plan Indicativo (Productos)'!H452","v":0},{"$f":"+'Plan Indicativo (Productos)'!I452","v":0},{"$f":"+'Plan Indicativo (Productos)'!J452","v":0},{"$f":"+'Plan Indicativo (Productos)'!K452","v":0}]
[{"$f":"+'Plan Indicativo (Productos)'!A453","v":449},{"$f":"+'Plan Indicativo (Productos)'!B453","v":0},{"$f":"+'Plan Indicativo (Productos)'!C453","v":""},{"$f":"+'Plan Indicativo (Productos)'!D453","v":0},{"$f":"+'Plan Indicativo (Productos)'!E453","v":0},{"$f":"+'Plan Indicativo (Productos)'!F453","v":0},{"$f":"+'Plan Indicativo (Productos)'!G453","v":0},{"$f":"+'Plan Indicativo (Productos)'!H453","v":0},{"$f":"+'Plan Indicativo (Productos)'!I453","v":0},{"$f":"+'Plan Indicativo (Productos)'!J453","v":0},{"$f":"+'Plan Indicativo (Productos)'!K453","v":0}]
[{"$f":"+'Plan Indicativo (Productos)'!A454","v":450},{"$f":"+'Plan Indicativo (Productos)'!B454","v":0},{"$f":"+'Plan Indicativo (Productos)'!C454","v":""},{"$f":"+'Plan Indicativo (Productos)'!D454","v":0},{"$f":"+'Plan Indicativo (Productos)'!E454","v":0},{"$f":"+'Plan Indicativo (Productos)'!F454","v":0},{"$f":"+'Plan Indicativo (Productos)'!G454","v":0},{"$f":"+'Plan Indicativo (Productos)'!H454","v":0},{"$f":"+'Plan Indicativo (Productos)'!I454","v":0},{"$f":"+'Plan Indicativo (Productos)'!J454","v":0},{"$f":"+'Plan Indicativo (Productos)'!K454","v":0}]
[{"$f":"+'Plan Indicativo (Productos)'!A455","v":451},{"$f":"+'Plan Indicativo (Productos)'!B455","v":0},{"$f":"+'Plan Indicativo (Productos)'!C455","v":""},{"$f":"+'Plan Indicativo (Productos)'!D455","v":0},{"$f":"+'Plan Indicativo (Productos)'!E455","v":0},{"$f":"+'Plan Indicativo (Productos)'!F455","v":0},{"$f":"+'Plan Indicativo (Productos)'!G455","v":0},{"$f":"+'Plan Indicativo (Productos)'!H455","v":0},{"$f":"+'Plan Indicativo (Productos)'!I455","v":0},{"$f":"+'Plan Indicativo (Productos)'!J455","v":0},{"$f":"+'Plan Indicativo (Productos)'!K455","v":0}]
[{"$f":"+'Plan Indicativo (Productos)'!A456","v":452},{"$f":"+'Plan Indicativo (Productos)'!B456","v":0},{"$f":"+'Plan Indicativo (Productos)'!C456","v":""},{"$f":"+'Plan Indicativo (Productos)'!D456","v":0},{"$f":"+'Plan Indicativo (Productos)'!E456","v":0},{"$f":"+'Plan Indicativo (Productos)'!F456","v":0},{"$f":"+'Plan Indicativo (Productos)'!G456","v":0},{"$f":"+'Plan Indicativo (Productos)'!H456","v":0},{"$f":"+'Plan Indicativo (Productos)'!I456","v":0},{"$f":"+'Plan Indicativo (Productos)'!J456","v":0},{"$f":"+'Plan Indicativo (Productos)'!K456","v":0}]
[{"$f":"+'Plan Indicativo (Productos)'!A457","v":453},{"$f":"+'Plan Indicativo (Productos)'!B457","v":0},{"$f":"+'Plan Indicativo (Productos)'!C457","v":""},{"$f":"+'Plan Indicativo (Productos)'!D457","v":0},{"$f":"+'Plan Indicativo (Productos)'!E457","v":0},{"$f":"+'Plan Indicativo (Productos)'!F457","v":0},{"$f":"+'Plan Indicativo (Productos)'!G457","v":0},{"$f":"+'Plan Indicativo (Productos)'!H457","v":0},{"$f":"+'Plan Indicativo (Productos)'!I457","v":0},{"$f":"+'Plan Indicativo (Productos)'!J457","v":0},{"$f":"+'Plan Indicativo (Productos)'!K457","v":0}]
[{"$f":"+'Plan Indicativo (Productos)'!A458","v":454},{"$f":"+'Plan Indicativo (Productos)'!B458","v":0},{"$f":"+'Plan Indicativo (Productos)'!C458","v":""},{"$f":"+'Plan Indicativo (Productos)'!D458","v":0},{"$f":"+'Plan Indicativo (Productos)'!E458","v":0},{"$f":"+'Plan Indicativo (Productos)'!F458","v":0},{"$f":"+'Plan Indicativo (Productos)'!G458","v":0},{"$f":"+'Plan Indicativo (Productos)'!H458","v":0},{"$f":"+'Plan Indicativo (Productos)'!I458","v":0},{"$f":"+'Plan Indicativo (Productos)'!J458","v":0},{"$f":"+'Plan Indicativo (Productos)'!K458","v":0}]
[{"$f":"+'Plan Indicativo (Productos)'!A459","v":455},{"$f":"+'Plan Indicativo (Productos)'!B459","v":0},{"$f":"+'Plan Indicativo (Productos)'!C459","v":""},{"$f":"+'Plan Indicativo (Productos)'!D459","v":0},{"$f":"+'Plan Indicativo (Productos)'!E459","v":0},{"$f":"+'Plan Indicativo (Productos)'!F459","v":0},{"$f":"+'Plan Indicativo (Productos)'!G459","v":0},{"$f":"+'Plan Indicativo (Productos)'!H459","v":0},{"$f":"+'Plan Indicativo (Productos)'!I459","v":0},{"$f":"+'Plan Indicativo (Productos)'!J459","v":0},{"$f":"+'Plan Indicativo (Productos)'!K459","v":0}]
[{"$f":"+'Plan Indicativo (Productos)'!A460","v":456},{"$f":"+'Plan Indicativo (Productos)'!B460","v":0},{"$f":"+'Plan Indicativo (Productos)'!C460","v":""},{"$f":"+'Plan Indicativo (Productos)'!D460","v":0},{"$f":"+'Plan Indicativo (Productos)'!E460","v":0},{"$f":"+'Plan Indicativo (Productos)'!F460","v":0},{"$f":"+'Plan Indicativo (Productos)'!G460","v":0},{"$f":"+'Plan Indicativo (Productos)'!H460","v":0},{"$f":"+'Plan Indicativo (Productos)'!I460","v":0},{"$f":"+'Plan Indicativo (Productos)'!J460","v":0},{"$f":"+'Plan Indicativo (Productos)'!K460","v":0}]
[{"$f":"+'Plan Indicativo (Productos)'!A461","v":457},{"$f":"+'Plan Indicativo (Productos)'!B461","v":0},{"$f":"+'Plan Indicativo (Productos)'!C461","v":""},{"$f":"+'Plan Indicativo (Productos)'!D461","v":0},{"$f":"+'Plan Indicativo (Productos)'!E461","v":0},{"$f":"+'Plan Indicativo (Productos)'!F461","v":0},{"$f":"+'Plan Indicativo (Productos)'!G461","v":0},{"$f":"+'Plan Indicativo (Productos)'!H461","v":0},{"$f":"+'Plan Indicativo (Productos)'!I461","v":0},{"$f":"+'Plan Indicativo (Productos)'!J461","v":0},{"$f":"+'Plan Indicativo (Productos)'!K461","v":0}]
[{"$f":"+'Plan Indicativo (Productos)'!A462","v":458},{"$f":"+'Plan Indicativo (Productos)'!B462","v":0},{"$f":"+'Plan Indicativo (Productos)'!C462","v":""},{"$f":"+'Plan Indicativo (Productos)'!D462","v":0},{"$f":"+'Plan Indicativo (Productos)'!E462","v":0},{"$f":"+'Plan Indicativo (Productos)'!F462","v":0},{"$f":"+'Plan Indicativo (Productos)'!G462","v":0},{"$f":"+'Plan Indicativo (Productos)'!H462","v":0},{"$f":"+'Plan Indicativo (Productos)'!I462","v":0},{"$f":"+'Plan Indicativo (Productos)'!J462","v":0},{"$f":"+'Plan Indicativo (Productos)'!K462","v":0}]
[{"$f":"+'Plan Indicativo (Productos)'!A463","v":459},{"$f":"+'Plan Indicativo (Productos)'!B463","v":0},{"$f":"+'Plan Indicativo (Productos)'!C463","v":""},{"$f":"+'Plan Indicativo (Productos)'!D463","v":0},{"$f":"+'Plan Indicativo (Productos)'!E463","v":0},{"$f":"+'Plan Indicativo (Productos)'!F463","v":0},{"$f":"+'Plan Indicativo (Productos)'!G463","v":0},{"$f":"+'Plan Indicativo (Productos)'!H463","v":0},{"$f":"+'Plan Indicativo (Productos)'!I463","v":0},{"$f":"+'Plan Indicativo (Productos)'!J463","v":0},{"$f":"+'Plan Indicativo (Productos)'!K463","v":0}]
[{"$f":"+'Plan Indicativo (Productos)'!A464","v":460},{"$f":"+'Plan Indicativo (Productos)'!B464","v":0},{"$f":"+'Plan Indicativo (Productos)'!C464","v":""},{"$f":"+'Plan Indicativo (Productos)'!D464","v":0},{"$f":"+'Plan Indicativo (Productos)'!E464","v":0},{"$f":"+'Plan Indicativo (Productos)'!F464","v":0},{"$f":"+'Plan Indicativo (Productos)'!G464","v":0},{"$f":"+'Plan Indicativo (Productos)'!H464","v":0},{"$f":"+'Plan Indicativo (Productos)'!I464","v":0},{"$f":"+'Plan Indicativo (Productos)'!J464","v":0},{"$f":"+'Plan Indicativo (Productos)'!K464","v":0}]
[{"$f":"+'Plan Indicativo (Productos)'!A465","v":461},{"$f":"+'Plan Indicativo (Productos)'!B465","v":0},{"$f":"+'Plan Indicativo (Productos)'!C465","v":""},{"$f":"+'Plan Indicativo (Productos)'!D465","v":0},{"$f":"+'Plan Indicativo (Productos)'!E465","v":0},{"$f":"+'Plan Indicativo (Productos)'!F465","v":0},{"$f":"+'Plan Indicativo (Productos)'!G465","v":0},{"$f":"+'Plan Indicativo (Productos)'!H465","v":0},{"$f":"+'Plan Indicativo (Productos)'!I465","v":0},{"$f":"+'Plan Indicativo (Productos)'!J465","v":0},{"$f":"+'Plan Indicativo (Productos)'!K465","v":0}]
[{"$f":"+'Plan Indicativo (Productos)'!A466","v":462},{"$f":"+'Plan Indicativo (Productos)'!B466","v":0},{"$f":"+'Plan Indicativo (Productos)'!C466","v":""},{"$f":"+'Plan Indicativo (Productos)'!D466","v":0},{"$f":"+'Plan Indicativo (Productos)'!E466","v":0},{"$f":"+'Plan Indicativo (Productos)'!F466","v":0},{"$f":"+'Plan Indicativo (Productos)'!G466","v":0},{"$f":"+'Plan Indicativo (Productos)'!H466","v":0},{"$f":"+'Plan Indicativo (Productos)'!I466","v":0},{"$f":"+'Plan Indicativo (Productos)'!J466","v":0},{"$f":"+'Plan Indicativo (Productos)'!K466","v":0}]
[{"$f":"+'Plan Indicativo (Productos)'!A467","v":463},{"$f":"+'Plan Indicativo (Productos)'!B467","v":0},{"$f":"+'Plan Indicativo (Productos)'!C467","v":""},{"$f":"+'Plan Indicativo (Productos)'!D467","v":0},{"$f":"+'Plan Indicativo (Productos)'!E467","v":0},{"$f":"+'Plan Indicativo (Productos)'!F467","v":0},{"$f":"+'Plan Indicativo (Productos)'!G467","v":0},{"$f":"+'Plan Indicativo (Productos)'!H467","v":0},{"$f":"+'Plan Indicativo (Productos)'!I467","v":0},{"$f":"+'Plan Indicativo (Productos)'!J467","v":0},{"$f":"+'Plan Indicativo (Productos)'!K467","v":0}]
[{"$f":"+'Plan Indicativo (Productos)'!A468","v":464},{"$f":"+'Plan Indicativo (Productos)'!B468","v":0},{"$f":"+'Plan Indicativo (Productos)'!C468","v":""},{"$f":"+'Plan Indicativo (Productos)'!D468","v":0},{"$f":"+'Plan Indicativo (Productos)'!E468","v":0},{"$f":"+'Plan Indicativo (Productos)'!F468","v":0},{"$f":"+'Plan Indicativo (Productos)'!G468","v":0},{"$f":"+'Plan Indicativo (Productos)'!H468","v":0},{"$f":"+'Plan Indicativo (Productos)'!I468","v":0},{"$f":"+'Plan Indicativo (Productos)'!J468","v":0},{"$f":"+'Plan Indicativo (Productos)'!K468","v":0}]
[{"$f":"+'Plan Indicativo (Productos)'!A469","v":465},{"$f":"+'Plan Indicativo (Productos)'!B469","v":0},{"$f":"+'Plan Indicativo (Productos)'!C469","v":""},{"$f":"+'Plan Indicativo (Productos)'!D469","v":0},{"$f":"+'Plan Indicativo (Productos)'!E469","v":0},{"$f":"+'Plan Indicativo (Productos)'!F469","v":0},{"$f":"+'Plan Indicativo (Productos)'!G469","v":0},{"$f":"+'Plan Indicativo (Productos)'!H469","v":0},{"$f":"+'Plan Indicativo (Productos)'!I469","v":0},{"$f":"+'Plan Indicativo (Productos)'!J469","v":0},{"$f":"+'Plan Indicativo (Productos)'!K469","v":0}]
[{"$f":"+'Plan Indicativo (Productos)'!A470","v":466},{"$f":"+'Plan Indicativo (Productos)'!B470","v":0},{"$f":"+'Plan Indicativo (Productos)'!C470","v":""},{"$f":"+'Plan Indicativo (Productos)'!D470","v":0},{"$f":"+'Plan Indicativo (Productos)'!E470","v":0},{"$f":"+'Plan Indicativo (Productos)'!F470","v":0},{"$f":"+'Plan Indicativo (Productos)'!G470","v":0},{"$f":"+'Plan Indicativo (Productos)'!H470","v":0},{"$f":"+'Plan Indicativo (Productos)'!I470","v":0},{"$f":"+'Plan Indicativo (Productos)'!J470","v":0},{"$f":"+'Plan Indicativo (Productos)'!K470","v":0}]
[{"$f":"+'Plan Indicativo (Productos)'!A471","v":467},{"$f":"+'Plan Indicativo (Productos)'!B471","v":0},{"$f":"+'Plan Indicativo (Productos)'!C471","v":""},{"$f":"+'Plan Indicativo (Productos)'!D471","v":0},{"$f":"+'Plan Indicativo (Productos)'!E471","v":0},{"$f":"+'Plan Indicativo (Productos)'!F471","v":0},{"$f":"+'Plan Indicativo (Productos)'!G471","v":0},{"$f":"+'Plan Indicativo (Productos)'!H471","v":0},{"$f":"+'Plan Indicativo (Productos)'!I471","v":0},{"$f":"+'Plan Indicativo (Productos)'!J471","v":0},{"$f":"+'Plan Indicativo (Productos)'!K471","v":0}]
[{"$f":"+'Plan Indicativo (Productos)'!A472","v":468},{"$f":"+'Plan Indicativo (Productos)'!B472","v":0},{"$f":"+'Plan Indicativo (Productos)'!C472","v":""},{"$f":"+'Plan Indicativo (Productos)'!D472","v":0},{"$f":"+'Plan Indicativo (Productos)'!E472","v":0},{"$f":"+'Plan Indicativo (Productos)'!F472","v":0},{"$f":"+'Plan Indicativo (Productos)'!G472","v":0},{"$f":"+'Plan Indicativo (Productos)'!H472","v":0},{"$f":"+'Plan Indicativo (Productos)'!I472","v":0},{"$f":"+'Plan Indicativo (Productos)'!J472","v":0},{"$f":"+'Plan Indicativo (Productos)'!K472","v":0}]
[{"$f":"+'Plan Indicativo (Productos)'!A473","v":469},{"$f":"+'Plan Indicativo (Productos)'!B473","v":0},{"$f":"+'Plan Indicativo (Productos)'!C473","v":""},{"$f":"+'Plan Indicativo (Productos)'!D473","v":0},{"$f":"+'Plan Indicativo (Productos)'!E473","v":0},{"$f":"+'Plan Indicativo (Productos)'!F473","v":0},{"$f":"+'Plan Indicativo (Productos)'!G473","v":0},{"$f":"+'Plan Indicativo (Productos)'!H473","v":0},{"$f":"+'Plan Indicativo (Productos)'!I473","v":0},{"$f":"+'Plan Indicativo (Productos)'!J473","v":0},{"$f":"+'Plan Indicativo (Productos)'!K473","v":0}]
[{"$f":"+'Plan Indicativo (Productos)'!A474","v":470},{"$f":"+'Plan Indicativo (Productos)'!B474","v":0},{"$f":"+'Plan Indicativo (Productos)'!C474","v":""},{"$f":"+'Plan Indicativo (Productos)'!D474","v":0},{"$f":"+'Plan Indicativo (Productos)'!E474","v":0},{"$f":"+'Plan Indicativo (Productos)'!F474","v":0},{"$f":"+'Plan Indicativo (Productos)'!G474","v":0},{"$f":"+'Plan Indicativo (Productos)'!H474","v":0},{"$f":"+'Plan Indicativo (Productos)'!I474","v":0},{"$f":"+'Plan Indicativo (Productos)'!J474","v":0},{"$f":"+'Plan Indicativo (Productos)'!K474","v":0}]
[{"$f":"+'Plan Indicativo (Productos)'!A475","v":471},{"$f":"+'Plan Indicativo (Productos)'!B475","v":0},{"$f":"+'Plan Indicativo (Productos)'!C475","v":""},{"$f":"+'Plan Indicativo (Productos)'!D475","v":0},{"$f":"+'Plan Indicativo (Productos)'!E475","v":0},{"$f":"+'Plan Indicativo (Productos)'!F475","v":0},{"$f":"+'Plan Indicativo (Productos)'!G475","v":0},{"$f":"+'Plan Indicativo (Productos)'!H475","v":0},{"$f":"+'Plan Indicativo (Productos)'!I475","v":0},{"$f":"+'Plan Indicativo (Productos)'!J475","v":0},{"$f":"+'Plan Indicativo (Productos)'!K475","v":0}]
[{"$f":"+'Plan Indicativo (Productos)'!A476","v":472},{"$f":"+'Plan Indicativo (Productos)'!B476","v":0},{"$f":"+'Plan Indicativo (Productos)'!C476","v":""},{"$f":"+'Plan Indicativo (Productos)'!D476","v":0},{"$f":"+'Plan Indicativo (Productos)'!E476","v":0},{"$f":"+'Plan Indicativo (Productos)'!F476","v":0},{"$f":"+'Plan Indicativo (Productos)'!G476","v":0},{"$f":"+'Plan Indicativo (Productos)'!H476","v":0},{"$f":"+'Plan Indicativo (Productos)'!I476","v":0},{"$f":"+'Plan Indicativo (Productos)'!J476","v":0},{"$f":"+'Plan Indicativo (Productos)'!K476","v":0}]
[{"$f":"+'Plan Indicativo (Productos)'!A477","v":473},{"$f":"+'Plan Indicativo (Productos)'!B477","v":0},{"$f":"+'Plan Indicativo (Productos)'!C477","v":""},{"$f":"+'Plan Indicativo (Productos)'!D477","v":0},{"$f":"+'Plan Indicativo (Productos)'!E477","v":0},{"$f":"+'Plan Indicativo (Productos)'!F477","v":0},{"$f":"+'Plan Indicativo (Productos)'!G477","v":0},{"$f":"+'Plan Indicativo (Productos)'!H477","v":0},{"$f":"+'Plan Indicativo (Productos)'!I477","v":0},{"$f":"+'Plan Indicativo (Productos)'!J477","v":0},{"$f":"+'Plan Indicativo (Productos)'!K477","v":0}]
[{"$f":"+'Plan Indicativo (Productos)'!A478","v":474},{"$f":"+'Plan Indicativo (Productos)'!B478","v":0},{"$f":"+'Plan Indicativo (Productos)'!C478","v":""},{"$f":"+'Plan Indicativo (Productos)'!D478","v":0},{"$f":"+'Plan Indicativo (Productos)'!E478","v":0},{"$f":"+'Plan Indicativo (Productos)'!F478","v":0},{"$f":"+'Plan Indicativo (Productos)'!G478","v":0},{"$f":"+'Plan Indicativo (Productos)'!H478","v":0},{"$f":"+'Plan Indicativo (Productos)'!I478","v":0},{"$f":"+'Plan Indicativo (Productos)'!J478","v":0},{"$f":"+'Plan Indicativo (Productos)'!K478","v":0}]
[{"$f":"+'Plan Indicativo (Productos)'!A479","v":475},{"$f":"+'Plan Indicativo (Productos)'!B479","v":0},{"$f":"+'Plan Indicativo (Productos)'!C479","v":""},{"$f":"+'Plan Indicativo (Productos)'!D479","v":0},{"$f":"+'Plan Indicativo (Productos)'!E479","v":0},{"$f":"+'Plan Indicativo (Productos)'!F479","v":0},{"$f":"+'Plan Indicativo (Productos)'!G479","v":0},{"$f":"+'Plan Indicativo (Productos)'!H479","v":0},{"$f":"+'Plan Indicativo (Productos)'!I479","v":0},{"$f":"+'Plan Indicativo (Productos)'!J479","v":0},{"$f":"+'Plan Indicativo (Productos)'!K479","v":0}]
[{"$f":"+'Plan Indicativo (Productos)'!A480","v":476},{"$f":"+'Plan Indicativo (Productos)'!B480","v":0},{"$f":"+'Plan Indicativo (Productos)'!C480","v":""},{"$f":"+'Plan Indicativo (Productos)'!D480","v":0},{"$f":"+'Plan Indicativo (Productos)'!E480","v":0},{"$f":"+'Plan Indicativo (Productos)'!F480","v":0},{"$f":"+'Plan Indicativo (Productos)'!G480","v":0},{"$f":"+'Plan Indicativo (Productos)'!H480","v":0},{"$f":"+'Plan Indicativo (Productos)'!I480","v":0},{"$f":"+'Plan Indicativo (Productos)'!J480","v":0},{"$f":"+'Plan Indicativo (Productos)'!K480","v":0}]
[{"$f":"+'Plan Indicativo (Productos)'!A481","v":477},{"$f":"+'Plan Indicativo (Productos)'!B481","v":0},{"$f":"+'Plan Indicativo (Productos)'!C481","v":""},{"$f":"+'Plan Indicativo (Productos)'!D481","v":0},{"$f":"+'Plan Indicativo (Productos)'!E481","v":0},{"$f":"+'Plan Indicativo (Productos)'!F481","v":0},{"$f":"+'Plan Indicativo (Productos)'!G481","v":0},{"$f":"+'Plan Indicativo (Productos)'!H481","v":0},{"$f":"+'Plan Indicativo (Productos)'!I481","v":0},{"$f":"+'Plan Indicativo (Productos)'!J481","v":0},{"$f":"+'Plan Indicativo (Productos)'!K481","v":0}]
[{"$f":"+'Plan Indicativo (Productos)'!A482","v":478},{"$f":"+'Plan Indicativo (Productos)'!B482","v":0},{"$f":"+'Plan Indicativo (Productos)'!C482","v":""},{"$f":"+'Plan Indicativo (Productos)'!D482","v":0},{"$f":"+'Plan Indicativo (Productos)'!E482","v":0},{"$f":"+'Plan Indicativo (Productos)'!F482","v":0},{"$f":"+'Plan Indicativo (Productos)'!G482","v":0},{"$f":"+'Plan Indicativo (Productos)'!H482","v":0},{"$f":"+'Plan Indicativo (Productos)'!I482","v":0},{"$f":"+'Plan Indicativo (Productos)'!J482","v":0},{"$f":"+'Plan Indicativo (Productos)'!K482","v":0}]
[{"$f":"+'Plan Indicativo (Productos)'!A483","v":479},{"$f":"+'Plan Indicativo (Productos)'!B483","v":0},{"$f":"+'Plan Indicativo (Productos)'!C483","v":""},{"$f":"+'Plan Indicativo (Productos)'!D483","v":0},{"$f":"+'Plan Indicativo (Productos)'!E483","v":0},{"$f":"+'Plan Indicativo (Productos)'!F483","v":0},{"$f":"+'Plan Indicativo (Productos)'!G483","v":0},{"$f":"+'Plan Indicativo (Productos)'!H483","v":0},{"$f":"+'Plan Indicativo (Productos)'!I483","v":0},{"$f":"+'Plan Indicativo (Productos)'!J483","v":0},{"$f":"+'Plan Indicativo (Productos)'!K483","v":0}]
[{"$f":"+'Plan Indicativo (Productos)'!A484","v":480},{"$f":"+'Plan Indicativo (Productos)'!B484","v":0},{"$f":"+'Plan Indicativo (Productos)'!C484","v":""},{"$f":"+'Plan Indicativo (Productos)'!D484","v":0},{"$f":"+'Plan Indicativo (Productos)'!E484","v":0},{"$f":"+'Plan Indicativo (Productos)'!F484","v":0},{"$f":"+'Plan Indicativo (Productos)'!G484","v":0},{"$f":"+'Plan Indicativo (Productos)'!H484","v":0},{"$f":"+'Plan Indicativo (Productos)'!I484","v":0},{"$f":"+'Plan Indicativo (Productos)'!J484","v":0},{"$f":"+'Plan Indicativo (Productos)'!K484","v":0}]
[{"$f":"+'Plan Indicativo (Productos)'!A485","v":481},{"$f":"+'Plan Indicativo (Productos)'!B485","v":0},{"$f":"+'Plan Indicativo (Productos)'!C485","v":""},{"$f":"+'Plan Indicativo (Productos)'!D485","v":0},{"$f":"+'Plan Indicativo (Productos)'!E485","v":0},{"$f":"+'Plan Indicativo (Productos)'!F485","v":0},{"$f":"+'Plan Indicativo (Productos)'!G485","v":0},{"$f":"+'Plan Indicativo (Productos)'!H485","v":0},{"$f":"+'Plan Indicativo (Productos)'!I485","v":0},{"$f":"+'Plan Indicativo (Productos)'!J485","v":0},{"$f":"+'Plan Indicativo (Productos)'!K485","v":0}]
[{"$f":"+'Plan Indicativo (Productos)'!A486","v":482},{"$f":"+'Plan Indicativo (Productos)'!B486","v":0},{"$f":"+'Plan Indicativo (Productos)'!C486","v":""},{"$f":"+'Plan Indicativo (Productos)'!D486","v":0},{"$f":"+'Plan Indicativo (Productos)'!E486","v":0},{"$f":"+'Plan Indicativo (Productos)'!F486","v":0},{"$f":"+'Plan Indicativo (Productos)'!G486","v":0},{"$f":"+'Plan Indicativo (Productos)'!H486","v":0},{"$f":"+'Plan Indicativo (Productos)'!I486","v":0},{"$f":"+'Plan Indicativo (Productos)'!J486","v":0},{"$f":"+'Plan Indicativo (Productos)'!K486","v":0}]
[{"$f":"+'Plan Indicativo (Productos)'!A487","v":483},{"$f":"+'Plan Indicativo (Productos)'!B487","v":0},{"$f":"+'Plan Indicativo (Productos)'!C487","v":""},{"$f":"+'Plan Indicativo (Productos)'!D487","v":0},{"$f":"+'Plan Indicativo (Productos)'!E487","v":0},{"$f":"+'Plan Indicativo (Productos)'!F487","v":0},{"$f":"+'Plan Indicativo (Productos)'!G487","v":0},{"$f":"+'Plan Indicativo (Productos)'!H487","v":0},{"$f":"+'Plan Indicativo (Productos)'!I487","v":0},{"$f":"+'Plan Indicativo (Productos)'!J487","v":0},{"$f":"+'Plan Indicativo (Productos)'!K487","v":0}]
[{"$f":"+'Plan Indicativo (Productos)'!A488","v":484},{"$f":"+'Plan Indicativo (Productos)'!B488","v":0},{"$f":"+'Plan Indicativo (Productos)'!C488","v":""},{"$f":"+'Plan Indicativo (Productos)'!D488","v":0},{"$f":"+'Plan Indicativo (Productos)'!E488","v":0},{"$f":"+'Plan Indicativo (Productos)'!F488","v":0},{"$f":"+'Plan Indicativo (Productos)'!G488","v":0},{"$f":"+'Plan Indicativo (Productos)'!H488","v":0},{"$f":"+'Plan Indicativo (Productos)'!I488","v":0},{"$f":"+'Plan Indicativo (Productos)'!J488","v":0},{"$f":"+'Plan Indicativo (Productos)'!K488","v":0}]
[{"$f":"+'Plan Indicativo (Productos)'!A489","v":485},{"$f":"+'Plan Indicativo (Productos)'!B489","v":0},{"$f":"+'Plan Indicativo (Productos)'!C489","v":""},{"$f":"+'Plan Indicativo (Productos)'!D489","v":0},{"$f":"+'Plan Indicativo (Productos)'!E489","v":0},{"$f":"+'Plan Indicativo (Productos)'!F489","v":0},{"$f":"+'Plan Indicativo (Productos)'!G489","v":0},{"$f":"+'Plan Indicativo (Productos)'!H489","v":0},{"$f":"+'Plan Indicativo (Productos)'!I489","v":0},{"$f":"+'Plan Indicativo (Productos)'!J489","v":0},{"$f":"+'Plan Indicativo (Productos)'!K489","v":0}]
[{"$f":"+'Plan Indicativo (Productos)'!A490","v":486},{"$f":"+'Plan Indicativo (Productos)'!B490","v":0},{"$f":"+'Plan Indicativo (Productos)'!C490","v":""},{"$f":"+'Plan Indicativo (Productos)'!D490","v":0},{"$f":"+'Plan Indicativo (Productos)'!E490","v":0},{"$f":"+'Plan Indicativo (Productos)'!F490","v":0},{"$f":"+'Plan Indicativo (Productos)'!G490","v":0},{"$f":"+'Plan Indicativo (Productos)'!H490","v":0},{"$f":"+'Plan Indicativo (Productos)'!I490","v":0},{"$f":"+'Plan Indicativo (Productos)'!J490","v":0},{"$f":"+'Plan Indicativo (Productos)'!K490","v":0}]
[{"$f":"+'Plan Indicativo (Productos)'!A491","v":487},{"$f":"+'Plan Indicativo (Productos)'!B491","v":0},{"$f":"+'Plan Indicativo (Productos)'!C491","v":""},{"$f":"+'Plan Indicativo (Productos)'!D491","v":0},{"$f":"+'Plan Indicativo (Productos)'!E491","v":0},{"$f":"+'Plan Indicativo (Productos)'!F491","v":0},{"$f":"+'Plan Indicativo (Productos)'!G491","v":0},{"$f":"+'Plan Indicativo (Productos)'!H491","v":0},{"$f":"+'Plan Indicativo (Productos)'!I491","v":0},{"$f":"+'Plan Indicativo (Productos)'!J491","v":0},{"$f":"+'Plan Indicativo (Productos)'!K491","v":0}]
[{"$f":"+'Plan Indicativo (Productos)'!A492","v":488},{"$f":"+'Plan Indicativo (Productos)'!B492","v":0},{"$f":"+'Plan Indicativo (Productos)'!C492","v":""},{"$f":"+'Plan Indicativo (Productos)'!D492","v":0},{"$f":"+'Plan Indicativo (Productos)'!E492","v":0},{"$f":"+'Plan Indicativo (Productos)'!F492","v":0},{"$f":"+'Plan Indicativo (Productos)'!G492","v":0},{"$f":"+'Plan Indicativo (Productos)'!H492","v":0},{"$f":"+'Plan Indicativo (Productos)'!I492","v":0},{"$f":"+'Plan Indicativo (Productos)'!J492","v":0},{"$f":"+'Plan Indicativo (Productos)'!K492","v":0}]
[{"$f":"+'Plan Indicativo (Productos)'!A493","v":489},{"$f":"+'Plan Indicativo (Productos)'!B493","v":0},{"$f":"+'Plan Indicativo (Productos)'!C493","v":""},{"$f":"+'Plan Indicativo (Productos)'!D493","v":0},{"$f":"+'Plan Indicativo (Productos)'!E493","v":0},{"$f":"+'Plan Indicativo (Productos)'!F493","v":0},{"$f":"+'Plan Indicativo (Productos)'!G493","v":0},{"$f":"+'Plan Indicativo (Productos)'!H493","v":0},{"$f":"+'Plan Indicativo (Productos)'!I493","v":0},{"$f":"+'Plan Indicativo (Productos)'!J493","v":0},{"$f":"+'Plan Indicativo (Productos)'!K493","v":0}]
[{"$f":"+'Plan Indicativo (Productos)'!A494","v":490},{"$f":"+'Plan Indicativo (Productos)'!B494","v":0},{"$f":"+'Plan Indicativo (Productos)'!C494","v":""},{"$f":"+'Plan Indicativo (Productos)'!D494","v":0},{"$f":"+'Plan Indicativo (Productos)'!E494","v":0},{"$f":"+'Plan Indicativo (Productos)'!F494","v":0},{"$f":"+'Plan Indicativo (Productos)'!G494","v":0},{"$f":"+'Plan Indicativo (Productos)'!H494","v":0},{"$f":"+'Plan Indicativo (Productos)'!I494","v":0},{"$f":"+'Plan Indicativo (Productos)'!J494","v":0},{"$f":"+'Plan Indicativo (Productos)'!K494","v":0}]
[{"$f":"+'Plan Indicativo (Productos)'!A495","v":491},{"$f":"+'Plan Indicativo (Productos)'!B495","v":0},{"$f":"+'Plan Indicativo (Productos)'!C495","v":""},{"$f":"+'Plan Indicativo (Productos)'!D495","v":0},{"$f":"+'Plan Indicativo (Productos)'!E495","v":0},{"$f":"+'Plan Indicativo (Productos)'!F495","v":0},{"$f":"+'Plan Indicativo (Productos)'!G495","v":0},{"$f":"+'Plan Indicativo (Productos)'!H495","v":0},{"$f":"+'Plan Indicativo (Productos)'!I495","v":0},{"$f":"+'Plan Indicativo (Productos)'!J495","v":0},{"$f":"+'Plan Indicativo (Productos)'!K495","v":0}]
[{"$f":"+'Plan Indicativo (Productos)'!A496","v":492},{"$f":"+'Plan Indicativo (Productos)'!B496","v":0},{"$f":"+'Plan Indicativo (Productos)'!C496","v":""},{"$f":"+'Plan Indicativo (Productos)'!D496","v":0},{"$f":"+'Plan Indicativo (Productos)'!E496","v":0},{"$f":"+'Plan Indicativo (Productos)'!F496","v":0},{"$f":"+'Plan Indicativo (Productos)'!G496","v":0},{"$f":"+'Plan Indicativo (Productos)'!H496","v":0},{"$f":"+'Plan Indicativo (Productos)'!I496","v":0},{"$f":"+'Plan Indicativo (Productos)'!J496","v":0},{"$f":"+'Plan Indicativo (Productos)'!K496","v":0}]
[{"$f":"+'Plan Indicativo (Productos)'!A497","v":493},{"$f":"+'Plan Indicativo (Productos)'!B497","v":0},{"$f":"+'Plan Indicativo (Productos)'!C497","v":""},{"$f":"+'Plan Indicativo (Productos)'!D497","v":0},{"$f":"+'Plan Indicativo (Productos)'!E497","v":0},{"$f":"+'Plan Indicativo (Productos)'!F497","v":0},{"$f":"+'Plan Indicativo (Productos)'!G497","v":0},{"$f":"+'Plan Indicativo (Productos)'!H497","v":0},{"$f":"+'Plan Indicativo (Productos)'!I497","v":0},{"$f":"+'Plan Indicativo (Productos)'!J497","v":0},{"$f":"+'Plan Indicativo (Productos)'!K497","v":0}]
[{"$f":"+'Plan Indicativo (Productos)'!A498","v":494},{"$f":"+'Plan Indicativo (Productos)'!B498","v":0},{"$f":"+'Plan Indicativo (Productos)'!C498","v":""},{"$f":"+'Plan Indicativo (Productos)'!D498","v":0},{"$f":"+'Plan Indicativo (Productos)'!E498","v":0},{"$f":"+'Plan Indicativo (Productos)'!F498","v":0},{"$f":"+'Plan Indicativo (Productos)'!G498","v":0},{"$f":"+'Plan Indicativo (Productos)'!H498","v":0},{"$f":"+'Plan Indicativo (Productos)'!I498","v":0},{"$f":"+'Plan Indicativo (Productos)'!J498","v":0},{"$f":"+'Plan Indicativo (Productos)'!K498","v":0}]
[{"$f":"+'Plan Indicativo (Productos)'!A499","v":495},{"$f":"+'Plan Indicativo (Productos)'!B499","v":0},{"$f":"+'Plan Indicativo (Productos)'!C499","v":""},{"$f":"+'Plan Indicativo (Productos)'!D499","v":0},{"$f":"+'Plan Indicativo (Productos)'!E499","v":0},{"$f":"+'Plan Indicativo (Productos)'!F499","v":0},{"$f":"+'Plan Indicativo (Productos)'!G499","v":0},{"$f":"+'Plan Indicativo (Productos)'!H499","v":0},{"$f":"+'Plan Indicativo (Productos)'!I499","v":0},{"$f":"+'Plan Indicativo (Productos)'!J499","v":0},{"$f":"+'Plan Indicativo (Productos)'!K499","v":0}]
[{"$f":"+'Plan Indicativo (Productos)'!A500","v":496},{"$f":"+'Plan Indicativo (Productos)'!B500","v":0},{"$f":"+'Plan Indicativo (Productos)'!C500","v":""},{"$f":"+'Plan Indicativo (Productos)'!D500","v":0},{"$f":"+'Plan Indicativo (Productos)'!E500","v":0},{"$f":"+'Plan Indicativo (Productos)'!F500","v":0},{"$f":"+'Plan Indicativo (Productos)'!G500","v":0},{"$f":"+'Plan Indicativo (Productos)'!H500","v":0},{"$f":"+'Plan Indicativo (Productos)'!I500","v":0},{"$f":"+'Plan Indicativo (Productos)'!J500","v":0},{"$f":"+'Plan Indicativo (Productos)'!K500","v":0}]
[{"$f":"+'Plan Indicativo (Productos)'!A501","v":497},{"$f":"+'Plan Indicativo (Productos)'!B501","v":0},{"$f":"+'Plan Indicativo (Productos)'!C501","v":""},{"$f":"+'Plan Indicativo (Productos)'!D501","v":0},{"$f":"+'Plan Indicativo (Productos)'!E501","v":0},{"$f":"+'Plan Indicativo (Productos)'!F501","v":0},{"$f":"+'Plan Indicativo (Productos)'!G501","v":0},{"$f":"+'Plan Indicativo (Productos)'!H501","v":0},{"$f":"+'Plan Indicativo (Productos)'!I501","v":0},{"$f":"+'Plan Indicativo (Productos)'!J501","v":0},{"$f":"+'Plan Indicativo (Productos)'!K501","v":0}]
[{"$f":"+'Plan Indicativo (Productos)'!A502","v":498},{"$f":"+'Plan Indicativo (Productos)'!B502","v":0},{"$f":"+'Plan Indicativo (Productos)'!C502","v":""},{"$f":"+'Plan Indicativo (Productos)'!D502","v":0},{"$f":"+'Plan Indicativo (Productos)'!E502","v":0},{"$f":"+'Plan Indicativo (Productos)'!F502","v":0},{"$f":"+'Plan Indicativo (Productos)'!G502","v":0},{"$f":"+'Plan Indicativo (Productos)'!H502","v":0},{"$f":"+'Plan Indicativo (Productos)'!I502","v":0},{"$f":"+'Plan Indicativo (Productos)'!J502","v":0},{"$f":"+'Plan Indicativo (Productos)'!K502","v":0}]
[{"$f":"+'Plan Indicativo (Productos)'!A503","v":499},{"$f":"+'Plan Indicativo (Productos)'!B503","v":0},{"$f":"+'Plan Indicativo (Productos)'!C503","v":""},{"$f":"+'Plan Indicativo (Productos)'!D503","v":0},{"$f":"+'Plan Indicativo (Productos)'!E503","v":0},{"$f":"+'Plan Indicativo (Productos)'!F503","v":0},{"$f":"+'Plan Indicativo (Productos)'!G503","v":0},{"$f":"+'Plan Indicativo (Productos)'!H503","v":0},{"$f":"+'Plan Indicativo (Productos)'!I503","v":0},{"$f":"+'Plan Indicativo (Productos)'!J503","v":0},{"$f":"+'Plan Indicativo (Productos)'!K503","v":0}]
[{"$f":"+'Plan Indicativo (Productos)'!A504","v":500},{"$f":"+'Plan Indicativo (Productos)'!B504","v":0},{"$f":"+'Plan Indicativo (Productos)'!C504","v":""},{"$f":"+'Plan Indicativo (Productos)'!D504","v":0},{"$f":"+'Plan Indicativo (Productos)'!E504","v":0},{"$f":"+'Plan Indicativo (Productos)'!F504","v":0},{"$f":"+'Plan Indicativo (Productos)'!G504","v":0},{"$f":"+'Plan Indicativo (Productos)'!H504","v":0},{"$f":"+'Plan Indicativo (Productos)'!I504","v":0},{"$f":"+'Plan Indicativo (Productos)'!J504","v":0},{"$f":"+'Plan Indicativo (Productos)'!K504","v":0}]
[{"$f":"+'Plan Indicativo (Productos)'!A505","v":501},{"$f":"+'Plan Indicativo (Productos)'!B505","v":0},{"$f":"+'Plan Indicativo (Productos)'!C505","v":""},{"$f":"+'Plan Indicativo (Productos)'!D505","v":0},{"$f":"+'Plan Indicativo (Productos)'!E505","v":0},{"$f":"+'Plan Indicativo (Productos)'!F505","v":0},{"$f":"+'Plan Indicativo (Productos)'!G505","v":0},{"$f":"+'Plan Indicativo (Productos)'!H505","v":0},{"$f":"+'Plan Indicativo (Productos)'!I505","v":0},{"$f":"+'Plan Indicativo (Productos)'!J505","v":0},{"$f":"+'Plan Indicativo (Productos)'!K505","v":0}]
[{"$f":"+'Plan Indicativo (Productos)'!A506","v":502},{"$f":"+'Plan Indicativo (Productos)'!B506","v":0},{"$f":"+'Plan Indicativo (Productos)'!C506","v":""},{"$f":"+'Plan Indicativo (Productos)'!D506","v":0},{"$f":"+'Plan Indicativo (Productos)'!E506","v":0},{"$f":"+'Plan Indicativo (Productos)'!F506","v":0},{"$f":"+'Plan Indicativo (Productos)'!G506","v":0},{"$f":"+'Plan Indicativo (Productos)'!H506","v":0},{"$f":"+'Plan Indicativo (Productos)'!I506","v":0},{"$f":"+'Plan Indicativo (Productos)'!J506","v":0},{"$f":"+'Plan Indicativo (Productos)'!K506","v":0}]
[{"$f":"+'Plan Indicativo (Productos)'!A507","v":503},{"$f":"+'Plan Indicativo (Productos)'!B507","v":0},{"$f":"+'Plan Indicativo (Productos)'!C507","v":""},{"$f":"+'Plan Indicativo (Productos)'!D507","v":0},{"$f":"+'Plan Indicativo (Productos)'!E507","v":0},{"$f":"+'Plan Indicativo (Productos)'!F507","v":0},{"$f":"+'Plan Indicativo (Productos)'!G507","v":0},{"$f":"+'Plan Indicativo (Productos)'!H507","v":0},{"$f":"+'Plan Indicativo (Productos)'!I507","v":0},{"$f":"+'Plan Indicativo (Productos)'!J507","v":0},{"$f":"+'Plan Indicativo (Productos)'!K507","v":0}]
[{"$f":"+'Plan Indicativo (Productos)'!A508","v":504},{"$f":"+'Plan Indicativo (Productos)'!B508","v":0},{"$f":"+'Plan Indicativo (Productos)'!C508","v":""},{"$f":"+'Plan Indicativo (Productos)'!D508","v":0},{"$f":"+'Plan Indicativo (Productos)'!E508","v":0},{"$f":"+'Plan Indicativo (Productos)'!F508","v":0},{"$f":"+'Plan Indicativo (Productos)'!G508","v":0},{"$f":"+'Plan Indicativo (Productos)'!H508","v":0},{"$f":"+'Plan Indicativo (Productos)'!I508","v":0},{"$f":"+'Plan Indicativo (Productos)'!J508","v":0},{"$f":"+'Plan Indicativo (Productos)'!K508","v":0}]
[{"$f":"+'Plan Indicativo (Productos)'!A509","v":505},{"$f":"+'Plan Indicativo (Productos)'!B509","v":0},{"$f":"+'Plan Indicativo (Productos)'!C509","v":""},{"$f":"+'Plan Indicativo (Productos)'!D509","v":0},{"$f":"+'Plan Indicativo (Productos)'!E509","v":0},{"$f":"+'Plan Indicativo (Productos)'!F509","v":0},{"$f":"+'Plan Indicativo (Productos)'!G509","v":0},{"$f":"+'Plan Indicativo (Productos)'!H509","v":0},{"$f":"+'Plan Indicativo (Productos)'!I509","v":0},{"$f":"+'Plan Indicativo (Productos)'!J509","v":0},{"$f":"+'Plan Indicativo (Productos)'!K509","v":0}]
[{"$f":"+'Plan Indicativo (Productos)'!A510","v":506},{"$f":"+'Plan Indicativo (Productos)'!B510","v":0},{"$f":"+'Plan Indicativo (Productos)'!C510","v":""},{"$f":"+'Plan Indicativo (Productos)'!D510","v":0},{"$f":"+'Plan Indicativo (Productos)'!E510","v":0},{"$f":"+'Plan Indicativo (Productos)'!F510","v":0},{"$f":"+'Plan Indicativo (Productos)'!G510","v":0},{"$f":"+'Plan Indicativo (Productos)'!H510","v":0},{"$f":"+'Plan Indicativo (Productos)'!I510","v":0},{"$f":"+'Plan Indicativo (Productos)'!J510","v":0},{"$f":"+'Plan Indicativo (Productos)'!K510","v":0}]
[{"$f":"+'Plan Indicativo (Productos)'!A511","v":507},{"$f":"+'Plan Indicativo (Productos)'!B511","v":0},{"$f":"+'Plan Indicativo (Productos)'!C511","v":""},{"$f":"+'Plan Indicativo (Productos)'!D511","v":0},{"$f":"+'Plan Indicativo (Productos)'!E511","v":0},{"$f":"+'Plan Indicativo (Productos)'!F511","v":0},{"$f":"+'Plan Indicativo (Productos)'!G511","v":0},{"$f":"+'Plan Indicativo (Productos)'!H511","v":0},{"$f":"+'Plan Indicativo (Productos)'!I511","v":0},{"$f":"+'Plan Indicativo (Productos)'!J511","v":0},{"$f":"+'Plan Indicativo (Productos)'!K511","v":0}]
[{"$f":"+'Plan Indicativo (Productos)'!A512","v":508},{"$f":"+'Plan Indicativo (Productos)'!B512","v":0},{"$f":"+'Plan Indicativo (Productos)'!C512","v":""},{"$f":"+'Plan Indicativo (Productos)'!D512","v":0},{"$f":"+'Plan Indicativo (Productos)'!E512","v":0},{"$f":"+'Plan Indicativo (Productos)'!F512","v":0},{"$f":"+'Plan Indicativo (Productos)'!G512","v":0},{"$f":"+'Plan Indicativo (Productos)'!H512","v":0},{"$f":"+'Plan Indicativo (Productos)'!I512","v":0},{"$f":"+'Plan Indicativo (Productos)'!J512","v":0},{"$f":"+'Plan Indicativo (Productos)'!K512","v":0}]
[{"$f":"+'Plan Indicativo (Productos)'!A513","v":509},{"$f":"+'Plan Indicativo (Productos)'!B513","v":0},{"$f":"+'Plan Indicativo (Productos)'!C513","v":""},{"$f":"+'Plan Indicativo (Productos)'!D513","v":0},{"$f":"+'Plan Indicativo (Productos)'!E513","v":0},{"$f":"+'Plan Indicativo (Productos)'!F513","v":0},{"$f":"+'Plan Indicativo (Productos)'!G513","v":0},{"$f":"+'Plan Indicativo (Productos)'!H513","v":0},{"$f":"+'Plan Indicativo (Productos)'!I513","v":0},{"$f":"+'Plan Indicativo (Productos)'!J513","v":0},{"$f":"+'Plan Indicativo (Productos)'!K513","v":0}]
[{"$f":"+'Plan Indicativo (Productos)'!A514","v":510},{"$f":"+'Plan Indicativo (Productos)'!B514","v":0},{"$f":"+'Plan Indicativo (Productos)'!C514","v":""},{"$f":"+'Plan Indicativo (Productos)'!D514","v":0},{"$f":"+'Plan Indicativo (Productos)'!E514","v":0},{"$f":"+'Plan Indicativo (Productos)'!F514","v":0},{"$f":"+'Plan Indicativo (Productos)'!G514","v":0},{"$f":"+'Plan Indicativo (Productos)'!H514","v":0},{"$f":"+'Plan Indicativo (Productos)'!I514","v":0},{"$f":"+'Plan Indicativo (Productos)'!J514","v":0},{"$f":"+'Plan Indicativo (Productos)'!K514","v":0}]
[{"$f":"+'Plan Indicativo (Productos)'!A515","v":511},{"$f":"+'Plan Indicativo (Productos)'!B515","v":0},{"$f":"+'Plan Indicativo (Productos)'!C515","v":""},{"$f":"+'Plan Indicativo (Productos)'!D515","v":0},{"$f":"+'Plan Indicativo (Productos)'!E515","v":0},{"$f":"+'Plan Indicativo (Productos)'!F515","v":0},{"$f":"+'Plan Indicativo (Productos)'!G515","v":0},{"$f":"+'Plan Indicativo (Productos)'!H515","v":0},{"$f":"+'Plan Indicativo (Productos)'!I515","v":0},{"$f":"+'Plan Indicativo (Productos)'!J515","v":0},{"$f":"+'Plan Indicativo (Productos)'!K515","v":0}]
[{"$f":"+'Plan Indicativo (Productos)'!A516","v":512},{"$f":"+'Plan Indicativo (Productos)'!B516","v":0},{"$f":"+'Plan Indicativo (Productos)'!C516","v":""},{"$f":"+'Plan Indicativo (Productos)'!D516","v":0},{"$f":"+'Plan Indicativo (Productos)'!E516","v":0},{"$f":"+'Plan Indicativo (Productos)'!F516","v":0},{"$f":"+'Plan Indicativo (Productos)'!G516","v":0},{"$f":"+'Plan Indicativo (Productos)'!H516","v":0},{"$f":"+'Plan Indicativo (Productos)'!I516","v":0},{"$f":"+'Plan Indicativo (Productos)'!J516","v":0},{"$f":"+'Plan Indicativo (Productos)'!K516","v":0}]
[{"$f":"+'Plan Indicativo (Productos)'!A517","v":513},{"$f":"+'Plan Indicativo (Productos)'!B517","v":0},{"$f":"+'Plan Indicativo (Productos)'!C517","v":""},{"$f":"+'Plan Indicativo (Productos)'!D517","v":0},{"$f":"+'Plan Indicativo (Productos)'!E517","v":0},{"$f":"+'Plan Indicativo (Productos)'!F517","v":0},{"$f":"+'Plan Indicativo (Productos)'!G517","v":0},{"$f":"+'Plan Indicativo (Productos)'!H517","v":0},{"$f":"+'Plan Indicativo (Productos)'!I517","v":0},{"$f":"+'Plan Indicativo (Productos)'!J517","v":0},{"$f":"+'Plan Indicativo (Productos)'!K517","v":0}]
[{"$f":"+'Plan Indicativo (Productos)'!A518","v":514},{"$f":"+'Plan Indicativo (Productos)'!B518","v":0},{"$f":"+'Plan Indicativo (Productos)'!C518","v":""},{"$f":"+'Plan Indicativo (Productos)'!D518","v":0},{"$f":"+'Plan Indicativo (Productos)'!E518","v":0},{"$f":"+'Plan Indicativo (Productos)'!F518","v":0},{"$f":"+'Plan Indicativo (Productos)'!G518","v":0},{"$f":"+'Plan Indicativo (Productos)'!H518","v":0},{"$f":"+'Plan Indicativo (Productos)'!I518","v":0},{"$f":"+'Plan Indicativo (Productos)'!J518","v":0},{"$f":"+'Plan Indicativo (Productos)'!K518","v":0}]
[{"$f":"+'Plan Indicativo (Productos)'!A519","v":515},{"$f":"+'Plan Indicativo (Productos)'!B519","v":0},{"$f":"+'Plan Indicativo (Productos)'!C519","v":""},{"$f":"+'Plan Indicativo (Productos)'!D519","v":0},{"$f":"+'Plan Indicativo (Productos)'!E519","v":0},{"$f":"+'Plan Indicativo (Productos)'!F519","v":0},{"$f":"+'Plan Indicativo (Productos)'!G519","v":0},{"$f":"+'Plan Indicativo (Productos)'!H519","v":0},{"$f":"+'Plan Indicativo (Productos)'!I519","v":0},{"$f":"+'Plan Indicativo (Productos)'!J519","v":0},{"$f":"+'Plan Indicativo (Productos)'!K519","v":0}]
[{"$f":"+'Plan Indicativo (Productos)'!A520","v":516},{"$f":"+'Plan Indicativo (Productos)'!B520","v":0},{"$f":"+'Plan Indicativo (Productos)'!C520","v":""},{"$f":"+'Plan Indicativo (Productos)'!D520","v":0},{"$f":"+'Plan Indicativo (Productos)'!E520","v":0},{"$f":"+'Plan Indicativo (Productos)'!F520","v":0},{"$f":"+'Plan Indicativo (Productos)'!G520","v":0},{"$f":"+'Plan Indicativo (Productos)'!H520","v":0},{"$f":"+'Plan Indicativo (Productos)'!I520","v":0},{"$f":"+'Plan Indicativo (Productos)'!J520","v":0},{"$f":"+'Plan Indicativo (Productos)'!K520","v":0}]
[{"$f":"+'Plan Indicativo (Productos)'!A521","v":517},{"$f":"+'Plan Indicativo (Productos)'!B521","v":0},{"$f":"+'Plan Indicativo (Productos)'!C521","v":""},{"$f":"+'Plan Indicativo (Productos)'!D521","v":0},{"$f":"+'Plan Indicativo (Productos)'!E521","v":0},{"$f":"+'Plan Indicativo (Productos)'!F521","v":0},{"$f":"+'Plan Indicativo (Productos)'!G521","v":0},{"$f":"+'Plan Indicativo (Productos)'!H521","v":0},{"$f":"+'Plan Indicativo (Productos)'!I521","v":0},{"$f":"+'Plan Indicativo (Productos)'!J521","v":0},{"$f":"+'Plan Indicativo (Productos)'!K521","v":0}]
[{"$f":"+'Plan Indicativo (Productos)'!A522","v":518},{"$f":"+'Plan Indicativo (Productos)'!B522","v":0},{"$f":"+'Plan Indicativo (Productos)'!C522","v":""},{"$f":"+'Plan Indicativo (Productos)'!D522","v":0},{"$f":"+'Plan Indicativo (Productos)'!E522","v":0},{"$f":"+'Plan Indicativo (Productos)'!F522","v":0},{"$f":"+'Plan Indicativo (Productos)'!G522","v":0},{"$f":"+'Plan Indicativo (Productos)'!H522","v":0},{"$f":"+'Plan Indicativo (Productos)'!I522","v":0},{"$f":"+'Plan Indicativo (Productos)'!J522","v":0},{"$f":"+'Plan Indicativo (Productos)'!K522","v":0}]
[{"$f":"+'Plan Indicativo (Productos)'!A523","v":519},{"$f":"+'Plan Indicativo (Productos)'!B523","v":0},{"$f":"+'Plan Indicativo (Productos)'!C523","v":""},{"$f":"+'Plan Indicativo (Productos)'!D523","v":0},{"$f":"+'Plan Indicativo (Productos)'!E523","v":0},{"$f":"+'Plan Indicativo (Productos)'!F523","v":0},{"$f":"+'Plan Indicativo (Productos)'!G523","v":0},{"$f":"+'Plan Indicativo (Productos)'!H523","v":0},{"$f":"+'Plan Indicativo (Productos)'!I523","v":0},{"$f":"+'Plan Indicativo (Productos)'!J523","v":0},{"$f":"+'Plan Indicativo (Productos)'!K523","v":0}]
[{"$f":"+'Plan Indicativo (Productos)'!A524","v":520},{"$f":"+'Plan Indicativo (Productos)'!B524","v":0},{"$f":"+'Plan Indicativo (Productos)'!C524","v":""},{"$f":"+'Plan Indicativo (Productos)'!D524","v":0},{"$f":"+'Plan Indicativo (Productos)'!E524","v":0},{"$f":"+'Plan Indicativo (Productos)'!F524","v":0},{"$f":"+'Plan Indicativo (Productos)'!G524","v":0},{"$f":"+'Plan Indicativo (Productos)'!H524","v":0},{"$f":"+'Plan Indicativo (Productos)'!I524","v":0},{"$f":"+'Plan Indicativo (Productos)'!J524","v":0},{"$f":"+'Plan Indicativo (Productos)'!K524","v":0}]
[{"$f":"+'Plan Indicativo (Productos)'!A525","v":521},{"$f":"+'Plan Indicativo (Productos)'!B525","v":0},{"$f":"+'Plan Indicativo (Productos)'!C525","v":""},{"$f":"+'Plan Indicativo (Productos)'!D525","v":0},{"$f":"+'Plan Indicativo (Productos)'!E525","v":0},{"$f":"+'Plan Indicativo (Productos)'!F525","v":0},{"$f":"+'Plan Indicativo (Productos)'!G525","v":0},{"$f":"+'Plan Indicativo (Productos)'!H525","v":0},{"$f":"+'Plan Indicativo (Productos)'!I525","v":0},{"$f":"+'Plan Indicativo (Productos)'!J525","v":0},{"$f":"+'Plan Indicativo (Productos)'!K525","v":0}]
[{"$f":"+'Plan Indicativo (Productos)'!A526","v":522},{"$f":"+'Plan Indicativo (Productos)'!B526","v":0},{"$f":"+'Plan Indicativo (Productos)'!C526","v":""},{"$f":"+'Plan Indicativo (Productos)'!D526","v":0},{"$f":"+'Plan Indicativo (Productos)'!E526","v":0},{"$f":"+'Plan Indicativo (Productos)'!F526","v":0},{"$f":"+'Plan Indicativo (Productos)'!G526","v":0},{"$f":"+'Plan Indicativo (Productos)'!H526","v":0},{"$f":"+'Plan Indicativo (Productos)'!I526","v":0},{"$f":"+'Plan Indicativo (Productos)'!J526","v":0},{"$f":"+'Plan Indicativo (Productos)'!K526","v":0}]
[{"$f":"+'Plan Indicativo (Productos)'!A527","v":523},{"$f":"+'Plan Indicativo (Productos)'!B527","v":0},{"$f":"+'Plan Indicativo (Productos)'!C527","v":""},{"$f":"+'Plan Indicativo (Productos)'!D527","v":0},{"$f":"+'Plan Indicativo (Productos)'!E527","v":0},{"$f":"+'Plan Indicativo (Productos)'!F527","v":0},{"$f":"+'Plan Indicativo (Productos)'!G527","v":0},{"$f":"+'Plan Indicativo (Productos)'!H527","v":0},{"$f":"+'Plan Indicativo (Productos)'!I527","v":0},{"$f":"+'Plan Indicativo (Productos)'!J527","v":0},{"$f":"+'Plan Indicativo (Productos)'!K527","v":0}]
[{"$f":"+'Plan Indicativo (Productos)'!A528","v":524},{"$f":"+'Plan Indicativo (Productos)'!B528","v":0},{"$f":"+'Plan Indicativo (Productos)'!C528","v":""},{"$f":"+'Plan Indicativo (Productos)'!D528","v":0},{"$f":"+'Plan Indicativo (Productos)'!E528","v":0},{"$f":"+'Plan Indicativo (Productos)'!F528","v":0},{"$f":"+'Plan Indicativo (Productos)'!G528","v":0},{"$f":"+'Plan Indicativo (Productos)'!H528","v":0},{"$f":"+'Plan Indicativo (Productos)'!I528","v":0},{"$f":"+'Plan Indicativo (Productos)'!J528","v":0},{"$f":"+'Plan Indicativo (Productos)'!K528","v":0}]
[{"$f":"+'Plan Indicativo (Productos)'!A529","v":525},{"$f":"+'Plan Indicativo (Productos)'!B529","v":0},{"$f":"+'Plan Indicativo (Productos)'!C529","v":""},{"$f":"+'Plan Indicativo (Productos)'!D529","v":0},{"$f":"+'Plan Indicativo (Productos)'!E529","v":0},{"$f":"+'Plan Indicativo (Productos)'!F529","v":0},{"$f":"+'Plan Indicativo (Productos)'!G529","v":0},{"$f":"+'Plan Indicativo (Productos)'!H529","v":0},{"$f":"+'Plan Indicativo (Productos)'!I529","v":0},{"$f":"+'Plan Indicativo (Productos)'!J529","v":0},{"$f":"+'Plan Indicativo (Productos)'!K529","v":0}]
[{"$f":"+'Plan Indicativo (Productos)'!A530","v":526},{"$f":"+'Plan Indicativo (Productos)'!B530","v":0},{"$f":"+'Plan Indicativo (Productos)'!C530","v":""},{"$f":"+'Plan Indicativo (Productos)'!D530","v":0},{"$f":"+'Plan Indicativo (Productos)'!E530","v":0},{"$f":"+'Plan Indicativo (Productos)'!F530","v":0},{"$f":"+'Plan Indicativo (Productos)'!G530","v":0},{"$f":"+'Plan Indicativo (Productos)'!H530","v":0},{"$f":"+'Plan Indicativo (Productos)'!I530","v":0},{"$f":"+'Plan Indicativo (Productos)'!J530","v":0},{"$f":"+'Plan Indicativo (Productos)'!K530","v":0}]
[{"$f":"+'Plan Indicativo (Productos)'!A531","v":527},{"$f":"+'Plan Indicativo (Productos)'!B531","v":0},{"$f":"+'Plan Indicativo (Productos)'!C531","v":""},{"$f":"+'Plan Indicativo (Productos)'!D531","v":0},{"$f":"+'Plan Indicativo (Productos)'!E531","v":0},{"$f":"+'Plan Indicativo (Productos)'!F531","v":0},{"$f":"+'Plan Indicativo (Productos)'!G531","v":0},{"$f":"+'Plan Indicativo (Productos)'!H531","v":0},{"$f":"+'Plan Indicativo (Productos)'!I531","v":0},{"$f":"+'Plan Indicativo (Productos)'!J531","v":0},{"$f":"+'Plan Indicativo (Productos)'!K531","v":0}]
[{"$f":"+'Plan Indicativo (Productos)'!A532","v":528},{"$f":"+'Plan Indicativo (Productos)'!B532","v":0},{"$f":"+'Plan Indicativo (Productos)'!C532","v":""},{"$f":"+'Plan Indicativo (Productos)'!D532","v":0},{"$f":"+'Plan Indicativo (Productos)'!E532","v":0},{"$f":"+'Plan Indicativo (Productos)'!F532","v":0},{"$f":"+'Plan Indicativo (Productos)'!G532","v":0},{"$f":"+'Plan Indicativo (Productos)'!H532","v":0},{"$f":"+'Plan Indicativo (Productos)'!I532","v":0},{"$f":"+'Plan Indicativo (Productos)'!J532","v":0},{"$f":"+'Plan Indicativo (Productos)'!K532","v":0}]
[{"$f":"+'Plan Indicativo (Productos)'!A533","v":529},{"$f":"+'Plan Indicativo (Productos)'!B533","v":0},{"$f":"+'Plan Indicativo (Productos)'!C533","v":""},{"$f":"+'Plan Indicativo (Productos)'!D533","v":0},{"$f":"+'Plan Indicativo (Productos)'!E533","v":0},{"$f":"+'Plan Indicativo (Productos)'!F533","v":0},{"$f":"+'Plan Indicativo (Productos)'!G533","v":0},{"$f":"+'Plan Indicativo (Productos)'!H533","v":0},{"$f":"+'Plan Indicativo (Productos)'!I533","v":0},{"$f":"+'Plan Indicativo (Productos)'!J533","v":0},{"$f":"+'Plan Indicativo (Productos)'!K533","v":0}]
[{"$f":"+'Plan Indicativo (Productos)'!A534","v":530},{"$f":"+'Plan Indicativo (Productos)'!B534","v":0},{"$f":"+'Plan Indicativo (Productos)'!C534","v":""},{"$f":"+'Plan Indicativo (Productos)'!D534","v":0},{"$f":"+'Plan Indicativo (Productos)'!E534","v":0},{"$f":"+'Plan Indicativo (Productos)'!F534","v":0},{"$f":"+'Plan Indicativo (Productos)'!G534","v":0},{"$f":"+'Plan Indicativo (Productos)'!H534","v":0},{"$f":"+'Plan Indicativo (Productos)'!I534","v":0},{"$f":"+'Plan Indicativo (Productos)'!J534","v":0},{"$f":"+'Plan Indicativo (Productos)'!K534","v":0}]
[{"$f":"+'Plan Indicativo (Productos)'!A535","v":531},{"$f":"+'Plan Indicativo (Productos)'!B535","v":0},{"$f":"+'Plan Indicativo (Productos)'!C535","v":""},{"$f":"+'Plan Indicativo (Productos)'!D535","v":0},{"$f":"+'Plan Indicativo (Productos)'!E535","v":0},{"$f":"+'Plan Indicativo (Productos)'!F535","v":0},{"$f":"+'Plan Indicativo (Productos)'!G535","v":0},{"$f":"+'Plan Indicativo (Productos)'!H535","v":0},{"$f":"+'Plan Indicativo (Productos)'!I535","v":0},{"$f":"+'Plan Indicativo (Productos)'!J535","v":0},{"$f":"+'Plan Indicativo (Productos)'!K535","v":0}]
[{"$f":"+'Plan Indicativo (Productos)'!A536","v":532},{"$f":"+'Plan Indicativo (Productos)'!B536","v":0},{"$f":"+'Plan Indicativo (Productos)'!C536","v":""},{"$f":"+'Plan Indicativo (Productos)'!D536","v":0},{"$f":"+'Plan Indicativo (Productos)'!E536","v":0},{"$f":"+'Plan Indicativo (Productos)'!F536","v":0},{"$f":"+'Plan Indicativo (Productos)'!G536","v":0},{"$f":"+'Plan Indicativo (Productos)'!H536","v":0},{"$f":"+'Plan Indicativo (Productos)'!I536","v":0},{"$f":"+'Plan Indicativo (Productos)'!J536","v":0},{"$f":"+'Plan Indicativo (Productos)'!K536","v":0}]
[{"$f":"+'Plan Indicativo (Productos)'!A537","v":533},{"$f":"+'Plan Indicativo (Productos)'!B537","v":0},{"$f":"+'Plan Indicativo (Productos)'!C537","v":""},{"$f":"+'Plan Indicativo (Productos)'!D537","v":0},{"$f":"+'Plan Indicativo (Productos)'!E537","v":0},{"$f":"+'Plan Indicativo (Productos)'!F537","v":0},{"$f":"+'Plan Indicativo (Productos)'!G537","v":0},{"$f":"+'Plan Indicativo (Productos)'!H537","v":0},{"$f":"+'Plan Indicativo (Productos)'!I537","v":0},{"$f":"+'Plan Indicativo (Productos)'!J537","v":0},{"$f":"+'Plan Indicativo (Productos)'!K537","v":0}]
[{"$f":"+'Plan Indicativo (Productos)'!A538","v":534},{"$f":"+'Plan Indicativo (Productos)'!B538","v":0},{"$f":"+'Plan Indicativo (Productos)'!C538","v":""},{"$f":"+'Plan Indicativo (Productos)'!D538","v":0},{"$f":"+'Plan Indicativo (Productos)'!E538","v":0},{"$f":"+'Plan Indicativo (Productos)'!F538","v":0},{"$f":"+'Plan Indicativo (Productos)'!G538","v":0},{"$f":"+'Plan Indicativo (Productos)'!H538","v":0},{"$f":"+'Plan Indicativo (Productos)'!I538","v":0},{"$f":"+'Plan Indicativo (Productos)'!J538","v":0},{"$f":"+'Plan Indicativo (Productos)'!K538","v":0}]
[{"$f":"+'Plan Indicativo (Productos)'!A539","v":535},{"$f":"+'Plan Indicativo (Productos)'!B539","v":0},{"$f":"+'Plan Indicativo (Productos)'!C539","v":""},{"$f":"+'Plan Indicativo (Productos)'!D539","v":0},{"$f":"+'Plan Indicativo (Productos)'!E539","v":0},{"$f":"+'Plan Indicativo (Productos)'!F539","v":0},{"$f":"+'Plan Indicativo (Productos)'!G539","v":0},{"$f":"+'Plan Indicativo (Productos)'!H539","v":0},{"$f":"+'Plan Indicativo (Productos)'!I539","v":0},{"$f":"+'Plan Indicativo (Productos)'!J539","v":0},{"$f":"+'Plan Indicativo (Productos)'!K539","v":0}]
[{"$f":"+'Plan Indicativo (Productos)'!A540","v":536},{"$f":"+'Plan Indicativo (Productos)'!B540","v":0},{"$f":"+'Plan Indicativo (Productos)'!C540","v":""},{"$f":"+'Plan Indicativo (Productos)'!D540","v":0},{"$f":"+'Plan Indicativo (Productos)'!E540","v":0},{"$f":"+'Plan Indicativo (Productos)'!F540","v":0},{"$f":"+'Plan Indicativo (Productos)'!G540","v":0},{"$f":"+'Plan Indicativo (Productos)'!H540","v":0},{"$f":"+'Plan Indicativo (Productos)'!I540","v":0},{"$f":"+'Plan Indicativo (Productos)'!J540","v":0},{"$f":"+'Plan Indicativo (Productos)'!K540","v":0}]
[{"$f":"+'Plan Indicativo (Productos)'!A541","v":537},{"$f":"+'Plan Indicativo (Productos)'!B541","v":0},{"$f":"+'Plan Indicativo (Productos)'!C541","v":""},{"$f":"+'Plan Indicativo (Productos)'!D541","v":0},{"$f":"+'Plan Indicativo (Productos)'!E541","v":0},{"$f":"+'Plan Indicativo (Productos)'!F541","v":0},{"$f":"+'Plan Indicativo (Productos)'!G541","v":0},{"$f":"+'Plan Indicativo (Productos)'!H541","v":0},{"$f":"+'Plan Indicativo (Productos)'!I541","v":0},{"$f":"+'Plan Indicativo (Productos)'!J541","v":0},{"$f":"+'Plan Indicativo (Productos)'!K541","v":0}]
[{"$f":"+'Plan Indicativo (Productos)'!A542","v":538},{"$f":"+'Plan Indicativo (Productos)'!B542","v":0},{"$f":"+'Plan Indicativo (Productos)'!C542","v":""},{"$f":"+'Plan Indicativo (Productos)'!D542","v":0},{"$f":"+'Plan Indicativo (Productos)'!E542","v":0},{"$f":"+'Plan Indicativo (Productos)'!F542","v":0},{"$f":"+'Plan Indicativo (Productos)'!G542","v":0},{"$f":"+'Plan Indicativo (Productos)'!H542","v":0},{"$f":"+'Plan Indicativo (Productos)'!I542","v":0},{"$f":"+'Plan Indicativo (Productos)'!J542","v":0},{"$f":"+'Plan Indicativo (Productos)'!K542","v":0}]
[{"$f":"+'Plan Indicativo (Productos)'!A543","v":539},{"$f":"+'Plan Indicativo (Productos)'!B543","v":0},{"$f":"+'Plan Indicativo (Productos)'!C543","v":""},{"$f":"+'Plan Indicativo (Productos)'!D543","v":0},{"$f":"+'Plan Indicativo (Productos)'!E543","v":0},{"$f":"+'Plan Indicativo (Productos)'!F543","v":0},{"$f":"+'Plan Indicativo (Productos)'!G543","v":0},{"$f":"+'Plan Indicativo (Productos)'!H543","v":0},{"$f":"+'Plan Indicativo (Productos)'!I543","v":0},{"$f":"+'Plan Indicativo (Productos)'!J543","v":0},{"$f":"+'Plan Indicativo (Productos)'!K543","v":0}]
[{"$f":"+'Plan Indicativo (Productos)'!A544","v":540},{"$f":"+'Plan Indicativo (Productos)'!B544","v":0},{"$f":"+'Plan Indicativo (Productos)'!C544","v":""},{"$f":"+'Plan Indicativo (Productos)'!D544","v":0},{"$f":"+'Plan Indicativo (Productos)'!E544","v":0},{"$f":"+'Plan Indicativo (Productos)'!F544","v":0},{"$f":"+'Plan Indicativo (Productos)'!G544","v":0},{"$f":"+'Plan Indicativo (Productos)'!H544","v":0},{"$f":"+'Plan Indicativo (Productos)'!I544","v":0},{"$f":"+'Plan Indicativo (Productos)'!J544","v":0},{"$f":"+'Plan Indicativo (Productos)'!K544","v":0}]
[{"$f":"+'Plan Indicativo (Productos)'!A545","v":541},{"$f":"+'Plan Indicativo (Productos)'!B545","v":0},{"$f":"+'Plan Indicativo (Productos)'!C545","v":""},{"$f":"+'Plan Indicativo (Productos)'!D545","v":0},{"$f":"+'Plan Indicativo (Productos)'!E545","v":0},{"$f":"+'Plan Indicativo (Productos)'!F545","v":0},{"$f":"+'Plan Indicativo (Productos)'!G545","v":0},{"$f":"+'Plan Indicativo (Productos)'!H545","v":0},{"$f":"+'Plan Indicativo (Productos)'!I545","v":0},{"$f":"+'Plan Indicativo (Productos)'!J545","v":0},{"$f":"+'Plan Indicativo (Productos)'!K545","v":0}]
[{"$f":"+'Plan Indicativo (Productos)'!A546","v":542},{"$f":"+'Plan Indicativo (Productos)'!B546","v":0},{"$f":"+'Plan Indicativo (Productos)'!C546","v":""},{"$f":"+'Plan Indicativo (Productos)'!D546","v":0},{"$f":"+'Plan Indicativo (Productos)'!E546","v":0},{"$f":"+'Plan Indicativo (Productos)'!F546","v":0},{"$f":"+'Plan Indicativo (Productos)'!G546","v":0},{"$f":"+'Plan Indicativo (Productos)'!H546","v":0},{"$f":"+'Plan Indicativo (Productos)'!I546","v":0},{"$f":"+'Plan Indicativo (Productos)'!J546","v":0},{"$f":"+'Plan Indicativo (Productos)'!K546","v":0}]
[{"$f":"+'Plan Indicativo (Productos)'!A547","v":543},{"$f":"+'Plan Indicativo (Productos)'!B547","v":0},{"$f":"+'Plan Indicativo (Productos)'!C547","v":""},{"$f":"+'Plan Indicativo (Productos)'!D547","v":0},{"$f":"+'Plan Indicativo (Productos)'!E547","v":0},{"$f":"+'Plan Indicativo (Productos)'!F547","v":0},{"$f":"+'Plan Indicativo (Productos)'!G547","v":0},{"$f":"+'Plan Indicativo (Productos)'!H547","v":0},{"$f":"+'Plan Indicativo (Productos)'!I547","v":0},{"$f":"+'Plan Indicativo (Productos)'!J547","v":0},{"$f":"+'Plan Indicativo (Productos)'!K547","v":0}]
[{"$f":"+'Plan Indicativo (Productos)'!A548","v":544},{"$f":"+'Plan Indicativo (Productos)'!B548","v":0},{"$f":"+'Plan Indicativo (Productos)'!C548","v":""},{"$f":"+'Plan Indicativo (Productos)'!D548","v":0},{"$f":"+'Plan Indicativo (Productos)'!E548","v":0},{"$f":"+'Plan Indicativo (Productos)'!F548","v":0},{"$f":"+'Plan Indicativo (Productos)'!G548","v":0},{"$f":"+'Plan Indicativo (Productos)'!H548","v":0},{"$f":"+'Plan Indicativo (Productos)'!I548","v":0},{"$f":"+'Plan Indicativo (Productos)'!J548","v":0},{"$f":"+'Plan Indicativo (Productos)'!K548","v":0}]
[{"$f":"+'Plan Indicativo (Productos)'!A549","v":545},{"$f":"+'Plan Indicativo (Productos)'!B549","v":0},{"$f":"+'Plan Indicativo (Productos)'!C549","v":""},{"$f":"+'Plan Indicativo (Productos)'!D549","v":0},{"$f":"+'Plan Indicativo (Productos)'!E549","v":0},{"$f":"+'Plan Indicativo (Productos)'!F549","v":0},{"$f":"+'Plan Indicativo (Productos)'!G549","v":0},{"$f":"+'Plan Indicativo (Productos)'!H549","v":0},{"$f":"+'Plan Indicativo (Productos)'!I549","v":0},{"$f":"+'Plan Indicativo (Productos)'!J549","v":0},{"$f":"+'Plan Indicativo (Productos)'!K549","v":0}]
[{"$f":"+'Plan Indicativo (Productos)'!A550","v":546},{"$f":"+'Plan Indicativo (Productos)'!B550","v":0},{"$f":"+'Plan Indicativo (Productos)'!C550","v":""},{"$f":"+'Plan Indicativo (Productos)'!D550","v":0},{"$f":"+'Plan Indicativo (Productos)'!E550","v":0},{"$f":"+'Plan Indicativo (Productos)'!F550","v":0},{"$f":"+'Plan Indicativo (Productos)'!G550","v":0},{"$f":"+'Plan Indicativo (Productos)'!H550","v":0},{"$f":"+'Plan Indicativo (Productos)'!I550","v":0},{"$f":"+'Plan Indicativo (Productos)'!J550","v":0},{"$f":"+'Plan Indicativo (Productos)'!K550","v":0}]
[{"$f":"+'Plan Indicativo (Productos)'!A551","v":547},{"$f":"+'Plan Indicativo (Productos)'!B551","v":0},{"$f":"+'Plan Indicativo (Productos)'!C551","v":""},{"$f":"+'Plan Indicativo (Productos)'!D551","v":0},{"$f":"+'Plan Indicativo (Productos)'!E551","v":0},{"$f":"+'Plan Indicativo (Productos)'!F551","v":0},{"$f":"+'Plan Indicativo (Productos)'!G551","v":0},{"$f":"+'Plan Indicativo (Productos)'!H551","v":0},{"$f":"+'Plan Indicativo (Productos)'!I551","v":0},{"$f":"+'Plan Indicativo (Productos)'!J551","v":0},{"$f":"+'Plan Indicativo (Productos)'!K551","v":0}]
[{"$f":"+'Plan Indicativo (Productos)'!A552","v":548},{"$f":"+'Plan Indicativo (Productos)'!B552","v":0},{"$f":"+'Plan Indicativo (Productos)'!C552","v":""},{"$f":"+'Plan Indicativo (Productos)'!D552","v":0},{"$f":"+'Plan Indicativo (Productos)'!E552","v":0},{"$f":"+'Plan Indicativo (Productos)'!F552","v":0},{"$f":"+'Plan Indicativo (Productos)'!G552","v":0},{"$f":"+'Plan Indicativo (Productos)'!H552","v":0},{"$f":"+'Plan Indicativo (Productos)'!I552","v":0},{"$f":"+'Plan Indicativo (Productos)'!J552","v":0},{"$f":"+'Plan Indicativo (Productos)'!K552","v":0}]
[{"$f":"+'Plan Indicativo (Productos)'!A553","v":549},{"$f":"+'Plan Indicativo (Productos)'!B553","v":0},{"$f":"+'Plan Indicativo (Productos)'!C553","v":""},{"$f":"+'Plan Indicativo (Productos)'!D553","v":0},{"$f":"+'Plan Indicativo (Productos)'!E553","v":0},{"$f":"+'Plan Indicativo (Productos)'!F553","v":0},{"$f":"+'Plan Indicativo (Productos)'!G553","v":0},{"$f":"+'Plan Indicativo (Productos)'!H553","v":0},{"$f":"+'Plan Indicativo (Productos)'!I553","v":0},{"$f":"+'Plan Indicativo (Productos)'!J553","v":0},{"$f":"+'Plan Indicativo (Productos)'!K553","v":0}]
[{"$f":"+'Plan Indicativo (Productos)'!A554","v":550},{"$f":"+'Plan Indicativo (Productos)'!B554","v":0},{"$f":"+'Plan Indicativo (Productos)'!C554","v":""},{"$f":"+'Plan Indicativo (Productos)'!D554","v":0},{"$f":"+'Plan Indicativo (Productos)'!E554","v":0},{"$f":"+'Plan Indicativo (Productos)'!F554","v":0},{"$f":"+'Plan Indicativo (Productos)'!G554","v":0},{"$f":"+'Plan Indicativo (Productos)'!H554","v":0},{"$f":"+'Plan Indicativo (Productos)'!I554","v":0},{"$f":"+'Plan Indicativo (Productos)'!J554","v":0},{"$f":"+'Plan Indicativo (Productos)'!K554","v":0}]
[{"$f":"+'Plan Indicativo (Productos)'!A555","v":551},{"$f":"+'Plan Indicativo (Productos)'!B555","v":0},{"$f":"+'Plan Indicativo (Productos)'!C555","v":""},{"$f":"+'Plan Indicativo (Productos)'!D555","v":0},{"$f":"+'Plan Indicativo (Productos)'!E555","v":0},{"$f":"+'Plan Indicativo (Productos)'!F555","v":0},{"$f":"+'Plan Indicativo (Productos)'!G555","v":0},{"$f":"+'Plan Indicativo (Productos)'!H555","v":0},{"$f":"+'Plan Indicativo (Productos)'!I555","v":0},{"$f":"+'Plan Indicativo (Productos)'!J555","v":0},{"$f":"+'Plan Indicativo (Productos)'!K555","v":0}]
[{"$f":"+'Plan Indicativo (Productos)'!A556","v":552},{"$f":"+'Plan Indicativo (Productos)'!B556","v":0},{"$f":"+'Plan Indicativo (Productos)'!C556","v":""},{"$f":"+'Plan Indicativo (Productos)'!D556","v":0},{"$f":"+'Plan Indicativo (Productos)'!E556","v":0},{"$f":"+'Plan Indicativo (Productos)'!F556","v":0},{"$f":"+'Plan Indicativo (Productos)'!G556","v":0},{"$f":"+'Plan Indicativo (Productos)'!H556","v":0},{"$f":"+'Plan Indicativo (Productos)'!I556","v":0},{"$f":"+'Plan Indicativo (Productos)'!J556","v":0},{"$f":"+'Plan Indicativo (Productos)'!K556","v":0}]
[{"$f":"+'Plan Indicativo (Productos)'!A557","v":553},{"$f":"+'Plan Indicativo (Productos)'!B557","v":0},{"$f":"+'Plan Indicativo (Productos)'!C557","v":""},{"$f":"+'Plan Indicativo (Productos)'!D557","v":0},{"$f":"+'Plan Indicativo (Productos)'!E557","v":0},{"$f":"+'Plan Indicativo (Productos)'!F557","v":0},{"$f":"+'Plan Indicativo (Productos)'!G557","v":0},{"$f":"+'Plan Indicativo (Productos)'!H557","v":0},{"$f":"+'Plan Indicativo (Productos)'!I557","v":0},{"$f":"+'Plan Indicativo (Productos)'!J557","v":0},{"$f":"+'Plan Indicativo (Productos)'!K557","v":0}]
[{"$f":"+'Plan Indicativo (Productos)'!A558","v":554},{"$f":"+'Plan Indicativo (Productos)'!B558","v":0},{"$f":"+'Plan Indicativo (Productos)'!C558","v":""},{"$f":"+'Plan Indicativo (Productos)'!D558","v":0},{"$f":"+'Plan Indicativo (Productos)'!E558","v":0},{"$f":"+'Plan Indicativo (Productos)'!F558","v":0},{"$f":"+'Plan Indicativo (Productos)'!G558","v":0},{"$f":"+'Plan Indicativo (Productos)'!H558","v":0},{"$f":"+'Plan Indicativo (Productos)'!I558","v":0},{"$f":"+'Plan Indicativo (Productos)'!J558","v":0},{"$f":"+'Plan Indicativo (Productos)'!K558","v":0}]
[{"$f":"+'Plan Indicativo (Productos)'!A559","v":555},{"$f":"+'Plan Indicativo (Productos)'!B559","v":0},{"$f":"+'Plan Indicativo (Productos)'!C559","v":""},{"$f":"+'Plan Indicativo (Productos)'!D559","v":0},{"$f":"+'Plan Indicativo (Productos)'!E559","v":0},{"$f":"+'Plan Indicativo (Productos)'!F559","v":0},{"$f":"+'Plan Indicativo (Productos)'!G559","v":0},{"$f":"+'Plan Indicativo (Productos)'!H559","v":0},{"$f":"+'Plan Indicativo (Productos)'!I559","v":0},{"$f":"+'Plan Indicativo (Productos)'!J559","v":0},{"$f":"+'Plan Indicativo (Productos)'!K559","v":0}]
[{"$f":"+'Plan Indicativo (Productos)'!A560","v":556},{"$f":"+'Plan Indicativo (Productos)'!B560","v":0},{"$f":"+'Plan Indicativo (Productos)'!C560","v":""},{"$f":"+'Plan Indicativo (Productos)'!D560","v":0},{"$f":"+'Plan Indicativo (Productos)'!E560","v":0},{"$f":"+'Plan Indicativo (Productos)'!F560","v":0},{"$f":"+'Plan Indicativo (Productos)'!G560","v":0},{"$f":"+'Plan Indicativo (Productos)'!H560","v":0},{"$f":"+'Plan Indicativo (Productos)'!I560","v":0},{"$f":"+'Plan Indicativo (Productos)'!J560","v":0},{"$f":"+'Plan Indicativo (Productos)'!K560","v":0}]
[{"$f":"+'Plan Indicativo (Productos)'!A561","v":557},{"$f":"+'Plan Indicativo (Productos)'!B561","v":0},{"$f":"+'Plan Indicativo (Productos)'!C561","v":""},{"$f":"+'Plan Indicativo (Productos)'!D561","v":0},{"$f":"+'Plan Indicativo (Productos)'!E561","v":0},{"$f":"+'Plan Indicativo (Productos)'!F561","v":0},{"$f":"+'Plan Indicativo (Productos)'!G561","v":0},{"$f":"+'Plan Indicativo (Productos)'!H561","v":0},{"$f":"+'Plan Indicativo (Productos)'!I561","v":0},{"$f":"+'Plan Indicativo (Productos)'!J561","v":0},{"$f":"+'Plan Indicativo (Productos)'!K561","v":0}]
[{"$f":"+'Plan Indicativo (Productos)'!A562","v":558},{"$f":"+'Plan Indicativo (Productos)'!B562","v":0},{"$f":"+'Plan Indicativo (Productos)'!C562","v":""},{"$f":"+'Plan Indicativo (Productos)'!D562","v":0},{"$f":"+'Plan Indicativo (Productos)'!E562","v":0},{"$f":"+'Plan Indicativo (Productos)'!F562","v":0},{"$f":"+'Plan Indicativo (Productos)'!G562","v":0},{"$f":"+'Plan Indicativo (Productos)'!H562","v":0},{"$f":"+'Plan Indicativo (Productos)'!I562","v":0},{"$f":"+'Plan Indicativo (Productos)'!J562","v":0},{"$f":"+'Plan Indicativo (Productos)'!K562","v":0}]
[{"$f":"+'Plan Indicativo (Productos)'!A563","v":559},{"$f":"+'Plan Indicativo (Productos)'!B563","v":0},{"$f":"+'Plan Indicativo (Productos)'!C563","v":""},{"$f":"+'Plan Indicativo (Productos)'!D563","v":0},{"$f":"+'Plan Indicativo (Productos)'!E563","v":0},{"$f":"+'Plan Indicativo (Productos)'!F563","v":0},{"$f":"+'Plan Indicativo (Productos)'!G563","v":0},{"$f":"+'Plan Indicativo (Productos)'!H563","v":0},{"$f":"+'Plan Indicativo (Productos)'!I563","v":0},{"$f":"+'Plan Indicativo (Productos)'!J563","v":0},{"$f":"+'Plan Indicativo (Productos)'!K563","v":0}]
[{"$f":"+'Plan Indicativo (Productos)'!A564","v":560},{"$f":"+'Plan Indicativo (Productos)'!B564","v":0},{"$f":"+'Plan Indicativo (Productos)'!C564","v":""},{"$f":"+'Plan Indicativo (Productos)'!D564","v":0},{"$f":"+'Plan Indicativo (Productos)'!E564","v":0},{"$f":"+'Plan Indicativo (Productos)'!F564","v":0},{"$f":"+'Plan Indicativo (Productos)'!G564","v":0},{"$f":"+'Plan Indicativo (Productos)'!H564","v":0},{"$f":"+'Plan Indicativo (Productos)'!I564","v":0},{"$f":"+'Plan Indicativo (Productos)'!J564","v":0},{"$f":"+'Plan Indicativo (Productos)'!K564","v":0}]
[{"$f":"+'Plan Indicativo (Productos)'!A565","v":561},{"$f":"+'Plan Indicativo (Productos)'!B565","v":0},{"$f":"+'Plan Indicativo (Productos)'!C565","v":""},{"$f":"+'Plan Indicativo (Productos)'!D565","v":0},{"$f":"+'Plan Indicativo (Productos)'!E565","v":0},{"$f":"+'Plan Indicativo (Productos)'!F565","v":0},{"$f":"+'Plan Indicativo (Productos)'!G565","v":0},{"$f":"+'Plan Indicativo (Productos)'!H565","v":0},{"$f":"+'Plan Indicativo (Productos)'!I565","v":0},{"$f":"+'Plan Indicativo (Productos)'!J565","v":0},{"$f":"+'Plan Indicativo (Productos)'!K565","v":0}]
[{"$f":"+'Plan Indicativo (Productos)'!A566","v":562},{"$f":"+'Plan Indicativo (Productos)'!B566","v":0},{"$f":"+'Plan Indicativo (Productos)'!C566","v":""},{"$f":"+'Plan Indicativo (Productos)'!D566","v":0},{"$f":"+'Plan Indicativo (Productos)'!E566","v":0},{"$f":"+'Plan Indicativo (Productos)'!F566","v":0},{"$f":"+'Plan Indicativo (Productos)'!G566","v":0},{"$f":"+'Plan Indicativo (Productos)'!H566","v":0},{"$f":"+'Plan Indicativo (Productos)'!I566","v":0},{"$f":"+'Plan Indicativo (Productos)'!J566","v":0},{"$f":"+'Plan Indicativo (Productos)'!K566","v":0}]
[{"$f":"+'Plan Indicativo (Productos)'!A567","v":563},{"$f":"+'Plan Indicativo (Productos)'!B567","v":0},{"$f":"+'Plan Indicativo (Productos)'!C567","v":""},{"$f":"+'Plan Indicativo (Productos)'!D567","v":0},{"$f":"+'Plan Indicativo (Productos)'!E567","v":0},{"$f":"+'Plan Indicativo (Productos)'!F567","v":0},{"$f":"+'Plan Indicativo (Productos)'!G567","v":0},{"$f":"+'Plan Indicativo (Productos)'!H567","v":0},{"$f":"+'Plan Indicativo (Productos)'!I567","v":0},{"$f":"+'Plan Indicativo (Productos)'!J567","v":0},{"$f":"+'Plan Indicativo (Productos)'!K567","v":0}]
[{"$f":"+'Plan Indicativo (Productos)'!A568","v":564},{"$f":"+'Plan Indicativo (Productos)'!B568","v":0},{"$f":"+'Plan Indicativo (Productos)'!C568","v":""},{"$f":"+'Plan Indicativo (Productos)'!D568","v":0},{"$f":"+'Plan Indicativo (Productos)'!E568","v":0},{"$f":"+'Plan Indicativo (Productos)'!F568","v":0},{"$f":"+'Plan Indicativo (Productos)'!G568","v":0},{"$f":"+'Plan Indicativo (Productos)'!H568","v":0},{"$f":"+'Plan Indicativo (Productos)'!I568","v":0},{"$f":"+'Plan Indicativo (Productos)'!J568","v":0},{"$f":"+'Plan Indicativo (Productos)'!K568","v":0}]
[{"$f":"+'Plan Indicativo (Productos)'!A569","v":565},{"$f":"+'Plan Indicativo (Productos)'!B569","v":0},{"$f":"+'Plan Indicativo (Productos)'!C569","v":""},{"$f":"+'Plan Indicativo (Productos)'!D569","v":0},{"$f":"+'Plan Indicativo (Productos)'!E569","v":0},{"$f":"+'Plan Indicativo (Productos)'!F569","v":0},{"$f":"+'Plan Indicativo (Productos)'!G569","v":0},{"$f":"+'Plan Indicativo (Productos)'!H569","v":0},{"$f":"+'Plan Indicativo (Productos)'!I569","v":0},{"$f":"+'Plan Indicativo (Productos)'!J569","v":0},{"$f":"+'Plan Indicativo (Productos)'!K569","v":0}]
[{"$f":"+'Plan Indicativo (Productos)'!A570","v":566},{"$f":"+'Plan Indicativo (Productos)'!B570","v":0},{"$f":"+'Plan Indicativo (Productos)'!C570","v":""},{"$f":"+'Plan Indicativo (Productos)'!D570","v":0},{"$f":"+'Plan Indicativo (Productos)'!E570","v":0},{"$f":"+'Plan Indicativo (Productos)'!F570","v":0},{"$f":"+'Plan Indicativo (Productos)'!G570","v":0},{"$f":"+'Plan Indicativo (Productos)'!H570","v":0},{"$f":"+'Plan Indicativo (Productos)'!I570","v":0},{"$f":"+'Plan Indicativo (Productos)'!J570","v":0},{"$f":"+'Plan Indicativo (Productos)'!K570","v":0}]
[{"$f":"+'Plan Indicativo (Productos)'!A571","v":567},{"$f":"+'Plan Indicativo (Productos)'!B571","v":0},{"$f":"+'Plan Indicativo (Productos)'!C571","v":""},{"$f":"+'Plan Indicativo (Productos)'!D571","v":0},{"$f":"+'Plan Indicativo (Productos)'!E571","v":0},{"$f":"+'Plan Indicativo (Productos)'!F571","v":0},{"$f":"+'Plan Indicativo (Productos)'!G571","v":0},{"$f":"+'Plan Indicativo (Productos)'!H571","v":0},{"$f":"+'Plan Indicativo (Productos)'!I571","v":0},{"$f":"+'Plan Indicativo (Productos)'!J571","v":0},{"$f":"+'Plan Indicativo (Productos)'!K571","v":0}]
[{"$f":"+'Plan Indicativo (Productos)'!A572","v":568},{"$f":"+'Plan Indicativo (Productos)'!B572","v":0},{"$f":"+'Plan Indicativo (Productos)'!C572","v":""},{"$f":"+'Plan Indicativo (Productos)'!D572","v":0},{"$f":"+'Plan Indicativo (Productos)'!E572","v":0},{"$f":"+'Plan Indicativo (Productos)'!F572","v":0},{"$f":"+'Plan Indicativo (Productos)'!G572","v":0},{"$f":"+'Plan Indicativo (Productos)'!H572","v":0},{"$f":"+'Plan Indicativo (Productos)'!I572","v":0},{"$f":"+'Plan Indicativo (Productos)'!J572","v":0},{"$f":"+'Plan Indicativo (Productos)'!K572","v":0}]
[{"$f":"+'Plan Indicativo (Productos)'!A573","v":569},{"$f":"+'Plan Indicativo (Productos)'!B573","v":0},{"$f":"+'Plan Indicativo (Productos)'!C573","v":""},{"$f":"+'Plan Indicativo (Productos)'!D573","v":0},{"$f":"+'Plan Indicativo (Productos)'!E573","v":0},{"$f":"+'Plan Indicativo (Productos)'!F573","v":0},{"$f":"+'Plan Indicativo (Productos)'!G573","v":0},{"$f":"+'Plan Indicativo (Productos)'!H573","v":0},{"$f":"+'Plan Indicativo (Productos)'!I573","v":0},{"$f":"+'Plan Indicativo (Productos)'!J573","v":0},{"$f":"+'Plan Indicativo (Productos)'!K573","v":0}]
[{"$f":"+'Plan Indicativo (Productos)'!A574","v":570},{"$f":"+'Plan Indicativo (Productos)'!B574","v":0},{"$f":"+'Plan Indicativo (Productos)'!C574","v":""},{"$f":"+'Plan Indicativo (Productos)'!D574","v":0},{"$f":"+'Plan Indicativo (Productos)'!E574","v":0},{"$f":"+'Plan Indicativo (Productos)'!F574","v":0},{"$f":"+'Plan Indicativo (Productos)'!G574","v":0},{"$f":"+'Plan Indicativo (Productos)'!H574","v":0},{"$f":"+'Plan Indicativo (Productos)'!I574","v":0},{"$f":"+'Plan Indicativo (Productos)'!J574","v":0},{"$f":"+'Plan Indicativo (Productos)'!K574","v":0}]
[{"$f":"+'Plan Indicativo (Productos)'!A575","v":571},{"$f":"+'Plan Indicativo (Productos)'!B575","v":0},{"$f":"+'Plan Indicativo (Productos)'!C575","v":""},{"$f":"+'Plan Indicativo (Productos)'!D575","v":0},{"$f":"+'Plan Indicativo (Productos)'!E575","v":0},{"$f":"+'Plan Indicativo (Productos)'!F575","v":0},{"$f":"+'Plan Indicativo (Productos)'!G575","v":0},{"$f":"+'Plan Indicativo (Productos)'!H575","v":0},{"$f":"+'Plan Indicativo (Productos)'!I575","v":0},{"$f":"+'Plan Indicativo (Productos)'!J575","v":0},{"$f":"+'Plan Indicativo (Productos)'!K575","v":0}]
[{"$f":"+'Plan Indicativo (Productos)'!A576","v":572},{"$f":"+'Plan Indicativo (Productos)'!B576","v":0},{"$f":"+'Plan Indicativo (Productos)'!C576","v":""},{"$f":"+'Plan Indicativo (Productos)'!D576","v":0},{"$f":"+'Plan Indicativo (Productos)'!E576","v":0},{"$f":"+'Plan Indicativo (Productos)'!F576","v":0},{"$f":"+'Plan Indicativo (Productos)'!G576","v":0},{"$f":"+'Plan Indicativo (Productos)'!H576","v":0},{"$f":"+'Plan Indicativo (Productos)'!I576","v":0},{"$f":"+'Plan Indicativo (Productos)'!J576","v":0},{"$f":"+'Plan Indicativo (Productos)'!K576","v":0}]
[{"$f":"+'Plan Indicativo (Productos)'!A577","v":573},{"$f":"+'Plan Indicativo (Productos)'!B577","v":0},{"$f":"+'Plan Indicativo (Productos)'!C577","v":""},{"$f":"+'Plan Indicativo (Productos)'!D577","v":0},{"$f":"+'Plan Indicativo (Productos)'!E577","v":0},{"$f":"+'Plan Indicativo (Productos)'!F577","v":0},{"$f":"+'Plan Indicativo (Productos)'!G577","v":0},{"$f":"+'Plan Indicativo (Productos)'!H577","v":0},{"$f":"+'Plan Indicativo (Productos)'!I577","v":0},{"$f":"+'Plan Indicativo (Productos)'!J577","v":0},{"$f":"+'Plan Indicativo (Productos)'!K577","v":0}]
[{"$f":"+'Plan Indicativo (Productos)'!A578","v":574},{"$f":"+'Plan Indicativo (Productos)'!B578","v":0},{"$f":"+'Plan Indicativo (Productos)'!C578","v":""},{"$f":"+'Plan Indicativo (Productos)'!D578","v":0},{"$f":"+'Plan Indicativo (Productos)'!E578","v":0},{"$f":"+'Plan Indicativo (Productos)'!F578","v":0},{"$f":"+'Plan Indicativo (Productos)'!G578","v":0},{"$f":"+'Plan Indicativo (Productos)'!H578","v":0},{"$f":"+'Plan Indicativo (Productos)'!I578","v":0},{"$f":"+'Plan Indicativo (Productos)'!J578","v":0},{"$f":"+'Plan Indicativo (Productos)'!K578","v":0}]
[{"$f":"+'Plan Indicativo (Productos)'!A579","v":575},{"$f":"+'Plan Indicativo (Productos)'!B579","v":0},{"$f":"+'Plan Indicativo (Productos)'!C579","v":""},{"$f":"+'Plan Indicativo (Productos)'!D579","v":0},{"$f":"+'Plan Indicativo (Productos)'!E579","v":0},{"$f":"+'Plan Indicativo (Productos)'!F579","v":0},{"$f":"+'Plan Indicativo (Productos)'!G579","v":0},{"$f":"+'Plan Indicativo (Productos)'!H579","v":0},{"$f":"+'Plan Indicativo (Productos)'!I579","v":0},{"$f":"+'Plan Indicativo (Productos)'!J579","v":0},{"$f":"+'Plan Indicativo (Productos)'!K579","v":0}]
[{"$f":"+'Plan Indicativo (Productos)'!A580","v":576},{"$f":"+'Plan Indicativo (Productos)'!B580","v":0},{"$f":"+'Plan Indicativo (Productos)'!C580","v":""},{"$f":"+'Plan Indicativo (Productos)'!D580","v":0},{"$f":"+'Plan Indicativo (Productos)'!E580","v":0},{"$f":"+'Plan Indicativo (Productos)'!F580","v":0},{"$f":"+'Plan Indicativo (Productos)'!G580","v":0},{"$f":"+'Plan Indicativo (Productos)'!H580","v":0},{"$f":"+'Plan Indicativo (Productos)'!I580","v":0},{"$f":"+'Plan Indicativo (Productos)'!J580","v":0},{"$f":"+'Plan Indicativo (Productos)'!K580","v":0}]
[{"$f":"+'Plan Indicativo (Productos)'!A581","v":577},{"$f":"+'Plan Indicativo (Productos)'!B581","v":0},{"$f":"+'Plan Indicativo (Productos)'!C581","v":""},{"$f":"+'Plan Indicativo (Productos)'!D581","v":0},{"$f":"+'Plan Indicativo (Productos)'!E581","v":0},{"$f":"+'Plan Indicativo (Productos)'!F581","v":0},{"$f":"+'Plan Indicativo (Productos)'!G581","v":0},{"$f":"+'Plan Indicativo (Productos)'!H581","v":0},{"$f":"+'Plan Indicativo (Productos)'!I581","v":0},{"$f":"+'Plan Indicativo (Productos)'!J581","v":0},{"$f":"+'Plan Indicativo (Productos)'!K581","v":0}]
[{"$f":"+'Plan Indicativo (Productos)'!A582","v":578},{"$f":"+'Plan Indicativo (Productos)'!B582","v":0},{"$f":"+'Plan Indicativo (Productos)'!C582","v":""},{"$f":"+'Plan Indicativo (Productos)'!D582","v":0},{"$f":"+'Plan Indicativo (Productos)'!E582","v":0},{"$f":"+'Plan Indicativo (Productos)'!F582","v":0},{"$f":"+'Plan Indicativo (Productos)'!G582","v":0},{"$f":"+'Plan Indicativo (Productos)'!H582","v":0},{"$f":"+'Plan Indicativo (Productos)'!I582","v":0},{"$f":"+'Plan Indicativo (Productos)'!J582","v":0},{"$f":"+'Plan Indicativo (Productos)'!K582","v":0}]
[{"$f":"+'Plan Indicativo (Productos)'!A583","v":579},{"$f":"+'Plan Indicativo (Productos)'!B583","v":0},{"$f":"+'Plan Indicativo (Productos)'!C583","v":""},{"$f":"+'Plan Indicativo (Productos)'!D583","v":0},{"$f":"+'Plan Indicativo (Productos)'!E583","v":0},{"$f":"+'Plan Indicativo (Productos)'!F583","v":0},{"$f":"+'Plan Indicativo (Productos)'!G583","v":0},{"$f":"+'Plan Indicativo (Productos)'!H583","v":0},{"$f":"+'Plan Indicativo (Productos)'!I583","v":0},{"$f":"+'Plan Indicativo (Productos)'!J583","v":0},{"$f":"+'Plan Indicativo (Productos)'!K583","v":0}]
[{"$f":"+'Plan Indicativo (Productos)'!A584","v":580},{"$f":"+'Plan Indicativo (Productos)'!B584","v":0},{"$f":"+'Plan Indicativo (Productos)'!C584","v":""},{"$f":"+'Plan Indicativo (Productos)'!D584","v":0},{"$f":"+'Plan Indicativo (Productos)'!E584","v":0},{"$f":"+'Plan Indicativo (Productos)'!F584","v":0},{"$f":"+'Plan Indicativo (Productos)'!G584","v":0},{"$f":"+'Plan Indicativo (Productos)'!H584","v":0},{"$f":"+'Plan Indicativo (Productos)'!I584","v":0},{"$f":"+'Plan Indicativo (Productos)'!J584","v":0},{"$f":"+'Plan Indicativo (Productos)'!K584","v":0}]
[{"$f":"+'Plan Indicativo (Productos)'!A585","v":581},{"$f":"+'Plan Indicativo (Productos)'!B585","v":0},{"$f":"+'Plan Indicativo (Productos)'!C585","v":""},{"$f":"+'Plan Indicativo (Productos)'!D585","v":0},{"$f":"+'Plan Indicativo (Productos)'!E585","v":0},{"$f":"+'Plan Indicativo (Productos)'!F585","v":0},{"$f":"+'Plan Indicativo (Productos)'!G585","v":0},{"$f":"+'Plan Indicativo (Productos)'!H585","v":0},{"$f":"+'Plan Indicativo (Productos)'!I585","v":0},{"$f":"+'Plan Indicativo (Productos)'!J585","v":0},{"$f":"+'Plan Indicativo (Productos)'!K585","v":0}]
[{"$f":"+'Plan Indicativo (Productos)'!A586","v":582},{"$f":"+'Plan Indicativo (Productos)'!B586","v":0},{"$f":"+'Plan Indicativo (Productos)'!C586","v":""},{"$f":"+'Plan Indicativo (Productos)'!D586","v":0},{"$f":"+'Plan Indicativo (Productos)'!E586","v":0},{"$f":"+'Plan Indicativo (Productos)'!F586","v":0},{"$f":"+'Plan Indicativo (Productos)'!G586","v":0},{"$f":"+'Plan Indicativo (Productos)'!H586","v":0},{"$f":"+'Plan Indicativo (Productos)'!I586","v":0},{"$f":"+'Plan Indicativo (Productos)'!J586","v":0},{"$f":"+'Plan Indicativo (Productos)'!K586","v":0}]
[{"$f":"+'Plan Indicativo (Productos)'!A587","v":583},{"$f":"+'Plan Indicativo (Productos)'!B587","v":0},{"$f":"+'Plan Indicativo (Productos)'!C587","v":""},{"$f":"+'Plan Indicativo (Productos)'!D587","v":0},{"$f":"+'Plan Indicativo (Productos)'!E587","v":0},{"$f":"+'Plan Indicativo (Productos)'!F587","v":0},{"$f":"+'Plan Indicativo (Productos)'!G587","v":0},{"$f":"+'Plan Indicativo (Productos)'!H587","v":0},{"$f":"+'Plan Indicativo (Productos)'!I587","v":0},{"$f":"+'Plan Indicativo (Productos)'!J587","v":0},{"$f":"+'Plan Indicativo (Productos)'!K587","v":0}]
[{"$f":"+'Plan Indicativo (Productos)'!A588","v":584},{"$f":"+'Plan Indicativo (Productos)'!B588","v":0},{"$f":"+'Plan Indicativo (Productos)'!C588","v":""},{"$f":"+'Plan Indicativo (Productos)'!D588","v":0},{"$f":"+'Plan Indicativo (Productos)'!E588","v":0},{"$f":"+'Plan Indicativo (Productos)'!F588","v":0},{"$f":"+'Plan Indicativo (Productos)'!G588","v":0},{"$f":"+'Plan Indicativo (Productos)'!H588","v":0},{"$f":"+'Plan Indicativo (Productos)'!I588","v":0},{"$f":"+'Plan Indicativo (Productos)'!J588","v":0},{"$f":"+'Plan Indicativo (Productos)'!K588","v":0}]
[{"$f":"+'Plan Indicativo (Productos)'!A589","v":585},{"$f":"+'Plan Indicativo (Productos)'!B589","v":0},{"$f":"+'Plan Indicativo (Productos)'!C589","v":""},{"$f":"+'Plan Indicativo (Productos)'!D589","v":0},{"$f":"+'Plan Indicativo (Productos)'!E589","v":0},{"$f":"+'Plan Indicativo (Productos)'!F589","v":0},{"$f":"+'Plan Indicativo (Productos)'!G589","v":0},{"$f":"+'Plan Indicativo (Productos)'!H589","v":0},{"$f":"+'Plan Indicativo (Productos)'!I589","v":0},{"$f":"+'Plan Indicativo (Productos)'!J589","v":0},{"$f":"+'Plan Indicativo (Productos)'!K589","v":0}]
[{"$f":"+'Plan Indicativo (Productos)'!A590","v":586},{"$f":"+'Plan Indicativo (Productos)'!B590","v":0},{"$f":"+'Plan Indicativo (Productos)'!C590","v":""},{"$f":"+'Plan Indicativo (Productos)'!D590","v":0},{"$f":"+'Plan Indicativo (Productos)'!E590","v":0},{"$f":"+'Plan Indicativo (Productos)'!F590","v":0},{"$f":"+'Plan Indicativo (Productos)'!G590","v":0},{"$f":"+'Plan Indicativo (Productos)'!H590","v":0},{"$f":"+'Plan Indicativo (Productos)'!I590","v":0},{"$f":"+'Plan Indicativo (Productos)'!J590","v":0},{"$f":"+'Plan Indicativo (Productos)'!K590","v":0}]
[{"$f":"+'Plan Indicativo (Productos)'!A591","v":587},{"$f":"+'Plan Indicativo (Productos)'!B591","v":0},{"$f":"+'Plan Indicativo (Productos)'!C591","v":""},{"$f":"+'Plan Indicativo (Productos)'!D591","v":0},{"$f":"+'Plan Indicativo (Productos)'!E591","v":0},{"$f":"+'Plan Indicativo (Productos)'!F591","v":0},{"$f":"+'Plan Indicativo (Productos)'!G591","v":0},{"$f":"+'Plan Indicativo (Productos)'!H591","v":0},{"$f":"+'Plan Indicativo (Productos)'!I591","v":0},{"$f":"+'Plan Indicativo (Productos)'!J591","v":0},{"$f":"+'Plan Indicativo (Productos)'!K591","v":0}]
[{"$f":"+'Plan Indicativo (Productos)'!A592","v":588},{"$f":"+'Plan Indicativo (Productos)'!B592","v":0},{"$f":"+'Plan Indicativo (Productos)'!C592","v":""},{"$f":"+'Plan Indicativo (Productos)'!D592","v":0},{"$f":"+'Plan Indicativo (Productos)'!E592","v":0},{"$f":"+'Plan Indicativo (Productos)'!F592","v":0},{"$f":"+'Plan Indicativo (Productos)'!G592","v":0},{"$f":"+'Plan Indicativo (Productos)'!H592","v":0},{"$f":"+'Plan Indicativo (Productos)'!I592","v":0},{"$f":"+'Plan Indicativo (Productos)'!J592","v":0},{"$f":"+'Plan Indicativo (Productos)'!K592","v":0}]
[{"$f":"+'Plan Indicativo (Productos)'!A593","v":589},{"$f":"+'Plan Indicativo (Productos)'!B593","v":0},{"$f":"+'Plan Indicativo (Productos)'!C593","v":""},{"$f":"+'Plan Indicativo (Productos)'!D593","v":0},{"$f":"+'Plan Indicativo (Productos)'!E593","v":0},{"$f":"+'Plan Indicativo (Productos)'!F593","v":0},{"$f":"+'Plan Indicativo (Productos)'!G593","v":0},{"$f":"+'Plan Indicativo (Productos)'!H593","v":0},{"$f":"+'Plan Indicativo (Productos)'!I593","v":0},{"$f":"+'Plan Indicativo (Productos)'!J593","v":0},{"$f":"+'Plan Indicativo (Productos)'!K593","v":0}]
[{"$f":"+'Plan Indicativo (Productos)'!A594","v":590},{"$f":"+'Plan Indicativo (Productos)'!B594","v":0},{"$f":"+'Plan Indicativo (Productos)'!C594","v":""},{"$f":"+'Plan Indicativo (Productos)'!D594","v":0},{"$f":"+'Plan Indicativo (Productos)'!E594","v":0},{"$f":"+'Plan Indicativo (Productos)'!F594","v":0},{"$f":"+'Plan Indicativo (Productos)'!G594","v":0},{"$f":"+'Plan Indicativo (Productos)'!H594","v":0},{"$f":"+'Plan Indicativo (Productos)'!I594","v":0},{"$f":"+'Plan Indicativo (Productos)'!J594","v":0},{"$f":"+'Plan Indicativo (Productos)'!K594","v":0}]
[{"$f":"+'Plan Indicativo (Productos)'!A595","v":591},{"$f":"+'Plan Indicativo (Productos)'!B595","v":0},{"$f":"+'Plan Indicativo (Productos)'!C595","v":""},{"$f":"+'Plan Indicativo (Productos)'!D595","v":0},{"$f":"+'Plan Indicativo (Productos)'!E595","v":0},{"$f":"+'Plan Indicativo (Productos)'!F595","v":0},{"$f":"+'Plan Indicativo (Productos)'!G595","v":0},{"$f":"+'Plan Indicativo (Productos)'!H595","v":0},{"$f":"+'Plan Indicativo (Productos)'!I595","v":0},{"$f":"+'Plan Indicativo (Productos)'!J595","v":0},{"$f":"+'Plan Indicativo (Productos)'!K595","v":0}]
[{"$f":"+'Plan Indicativo (Productos)'!A596","v":592},{"$f":"+'Plan Indicativo (Productos)'!B596","v":0},{"$f":"+'Plan Indicativo (Productos)'!C596","v":""},{"$f":"+'Plan Indicativo (Productos)'!D596","v":0},{"$f":"+'Plan Indicativo (Productos)'!E596","v":0},{"$f":"+'Plan Indicativo (Productos)'!F596","v":0},{"$f":"+'Plan Indicativo (Productos)'!G596","v":0},{"$f":"+'Plan Indicativo (Productos)'!H596","v":0},{"$f":"+'Plan Indicativo (Productos)'!I596","v":0},{"$f":"+'Plan Indicativo (Productos)'!J596","v":0},{"$f":"+'Plan Indicativo (Productos)'!K596","v":0}]
[{"$f":"+'Plan Indicativo (Productos)'!A597","v":593},{"$f":"+'Plan Indicativo (Productos)'!B597","v":0},{"$f":"+'Plan Indicativo (Productos)'!C597","v":""},{"$f":"+'Plan Indicativo (Productos)'!D597","v":0},{"$f":"+'Plan Indicativo (Productos)'!E597","v":0},{"$f":"+'Plan Indicativo (Productos)'!F597","v":0},{"$f":"+'Plan Indicativo (Productos)'!G597","v":0},{"$f":"+'Plan Indicativo (Productos)'!H597","v":0},{"$f":"+'Plan Indicativo (Productos)'!I597","v":0},{"$f":"+'Plan Indicativo (Productos)'!J597","v":0},{"$f":"+'Plan Indicativo (Productos)'!K597","v":0}]
[{"$f":"+'Plan Indicativo (Productos)'!A598","v":594},{"$f":"+'Plan Indicativo (Productos)'!B598","v":0},{"$f":"+'Plan Indicativo (Productos)'!C598","v":""},{"$f":"+'Plan Indicativo (Productos)'!D598","v":0},{"$f":"+'Plan Indicativo (Productos)'!E598","v":0},{"$f":"+'Plan Indicativo (Productos)'!F598","v":0},{"$f":"+'Plan Indicativo (Productos)'!G598","v":0},{"$f":"+'Plan Indicativo (Productos)'!H598","v":0},{"$f":"+'Plan Indicativo (Productos)'!I598","v":0},{"$f":"+'Plan Indicativo (Productos)'!J598","v":0},{"$f":"+'Plan Indicativo (Productos)'!K598","v":0}]
[{"$f":"+'Plan Indicativo (Productos)'!A599","v":595},{"$f":"+'Plan Indicativo (Productos)'!B599","v":0},{"$f":"+'Plan Indicativo (Productos)'!C599","v":""},{"$f":"+'Plan Indicativo (Productos)'!D599","v":0},{"$f":"+'Plan Indicativo (Productos)'!E599","v":0},{"$f":"+'Plan Indicativo (Productos)'!F599","v":0},{"$f":"+'Plan Indicativo (Productos)'!G599","v":0},{"$f":"+'Plan Indicativo (Productos)'!H599","v":0},{"$f":"+'Plan Indicativo (Productos)'!I599","v":0},{"$f":"+'Plan Indicativo (Productos)'!J599","v":0},{"$f":"+'Plan Indicativo (Productos)'!K599","v":0}]
[{"$f":"+'Plan Indicativo (Productos)'!A600","v":596},{"$f":"+'Plan Indicativo (Productos)'!B600","v":0},{"$f":"+'Plan Indicativo (Productos)'!C600","v":""},{"$f":"+'Plan Indicativo (Productos)'!D600","v":0},{"$f":"+'Plan Indicativo (Productos)'!E600","v":0},{"$f":"+'Plan Indicativo (Productos)'!F600","v":0},{"$f":"+'Plan Indicativo (Productos)'!G600","v":0},{"$f":"+'Plan Indicativo (Productos)'!H600","v":0},{"$f":"+'Plan Indicativo (Productos)'!I600","v":0},{"$f":"+'Plan Indicativo (Productos)'!J600","v":0},{"$f":"+'Plan Indicativo (Productos)'!K600","v":0}]
[{"$f":"+'Plan Indicativo (Productos)'!A601","v":597},{"$f":"+'Plan Indicativo (Productos)'!B601","v":0},{"$f":"+'Plan Indicativo (Productos)'!C601","v":""},{"$f":"+'Plan Indicativo (Productos)'!D601","v":0},{"$f":"+'Plan Indicativo (Productos)'!E601","v":0},{"$f":"+'Plan Indicativo (Productos)'!F601","v":0},{"$f":"+'Plan Indicativo (Productos)'!G601","v":0},{"$f":"+'Plan Indicativo (Productos)'!H601","v":0},{"$f":"+'Plan Indicativo (Productos)'!I601","v":0},{"$f":"+'Plan Indicativo (Productos)'!J601","v":0},{"$f":"+'Plan Indicativo (Productos)'!K601","v":0}]
[{"$f":"+'Plan Indicativo (Productos)'!A602","v":598},{"$f":"+'Plan Indicativo (Productos)'!B602","v":0},{"$f":"+'Plan Indicativo (Productos)'!C602","v":""},{"$f":"+'Plan Indicativo (Productos)'!D602","v":0},{"$f":"+'Plan Indicativo (Productos)'!E602","v":0},{"$f":"+'Plan Indicativo (Productos)'!F602","v":0},{"$f":"+'Plan Indicativo (Productos)'!G602","v":0},{"$f":"+'Plan Indicativo (Productos)'!H602","v":0},{"$f":"+'Plan Indicativo (Productos)'!I602","v":0},{"$f":"+'Plan Indicativo (Productos)'!J602","v":0},{"$f":"+'Plan Indicativo (Productos)'!K602","v":0}]
[{"$f":"+'Plan Indicativo (Productos)'!A603","v":599},{"$f":"+'Plan Indicativo (Productos)'!B603","v":0},{"$f":"+'Plan Indicativo (Productos)'!C603","v":""},{"$f":"+'Plan Indicativo (Productos)'!D603","v":0},{"$f":"+'Plan Indicativo (Productos)'!E603","v":0},{"$f":"+'Plan Indicativo (Productos)'!F603","v":0},{"$f":"+'Plan Indicativo (Productos)'!G603","v":0},{"$f":"+'Plan Indicativo (Productos)'!H603","v":0},{"$f":"+'Plan Indicativo (Productos)'!I603","v":0},{"$f":"+'Plan Indicativo (Productos)'!J603","v":0},{"$f":"+'Plan Indicativo (Productos)'!K603","v":0}]
[{"$f":"+'Plan Indicativo (Productos)'!A604","v":600},{"$f":"+'Plan Indicativo (Productos)'!B604","v":0},{"$f":"+'Plan Indicativo (Productos)'!C604","v":""},{"$f":"+'Plan Indicativo (Productos)'!D604","v":0},{"$f":"+'Plan Indicativo (Productos)'!E604","v":0},{"$f":"+'Plan Indicativo (Productos)'!F604","v":0},{"$f":"+'Plan Indicativo (Productos)'!G604","v":0},{"$f":"+'Plan Indicativo (Productos)'!H604","v":0},{"$f":"+'Plan Indicativo (Productos)'!I604","v":0},{"$f":"+'Plan Indicativo (Productos)'!J604","v":0},{"$f":"+'Plan Indicativo (Productos)'!K604","v":0}]
[{"$f":"+'Plan Indicativo (Productos)'!A605","v":601},{"$f":"+'Plan Indicativo (Productos)'!B605","v":0},{"$f":"+'Plan Indicativo (Productos)'!C605","v":""},{"$f":"+'Plan Indicativo (Productos)'!D605","v":0},{"$f":"+'Plan Indicativo (Productos)'!E605","v":0},{"$f":"+'Plan Indicativo (Productos)'!F605","v":0},{"$f":"+'Plan Indicativo (Productos)'!G605","v":0},{"$f":"+'Plan Indicativo (Productos)'!H605","v":0},{"$f":"+'Plan Indicativo (Productos)'!I605","v":0},{"$f":"+'Plan Indicativo (Productos)'!J605","v":0},{"$f":"+'Plan Indicativo (Productos)'!K605","v":0}]
[{"$f":"+'Plan Indicativo (Productos)'!A606","v":602},{"$f":"+'Plan Indicativo (Productos)'!B606","v":0},{"$f":"+'Plan Indicativo (Productos)'!C606","v":""},{"$f":"+'Plan Indicativo (Productos)'!D606","v":0},{"$f":"+'Plan Indicativo (Productos)'!E606","v":0},{"$f":"+'Plan Indicativo (Productos)'!F606","v":0},{"$f":"+'Plan Indicativo (Productos)'!G606","v":0},{"$f":"+'Plan Indicativo (Productos)'!H606","v":0},{"$f":"+'Plan Indicativo (Productos)'!I606","v":0},{"$f":"+'Plan Indicativo (Productos)'!J606","v":0},{"$f":"+'Plan Indicativo (Productos)'!K606","v":0}]
[{"$f":"+'Plan Indicativo (Productos)'!A607","v":603},{"$f":"+'Plan Indicativo (Productos)'!B607","v":0},{"$f":"+'Plan Indicativo (Productos)'!C607","v":""},{"$f":"+'Plan Indicativo (Productos)'!D607","v":0},{"$f":"+'Plan Indicativo (Productos)'!E607","v":0},{"$f":"+'Plan Indicativo (Productos)'!F607","v":0},{"$f":"+'Plan Indicativo (Productos)'!G607","v":0},{"$f":"+'Plan Indicativo (Productos)'!H607","v":0},{"$f":"+'Plan Indicativo (Productos)'!I607","v":0},{"$f":"+'Plan Indicativo (Productos)'!J607","v":0},{"$f":"+'Plan Indicativo (Productos)'!K607","v":0}]
[{"$f":"+'Plan Indicativo (Productos)'!A608","v":604},{"$f":"+'Plan Indicativo (Productos)'!B608","v":0},{"$f":"+'Plan Indicativo (Productos)'!C608","v":""},{"$f":"+'Plan Indicativo (Productos)'!D608","v":0},{"$f":"+'Plan Indicativo (Productos)'!E608","v":0},{"$f":"+'Plan Indicativo (Productos)'!F608","v":0},{"$f":"+'Plan Indicativo (Productos)'!G608","v":0},{"$f":"+'Plan Indicativo (Productos)'!H608","v":0},{"$f":"+'Plan Indicativo (Productos)'!I608","v":0},{"$f":"+'Plan Indicativo (Productos)'!J608","v":0},{"$f":"+'Plan Indicativo (Productos)'!K608","v":0}]
[{"$f":"+'Plan Indicativo (Productos)'!A609","v":605},{"$f":"+'Plan Indicativo (Productos)'!B609","v":0},{"$f":"+'Plan Indicativo (Productos)'!C609","v":""},{"$f":"+'Plan Indicativo (Productos)'!D609","v":0},{"$f":"+'Plan Indicativo (Productos)'!E609","v":0},{"$f":"+'Plan Indicativo (Productos)'!F609","v":0},{"$f":"+'Plan Indicativo (Productos)'!G609","v":0},{"$f":"+'Plan Indicativo (Productos)'!H609","v":0},{"$f":"+'Plan Indicativo (Productos)'!I609","v":0},{"$f":"+'Plan Indicativo (Productos)'!J609","v":0},{"$f":"+'Plan Indicativo (Productos)'!K609","v":0}]
[{"$f":"+'Plan Indicativo (Productos)'!A610","v":606},{"$f":"+'Plan Indicativo (Productos)'!B610","v":0},{"$f":"+'Plan Indicativo (Productos)'!C610","v":""},{"$f":"+'Plan Indicativo (Productos)'!D610","v":0},{"$f":"+'Plan Indicativo (Productos)'!E610","v":0},{"$f":"+'Plan Indicativo (Productos)'!F610","v":0},{"$f":"+'Plan Indicativo (Productos)'!G610","v":0},{"$f":"+'Plan Indicativo (Productos)'!H610","v":0},{"$f":"+'Plan Indicativo (Productos)'!I610","v":0},{"$f":"+'Plan Indicativo (Productos)'!J610","v":0},{"$f":"+'Plan Indicativo (Productos)'!K610","v":0}]
[{"$f":"+'Plan Indicativo (Productos)'!A611","v":607},{"$f":"+'Plan Indicativo (Productos)'!B611","v":0},{"$f":"+'Plan Indicativo (Productos)'!C611","v":""},{"$f":"+'Plan Indicativo (Productos)'!D611","v":0},{"$f":"+'Plan Indicativo (Productos)'!E611","v":0},{"$f":"+'Plan Indicativo (Productos)'!F611","v":0},{"$f":"+'Plan Indicativo (Productos)'!G611","v":0},{"$f":"+'Plan Indicativo (Productos)'!H611","v":0},{"$f":"+'Plan Indicativo (Productos)'!I611","v":0},{"$f":"+'Plan Indicativo (Productos)'!J611","v":0},{"$f":"+'Plan Indicativo (Productos)'!K611","v":0}]
[{"$f":"+'Plan Indicativo (Productos)'!A612","v":608},{"$f":"+'Plan Indicativo (Productos)'!B612","v":0},{"$f":"+'Plan Indicativo (Productos)'!C612","v":""},{"$f":"+'Plan Indicativo (Productos)'!D612","v":0},{"$f":"+'Plan Indicativo (Productos)'!E612","v":0},{"$f":"+'Plan Indicativo (Productos)'!F612","v":0},{"$f":"+'Plan Indicativo (Productos)'!G612","v":0},{"$f":"+'Plan Indicativo (Productos)'!H612","v":0},{"$f":"+'Plan Indicativo (Productos)'!I612","v":0},{"$f":"+'Plan Indicativo (Productos)'!J612","v":0},{"$f":"+'Plan Indicativo (Productos)'!K612","v":0}]
[{"$f":"+'Plan Indicativo (Productos)'!A613","v":609},{"$f":"+'Plan Indicativo (Productos)'!B613","v":0},{"$f":"+'Plan Indicativo (Productos)'!C613","v":""},{"$f":"+'Plan Indicativo (Productos)'!D613","v":0},{"$f":"+'Plan Indicativo (Productos)'!E613","v":0},{"$f":"+'Plan Indicativo (Productos)'!F613","v":0},{"$f":"+'Plan Indicativo (Productos)'!G613","v":0},{"$f":"+'Plan Indicativo (Productos)'!H613","v":0},{"$f":"+'Plan Indicativo (Productos)'!I613","v":0},{"$f":"+'Plan Indicativo (Productos)'!J613","v":0},{"$f":"+'Plan Indicativo (Productos)'!K613","v":0}]
[{"$f":"+'Plan Indicativo (Productos)'!A614","v":610},{"$f":"+'Plan Indicativo (Productos)'!B614","v":0},{"$f":"+'Plan Indicativo (Productos)'!C614","v":""},{"$f":"+'Plan Indicativo (Productos)'!D614","v":0},{"$f":"+'Plan Indicativo (Productos)'!E614","v":0},{"$f":"+'Plan Indicativo (Productos)'!F614","v":0},{"$f":"+'Plan Indicativo (Productos)'!G614","v":0},{"$f":"+'Plan Indicativo (Productos)'!H614","v":0},{"$f":"+'Plan Indicativo (Productos)'!I614","v":0},{"$f":"+'Plan Indicativo (Productos)'!J614","v":0},{"$f":"+'Plan Indicativo (Productos)'!K614","v":0}]
[{"$f":"+'Plan Indicativo (Productos)'!A615","v":611},{"$f":"+'Plan Indicativo (Productos)'!B615","v":0},{"$f":"+'Plan Indicativo (Productos)'!C615","v":""},{"$f":"+'Plan Indicativo (Productos)'!D615","v":0},{"$f":"+'Plan Indicativo (Productos)'!E615","v":0},{"$f":"+'Plan Indicativo (Productos)'!F615","v":0},{"$f":"+'Plan Indicativo (Productos)'!G615","v":0},{"$f":"+'Plan Indicativo (Productos)'!H615","v":0},{"$f":"+'Plan Indicativo (Productos)'!I615","v":0},{"$f":"+'Plan Indicativo (Productos)'!J615","v":0},{"$f":"+'Plan Indicativo (Productos)'!K615","v":0}]
[{"$f":"+'Plan Indicativo (Productos)'!A616","v":612},{"$f":"+'Plan Indicativo (Productos)'!B616","v":0},{"$f":"+'Plan Indicativo (Productos)'!C616","v":""},{"$f":"+'Plan Indicativo (Productos)'!D616","v":0},{"$f":"+'Plan Indicativo (Productos)'!E616","v":0},{"$f":"+'Plan Indicativo (Productos)'!F616","v":0},{"$f":"+'Plan Indicativo (Productos)'!G616","v":0},{"$f":"+'Plan Indicativo (Productos)'!H616","v":0},{"$f":"+'Plan Indicativo (Productos)'!I616","v":0},{"$f":"+'Plan Indicativo (Productos)'!J616","v":0},{"$f":"+'Plan Indicativo (Productos)'!K616","v":0}]
[{"$f":"+'Plan Indicativo (Productos)'!A617","v":613},{"$f":"+'Plan Indicativo (Productos)'!B617","v":0},{"$f":"+'Plan Indicativo (Productos)'!C617","v":""},{"$f":"+'Plan Indicativo (Productos)'!D617","v":0},{"$f":"+'Plan Indicativo (Productos)'!E617","v":0},{"$f":"+'Plan Indicativo (Productos)'!F617","v":0},{"$f":"+'Plan Indicativo (Productos)'!G617","v":0},{"$f":"+'Plan Indicativo (Productos)'!H617","v":0},{"$f":"+'Plan Indicativo (Productos)'!I617","v":0},{"$f":"+'Plan Indicativo (Productos)'!J617","v":0},{"$f":"+'Plan Indicativo (Productos)'!K617","v":0}]
[{"$f":"+'Plan Indicativo (Productos)'!A618","v":614},{"$f":"+'Plan Indicativo (Productos)'!B618","v":0},{"$f":"+'Plan Indicativo (Productos)'!C618","v":""},{"$f":"+'Plan Indicativo (Productos)'!D618","v":0},{"$f":"+'Plan Indicativo (Productos)'!E618","v":0},{"$f":"+'Plan Indicativo (Productos)'!F618","v":0},{"$f":"+'Plan Indicativo (Productos)'!G618","v":0},{"$f":"+'Plan Indicativo (Productos)'!H618","v":0},{"$f":"+'Plan Indicativo (Productos)'!I618","v":0},{"$f":"+'Plan Indicativo (Productos)'!J618","v":0},{"$f":"+'Plan Indicativo (Productos)'!K618","v":0}]
[{"$f":"+'Plan Indicativo (Productos)'!A619","v":615},{"$f":"+'Plan Indicativo (Productos)'!B619","v":0},{"$f":"+'Plan Indicativo (Productos)'!C619","v":""},{"$f":"+'Plan Indicativo (Productos)'!D619","v":0},{"$f":"+'Plan Indicativo (Productos)'!E619","v":0},{"$f":"+'Plan Indicativo (Productos)'!F619","v":0},{"$f":"+'Plan Indicativo (Productos)'!G619","v":0},{"$f":"+'Plan Indicativo (Productos)'!H619","v":0},{"$f":"+'Plan Indicativo (Productos)'!I619","v":0},{"$f":"+'Plan Indicativo (Productos)'!J619","v":0},{"$f":"+'Plan Indicativo (Productos)'!K619","v":0}]
[{"$f":"+'Plan Indicativo (Productos)'!A620","v":616},{"$f":"+'Plan Indicativo (Productos)'!B620","v":0},{"$f":"+'Plan Indicativo (Productos)'!C620","v":""},{"$f":"+'Plan Indicativo (Productos)'!D620","v":0},{"$f":"+'Plan Indicativo (Productos)'!E620","v":0},{"$f":"+'Plan Indicativo (Productos)'!F620","v":0},{"$f":"+'Plan Indicativo (Productos)'!G620","v":0},{"$f":"+'Plan Indicativo (Productos)'!H620","v":0},{"$f":"+'Plan Indicativo (Productos)'!I620","v":0},{"$f":"+'Plan Indicativo (Productos)'!J620","v":0},{"$f":"+'Plan Indicativo (Productos)'!K620","v":0}]
[{"$f":"+'Plan Indicativo (Productos)'!A621","v":617},{"$f":"+'Plan Indicativo (Productos)'!B621","v":0},{"$f":"+'Plan Indicativo (Productos)'!C621","v":""},{"$f":"+'Plan Indicativo (Productos)'!D621","v":0},{"$f":"+'Plan Indicativo (Productos)'!E621","v":0},{"$f":"+'Plan Indicativo (Productos)'!F621","v":0},{"$f":"+'Plan Indicativo (Productos)'!G621","v":0},{"$f":"+'Plan Indicativo (Productos)'!H621","v":0},{"$f":"+'Plan Indicativo (Productos)'!I621","v":0},{"$f":"+'Plan Indicativo (Productos)'!J621","v":0},{"$f":"+'Plan Indicativo (Productos)'!K621","v":0}]
[{"$f":"+'Plan Indicativo (Productos)'!A622","v":618},{"$f":"+'Plan Indicativo (Productos)'!B622","v":0},{"$f":"+'Plan Indicativo (Productos)'!C622","v":""},{"$f":"+'Plan Indicativo (Productos)'!D622","v":0},{"$f":"+'Plan Indicativo (Productos)'!E622","v":0},{"$f":"+'Plan Indicativo (Productos)'!F622","v":0},{"$f":"+'Plan Indicativo (Productos)'!G622","v":0},{"$f":"+'Plan Indicativo (Productos)'!H622","v":0},{"$f":"+'Plan Indicativo (Productos)'!I622","v":0},{"$f":"+'Plan Indicativo (Productos)'!J622","v":0},{"$f":"+'Plan Indicativo (Productos)'!K622","v":0}]
[{"$f":"+'Plan Indicativo (Productos)'!A623","v":619},{"$f":"+'Plan Indicativo (Productos)'!B623","v":0},{"$f":"+'Plan Indicativo (Productos)'!C623","v":""},{"$f":"+'Plan Indicativo (Productos)'!D623","v":0},{"$f":"+'Plan Indicativo (Productos)'!E623","v":0},{"$f":"+'Plan Indicativo (Productos)'!F623","v":0},{"$f":"+'Plan Indicativo (Productos)'!G623","v":0},{"$f":"+'Plan Indicativo (Productos)'!H623","v":0},{"$f":"+'Plan Indicativo (Productos)'!I623","v":0},{"$f":"+'Plan Indicativo (Productos)'!J623","v":0},{"$f":"+'Plan Indicativo (Productos)'!K623","v":0}]
[{"$f":"+'Plan Indicativo (Productos)'!A624","v":620},{"$f":"+'Plan Indicativo (Productos)'!B624","v":0},{"$f":"+'Plan Indicativo (Productos)'!C624","v":""},{"$f":"+'Plan Indicativo (Productos)'!D624","v":0},{"$f":"+'Plan Indicativo (Productos)'!E624","v":0},{"$f":"+'Plan Indicativo (Productos)'!F624","v":0},{"$f":"+'Plan Indicativo (Productos)'!G624","v":0},{"$f":"+'Plan Indicativo (Productos)'!H624","v":0},{"$f":"+'Plan Indicativo (Productos)'!I624","v":0},{"$f":"+'Plan Indicativo (Productos)'!J624","v":0},{"$f":"+'Plan Indicativo (Productos)'!K624","v":0}]
[{"$f":"+'Plan Indicativo (Productos)'!A625","v":621},{"$f":"+'Plan Indicativo (Productos)'!B625","v":0},{"$f":"+'Plan Indicativo (Productos)'!C625","v":""},{"$f":"+'Plan Indicativo (Productos)'!D625","v":0},{"$f":"+'Plan Indicativo (Productos)'!E625","v":0},{"$f":"+'Plan Indicativo (Productos)'!F625","v":0},{"$f":"+'Plan Indicativo (Productos)'!G625","v":0},{"$f":"+'Plan Indicativo (Productos)'!H625","v":0},{"$f":"+'Plan Indicativo (Productos)'!I625","v":0},{"$f":"+'Plan Indicativo (Productos)'!J625","v":0},{"$f":"+'Plan Indicativo (Productos)'!K625","v":0}]
[{"$f":"+'Plan Indicativo (Productos)'!A626","v":622},{"$f":"+'Plan Indicativo (Productos)'!B626","v":0},{"$f":"+'Plan Indicativo (Productos)'!C626","v":""},{"$f":"+'Plan Indicativo (Productos)'!D626","v":0},{"$f":"+'Plan Indicativo (Productos)'!E626","v":0},{"$f":"+'Plan Indicativo (Productos)'!F626","v":0},{"$f":"+'Plan Indicativo (Productos)'!G626","v":0},{"$f":"+'Plan Indicativo (Productos)'!H626","v":0},{"$f":"+'Plan Indicativo (Productos)'!I626","v":0},{"$f":"+'Plan Indicativo (Productos)'!J626","v":0},{"$f":"+'Plan Indicativo (Productos)'!K626","v":0}]
[{"$f":"+'Plan Indicativo (Productos)'!A627","v":623},{"$f":"+'Plan Indicativo (Productos)'!B627","v":0},{"$f":"+'Plan Indicativo (Productos)'!C627","v":""},{"$f":"+'Plan Indicativo (Productos)'!D627","v":0},{"$f":"+'Plan Indicativo (Productos)'!E627","v":0},{"$f":"+'Plan Indicativo (Productos)'!F627","v":0},{"$f":"+'Plan Indicativo (Productos)'!G627","v":0},{"$f":"+'Plan Indicativo (Productos)'!H627","v":0},{"$f":"+'Plan Indicativo (Productos)'!I627","v":0},{"$f":"+'Plan Indicativo (Productos)'!J627","v":0},{"$f":"+'Plan Indicativo (Productos)'!K627","v":0}]
[{"$f":"+'Plan Indicativo (Productos)'!A628","v":624},{"$f":"+'Plan Indicativo (Productos)'!B628","v":0},{"$f":"+'Plan Indicativo (Productos)'!C628","v":""},{"$f":"+'Plan Indicativo (Productos)'!D628","v":0},{"$f":"+'Plan Indicativo (Productos)'!E628","v":0},{"$f":"+'Plan Indicativo (Productos)'!F628","v":0},{"$f":"+'Plan Indicativo (Productos)'!G628","v":0},{"$f":"+'Plan Indicativo (Productos)'!H628","v":0},{"$f":"+'Plan Indicativo (Productos)'!I628","v":0},{"$f":"+'Plan Indicativo (Productos)'!J628","v":0},{"$f":"+'Plan Indicativo (Productos)'!K628","v":0}]
[{"$f":"+'Plan Indicativo (Productos)'!A629","v":625},{"$f":"+'Plan Indicativo (Productos)'!B629","v":0},{"$f":"+'Plan Indicativo (Productos)'!C629","v":""},{"$f":"+'Plan Indicativo (Productos)'!D629","v":0},{"$f":"+'Plan Indicativo (Productos)'!E629","v":0},{"$f":"+'Plan Indicativo (Productos)'!F629","v":0},{"$f":"+'Plan Indicativo (Productos)'!G629","v":0},{"$f":"+'Plan Indicativo (Productos)'!H629","v":0},{"$f":"+'Plan Indicativo (Productos)'!I629","v":0},{"$f":"+'Plan Indicativo (Productos)'!J629","v":0},{"$f":"+'Plan Indicativo (Productos)'!K629","v":0}]
[{"$f":"+'Plan Indicativo (Productos)'!A630","v":626},{"$f":"+'Plan Indicativo (Productos)'!B630","v":0},{"$f":"+'Plan Indicativo (Productos)'!C630","v":""},{"$f":"+'Plan Indicativo (Productos)'!D630","v":0},{"$f":"+'Plan Indicativo (Productos)'!E630","v":0},{"$f":"+'Plan Indicativo (Productos)'!F630","v":0},{"$f":"+'Plan Indicativo (Productos)'!G630","v":0},{"$f":"+'Plan Indicativo (Productos)'!H630","v":0},{"$f":"+'Plan Indicativo (Productos)'!I630","v":0},{"$f":"+'Plan Indicativo (Productos)'!J630","v":0},{"$f":"+'Plan Indicativo (Productos)'!K630","v":0}]
[{"$f":"+'Plan Indicativo (Productos)'!A631","v":627},{"$f":"+'Plan Indicativo (Productos)'!B631","v":0},{"$f":"+'Plan Indicativo (Productos)'!C631","v":""},{"$f":"+'Plan Indicativo (Productos)'!D631","v":0},{"$f":"+'Plan Indicativo (Productos)'!E631","v":0},{"$f":"+'Plan Indicativo (Productos)'!F631","v":0},{"$f":"+'Plan Indicativo (Productos)'!G631","v":0},{"$f":"+'Plan Indicativo (Productos)'!H631","v":0},{"$f":"+'Plan Indicativo (Productos)'!I631","v":0},{"$f":"+'Plan Indicativo (Productos)'!J631","v":0},{"$f":"+'Plan Indicativo (Productos)'!K631","v":0}]
[{"$f":"+'Plan Indicativo (Productos)'!A632","v":628},{"$f":"+'Plan Indicativo (Productos)'!B632","v":0},{"$f":"+'Plan Indicativo (Productos)'!C632","v":""},{"$f":"+'Plan Indicativo (Productos)'!D632","v":0},{"$f":"+'Plan Indicativo (Productos)'!E632","v":0},{"$f":"+'Plan Indicativo (Productos)'!F632","v":0},{"$f":"+'Plan Indicativo (Productos)'!G632","v":0},{"$f":"+'Plan Indicativo (Productos)'!H632","v":0},{"$f":"+'Plan Indicativo (Productos)'!I632","v":0},{"$f":"+'Plan Indicativo (Productos)'!J632","v":0},{"$f":"+'Plan Indicativo (Productos)'!K632","v":0}]
[{"$f":"+'Plan Indicativo (Productos)'!A633","v":629},{"$f":"+'Plan Indicativo (Productos)'!B633","v":0},{"$f":"+'Plan Indicativo (Productos)'!C633","v":""},{"$f":"+'Plan Indicativo (Productos)'!D633","v":0},{"$f":"+'Plan Indicativo (Productos)'!E633","v":0},{"$f":"+'Plan Indicativo (Productos)'!F633","v":0},{"$f":"+'Plan Indicativo (Productos)'!G633","v":0},{"$f":"+'Plan Indicativo (Productos)'!H633","v":0},{"$f":"+'Plan Indicativo (Productos)'!I633","v":0},{"$f":"+'Plan Indicativo (Productos)'!J633","v":0},{"$f":"+'Plan Indicativo (Productos)'!K633","v":0}]
[{"$f":"+'Plan Indicativo (Productos)'!A634","v":630},{"$f":"+'Plan Indicativo (Productos)'!B634","v":0},{"$f":"+'Plan Indicativo (Productos)'!C634","v":""},{"$f":"+'Plan Indicativo (Productos)'!D634","v":0},{"$f":"+'Plan Indicativo (Productos)'!E634","v":0},{"$f":"+'Plan Indicativo (Productos)'!F634","v":0},{"$f":"+'Plan Indicativo (Productos)'!G634","v":0},{"$f":"+'Plan Indicativo (Productos)'!H634","v":0},{"$f":"+'Plan Indicativo (Productos)'!I634","v":0},{"$f":"+'Plan Indicativo (Productos)'!J634","v":0},{"$f":"+'Plan Indicativo (Productos)'!K634","v":0}]
[{"$f":"+'Plan Indicativo (Productos)'!A635","v":631},{"$f":"+'Plan Indicativo (Productos)'!B635","v":0},{"$f":"+'Plan Indicativo (Productos)'!C635","v":""},{"$f":"+'Plan Indicativo (Productos)'!D635","v":0},{"$f":"+'Plan Indicativo (Productos)'!E635","v":0},{"$f":"+'Plan Indicativo (Productos)'!F635","v":0},{"$f":"+'Plan Indicativo (Productos)'!G635","v":0},{"$f":"+'Plan Indicativo (Productos)'!H635","v":0},{"$f":"+'Plan Indicativo (Productos)'!I635","v":0},{"$f":"+'Plan Indicativo (Productos)'!J635","v":0},{"$f":"+'Plan Indicativo (Productos)'!K635","v":0}]
[{"$f":"+'Plan Indicativo (Productos)'!A636","v":632},{"$f":"+'Plan Indicativo (Productos)'!B636","v":0},{"$f":"+'Plan Indicativo (Productos)'!C636","v":""},{"$f":"+'Plan Indicativo (Productos)'!D636","v":0},{"$f":"+'Plan Indicativo (Productos)'!E636","v":0},{"$f":"+'Plan Indicativo (Productos)'!F636","v":0},{"$f":"+'Plan Indicativo (Productos)'!G636","v":0},{"$f":"+'Plan Indicativo (Productos)'!H636","v":0},{"$f":"+'Plan Indicativo (Productos)'!I636","v":0},{"$f":"+'Plan Indicativo (Productos)'!J636","v":0},{"$f":"+'Plan Indicativo (Productos)'!K636","v":0}]
[{"$f":"+'Plan Indicativo (Productos)'!A637","v":633},{"$f":"+'Plan Indicativo (Productos)'!B637","v":0},{"$f":"+'Plan Indicativo (Productos)'!C637","v":""},{"$f":"+'Plan Indicativo (Productos)'!D637","v":0},{"$f":"+'Plan Indicativo (Productos)'!E637","v":0},{"$f":"+'Plan Indicativo (Productos)'!F637","v":0},{"$f":"+'Plan Indicativo (Productos)'!G637","v":0},{"$f":"+'Plan Indicativo (Productos)'!H637","v":0},{"$f":"+'Plan Indicativo (Productos)'!I637","v":0},{"$f":"+'Plan Indicativo (Productos)'!J637","v":0},{"$f":"+'Plan Indicativo (Productos)'!K637","v":0}]
[{"$f":"+'Plan Indicativo (Productos)'!A638","v":634},{"$f":"+'Plan Indicativo (Productos)'!B638","v":0},{"$f":"+'Plan Indicativo (Productos)'!C638","v":""},{"$f":"+'Plan Indicativo (Productos)'!D638","v":0},{"$f":"+'Plan Indicativo (Productos)'!E638","v":0},{"$f":"+'Plan Indicativo (Productos)'!F638","v":0},{"$f":"+'Plan Indicativo (Productos)'!G638","v":0},{"$f":"+'Plan Indicativo (Productos)'!H638","v":0},{"$f":"+'Plan Indicativo (Productos)'!I638","v":0},{"$f":"+'Plan Indicativo (Productos)'!J638","v":0},{"$f":"+'Plan Indicativo (Productos)'!K638","v":0}]
[{"$f":"+'Plan Indicativo (Productos)'!A639","v":635},{"$f":"+'Plan Indicativo (Productos)'!B639","v":0},{"$f":"+'Plan Indicativo (Productos)'!C639","v":""},{"$f":"+'Plan Indicativo (Productos)'!D639","v":0},{"$f":"+'Plan Indicativo (Productos)'!E639","v":0},{"$f":"+'Plan Indicativo (Productos)'!F639","v":0},{"$f":"+'Plan Indicativo (Productos)'!G639","v":0},{"$f":"+'Plan Indicativo (Productos)'!H639","v":0},{"$f":"+'Plan Indicativo (Productos)'!I639","v":0},{"$f":"+'Plan Indicativo (Productos)'!J639","v":0},{"$f":"+'Plan Indicativo (Productos)'!K639","v":0}]
[{"$f":"+'Plan Indicativo (Productos)'!A640","v":636},{"$f":"+'Plan Indicativo (Productos)'!B640","v":0},{"$f":"+'Plan Indicativo (Productos)'!C640","v":""},{"$f":"+'Plan Indicativo (Productos)'!D640","v":0},{"$f":"+'Plan Indicativo (Productos)'!E640","v":0},{"$f":"+'Plan Indicativo (Productos)'!F640","v":0},{"$f":"+'Plan Indicativo (Productos)'!G640","v":0},{"$f":"+'Plan Indicativo (Productos)'!H640","v":0},{"$f":"+'Plan Indicativo (Productos)'!I640","v":0},{"$f":"+'Plan Indicativo (Productos)'!J640","v":0},{"$f":"+'Plan Indicativo (Productos)'!K640","v":0}]
[{"$f":"+'Plan Indicativo (Productos)'!A641","v":637},{"$f":"+'Plan Indicativo (Productos)'!B641","v":0},{"$f":"+'Plan Indicativo (Productos)'!C641","v":""},{"$f":"+'Plan Indicativo (Productos)'!D641","v":0},{"$f":"+'Plan Indicativo (Productos)'!E641","v":0},{"$f":"+'Plan Indicativo (Productos)'!F641","v":0},{"$f":"+'Plan Indicativo (Productos)'!G641","v":0},{"$f":"+'Plan Indicativo (Productos)'!H641","v":0},{"$f":"+'Plan Indicativo (Productos)'!I641","v":0},{"$f":"+'Plan Indicativo (Productos)'!J641","v":0},{"$f":"+'Plan Indicativo (Productos)'!K641","v":0}]
[{"$f":"+'Plan Indicativo (Productos)'!A642","v":638},{"$f":"+'Plan Indicativo (Productos)'!B642","v":0},{"$f":"+'Plan Indicativo (Productos)'!C642","v":""},{"$f":"+'Plan Indicativo (Productos)'!D642","v":0},{"$f":"+'Plan Indicativo (Productos)'!E642","v":0},{"$f":"+'Plan Indicativo (Productos)'!F642","v":0},{"$f":"+'Plan Indicativo (Productos)'!G642","v":0},{"$f":"+'Plan Indicativo (Productos)'!H642","v":0},{"$f":"+'Plan Indicativo (Productos)'!I642","v":0},{"$f":"+'Plan Indicativo (Productos)'!J642","v":0},{"$f":"+'Plan Indicativo (Productos)'!K642","v":0}]
[{"$f":"+'Plan Indicativo (Productos)'!A643","v":639},{"$f":"+'Plan Indicativo (Productos)'!B643","v":0},{"$f":"+'Plan Indicativo (Productos)'!C643","v":""},{"$f":"+'Plan Indicativo (Productos)'!D643","v":0},{"$f":"+'Plan Indicativo (Productos)'!E643","v":0},{"$f":"+'Plan Indicativo (Productos)'!F643","v":0},{"$f":"+'Plan Indicativo (Productos)'!G643","v":0},{"$f":"+'Plan Indicativo (Productos)'!H643","v":0},{"$f":"+'Plan Indicativo (Productos)'!I643","v":0},{"$f":"+'Plan Indicativo (Productos)'!J643","v":0},{"$f":"+'Plan Indicativo (Productos)'!K643","v":0}]
[{"$f":"+'Plan Indicativo (Productos)'!A644","v":640},{"$f":"+'Plan Indicativo (Productos)'!B644","v":0},{"$f":"+'Plan Indicativo (Productos)'!C644","v":""},{"$f":"+'Plan Indicativo (Productos)'!D644","v":0},{"$f":"+'Plan Indicativo (Productos)'!E644","v":0},{"$f":"+'Plan Indicativo (Productos)'!F644","v":0},{"$f":"+'Plan Indicativo (Productos)'!G644","v":0},{"$f":"+'Plan Indicativo (Productos)'!H644","v":0},{"$f":"+'Plan Indicativo (Productos)'!I644","v":0},{"$f":"+'Plan Indicativo (Productos)'!J644","v":0},{"$f":"+'Plan Indicativo (Productos)'!K644","v":0}]
[{"$f":"+'Plan Indicativo (Productos)'!A645","v":641},{"$f":"+'Plan Indicativo (Productos)'!B645","v":0},{"$f":"+'Plan Indicativo (Productos)'!C645","v":""},{"$f":"+'Plan Indicativo (Productos)'!D645","v":0},{"$f":"+'Plan Indicativo (Productos)'!E645","v":0},{"$f":"+'Plan Indicativo (Productos)'!F645","v":0},{"$f":"+'Plan Indicativo (Productos)'!G645","v":0},{"$f":"+'Plan Indicativo (Productos)'!H645","v":0},{"$f":"+'Plan Indicativo (Productos)'!I645","v":0},{"$f":"+'Plan Indicativo (Productos)'!J645","v":0},{"$f":"+'Plan Indicativo (Productos)'!K645","v":0}]
[{"$f":"+'Plan Indicativo (Productos)'!A646","v":642},{"$f":"+'Plan Indicativo (Productos)'!B646","v":0},{"$f":"+'Plan Indicativo (Productos)'!C646","v":""},{"$f":"+'Plan Indicativo (Productos)'!D646","v":0},{"$f":"+'Plan Indicativo (Productos)'!E646","v":0},{"$f":"+'Plan Indicativo (Productos)'!F646","v":0},{"$f":"+'Plan Indicativo (Productos)'!G646","v":0},{"$f":"+'Plan Indicativo (Productos)'!H646","v":0},{"$f":"+'Plan Indicativo (Productos)'!I646","v":0},{"$f":"+'Plan Indicativo (Productos)'!J646","v":0},{"$f":"+'Plan Indicativo (Productos)'!K646","v":0}]
[{"$f":"+'Plan Indicativo (Productos)'!A647","v":643},{"$f":"+'Plan Indicativo (Productos)'!B647","v":0},{"$f":"+'Plan Indicativo (Productos)'!C647","v":""},{"$f":"+'Plan Indicativo (Productos)'!D647","v":0},{"$f":"+'Plan Indicativo (Productos)'!E647","v":0},{"$f":"+'Plan Indicativo (Productos)'!F647","v":0},{"$f":"+'Plan Indicativo (Productos)'!G647","v":0},{"$f":"+'Plan Indicativo (Productos)'!H647","v":0},{"$f":"+'Plan Indicativo (Productos)'!I647","v":0},{"$f":"+'Plan Indicativo (Productos)'!J647","v":0},{"$f":"+'Plan Indicativo (Productos)'!K647","v":0}]
[{"$f":"+'Plan Indicativo (Productos)'!A648","v":644},{"$f":"+'Plan Indicativo (Productos)'!B648","v":0},{"$f":"+'Plan Indicativo (Productos)'!C648","v":""},{"$f":"+'Plan Indicativo (Productos)'!D648","v":0},{"$f":"+'Plan Indicativo (Productos)'!E648","v":0},{"$f":"+'Plan Indicativo (Productos)'!F648","v":0},{"$f":"+'Plan Indicativo (Productos)'!G648","v":0},{"$f":"+'Plan Indicativo (Productos)'!H648","v":0},{"$f":"+'Plan Indicativo (Productos)'!I648","v":0},{"$f":"+'Plan Indicativo (Productos)'!J648","v":0},{"$f":"+'Plan Indicativo (Productos)'!K648","v":0}]
[{"$f":"+'Plan Indicativo (Productos)'!A649","v":645},{"$f":"+'Plan Indicativo (Productos)'!B649","v":0},{"$f":"+'Plan Indicativo (Productos)'!C649","v":""},{"$f":"+'Plan Indicativo (Productos)'!D649","v":0},{"$f":"+'Plan Indicativo (Productos)'!E649","v":0},{"$f":"+'Plan Indicativo (Productos)'!F649","v":0},{"$f":"+'Plan Indicativo (Productos)'!G649","v":0},{"$f":"+'Plan Indicativo (Productos)'!H649","v":0},{"$f":"+'Plan Indicativo (Productos)'!I649","v":0},{"$f":"+'Plan Indicativo (Productos)'!J649","v":0},{"$f":"+'Plan Indicativo (Productos)'!K649","v":0}]
[{"$f":"+'Plan Indicativo (Productos)'!A650","v":646},{"$f":"+'Plan Indicativo (Productos)'!B650","v":0},{"$f":"+'Plan Indicativo (Productos)'!C650","v":""},{"$f":"+'Plan Indicativo (Productos)'!D650","v":0},{"$f":"+'Plan Indicativo (Productos)'!E650","v":0},{"$f":"+'Plan Indicativo (Productos)'!F650","v":0},{"$f":"+'Plan Indicativo (Productos)'!G650","v":0},{"$f":"+'Plan Indicativo (Productos)'!H650","v":0},{"$f":"+'Plan Indicativo (Productos)'!I650","v":0},{"$f":"+'Plan Indicativo (Productos)'!J650","v":0},{"$f":"+'Plan Indicativo (Productos)'!K650","v":0}]
[{"$f":"+'Plan Indicativo (Productos)'!A651","v":647},{"$f":"+'Plan Indicativo (Productos)'!B651","v":0},{"$f":"+'Plan Indicativo (Productos)'!C651","v":""},{"$f":"+'Plan Indicativo (Productos)'!D651","v":0},{"$f":"+'Plan Indicativo (Productos)'!E651","v":0},{"$f":"+'Plan Indicativo (Productos)'!F651","v":0},{"$f":"+'Plan Indicativo (Productos)'!G651","v":0},{"$f":"+'Plan Indicativo (Productos)'!H651","v":0},{"$f":"+'Plan Indicativo (Productos)'!I651","v":0},{"$f":"+'Plan Indicativo (Productos)'!J651","v":0},{"$f":"+'Plan Indicativo (Productos)'!K651","v":0}]
[{"$f":"+'Plan Indicativo (Productos)'!A652","v":648},{"$f":"+'Plan Indicativo (Productos)'!B652","v":0},{"$f":"+'Plan Indicativo (Productos)'!C652","v":""},{"$f":"+'Plan Indicativo (Productos)'!D652","v":0},{"$f":"+'Plan Indicativo (Productos)'!E652","v":0},{"$f":"+'Plan Indicativo (Productos)'!F652","v":0},{"$f":"+'Plan Indicativo (Productos)'!G652","v":0},{"$f":"+'Plan Indicativo (Productos)'!H652","v":0},{"$f":"+'Plan Indicativo (Productos)'!I652","v":0},{"$f":"+'Plan Indicativo (Productos)'!J652","v":0},{"$f":"+'Plan Indicativo (Productos)'!K652","v":0}]
[{"$f":"+'Plan Indicativo (Productos)'!A653","v":649},{"$f":"+'Plan Indicativo (Productos)'!B653","v":0},{"$f":"+'Plan Indicativo (Productos)'!C653","v":""},{"$f":"+'Plan Indicativo (Productos)'!D653","v":0},{"$f":"+'Plan Indicativo (Productos)'!E653","v":0},{"$f":"+'Plan Indicativo (Productos)'!F653","v":0},{"$f":"+'Plan Indicativo (Productos)'!G653","v":0},{"$f":"+'Plan Indicativo (Productos)'!H653","v":0},{"$f":"+'Plan Indicativo (Productos)'!I653","v":0},{"$f":"+'Plan Indicativo (Productos)'!J653","v":0},{"$f":"+'Plan Indicativo (Productos)'!K653","v":0}]
[{"$f":"+'Plan Indicativo (Productos)'!A654","v":650},{"$f":"+'Plan Indicativo (Productos)'!B654","v":0},{"$f":"+'Plan Indicativo (Productos)'!C654","v":""},{"$f":"+'Plan Indicativo (Productos)'!D654","v":0},{"$f":"+'Plan Indicativo (Productos)'!E654","v":0},{"$f":"+'Plan Indicativo (Productos)'!F654","v":0},{"$f":"+'Plan Indicativo (Productos)'!G654","v":0},{"$f":"+'Plan Indicativo (Productos)'!H654","v":0},{"$f":"+'Plan Indicativo (Productos)'!I654","v":0},{"$f":"+'Plan Indicativo (Productos)'!J654","v":0},{"$f":"+'Plan Indicativo (Productos)'!K654","v":0}]
[{"$f":"+'Plan Indicativo (Productos)'!A655","v":651},{"$f":"+'Plan Indicativo (Productos)'!B655","v":0},{"$f":"+'Plan Indicativo (Productos)'!C655","v":""},{"$f":"+'Plan Indicativo (Productos)'!D655","v":0},{"$f":"+'Plan Indicativo (Productos)'!E655","v":0},{"$f":"+'Plan Indicativo (Productos)'!F655","v":0},{"$f":"+'Plan Indicativo (Productos)'!G655","v":0},{"$f":"+'Plan Indicativo (Productos)'!H655","v":0},{"$f":"+'Plan Indicativo (Productos)'!I655","v":0},{"$f":"+'Plan Indicativo (Productos)'!J655","v":0},{"$f":"+'Plan Indicativo (Productos)'!K655","v":0}]
[{"$f":"+'Plan Indicativo (Productos)'!A656","v":652},{"$f":"+'Plan Indicativo (Productos)'!B656","v":0},{"$f":"+'Plan Indicativo (Productos)'!C656","v":""},{"$f":"+'Plan Indicativo (Productos)'!D656","v":0},{"$f":"+'Plan Indicativo (Productos)'!E656","v":0},{"$f":"+'Plan Indicativo (Productos)'!F656","v":0},{"$f":"+'Plan Indicativo (Productos)'!G656","v":0},{"$f":"+'Plan Indicativo (Productos)'!H656","v":0},{"$f":"+'Plan Indicativo (Productos)'!I656","v":0},{"$f":"+'Plan Indicativo (Productos)'!J656","v":0},{"$f":"+'Plan Indicativo (Productos)'!K656","v":0}]
[{"$f":"+'Plan Indicativo (Productos)'!A657","v":653},{"$f":"+'Plan Indicativo (Productos)'!B657","v":0},{"$f":"+'Plan Indicativo (Productos)'!C657","v":""},{"$f":"+'Plan Indicativo (Productos)'!D657","v":0},{"$f":"+'Plan Indicativo (Productos)'!E657","v":0},{"$f":"+'Plan Indicativo (Productos)'!F657","v":0},{"$f":"+'Plan Indicativo (Productos)'!G657","v":0},{"$f":"+'Plan Indicativo (Productos)'!H657","v":0},{"$f":"+'Plan Indicativo (Productos)'!I657","v":0},{"$f":"+'Plan Indicativo (Productos)'!J657","v":0},{"$f":"+'Plan Indicativo (Productos)'!K657","v":0}]
[{"$f":"+'Plan Indicativo (Productos)'!A658","v":654},{"$f":"+'Plan Indicativo (Productos)'!B658","v":0},{"$f":"+'Plan Indicativo (Productos)'!C658","v":""},{"$f":"+'Plan Indicativo (Productos)'!D658","v":0},{"$f":"+'Plan Indicativo (Productos)'!E658","v":0},{"$f":"+'Plan Indicativo (Productos)'!F658","v":0},{"$f":"+'Plan Indicativo (Productos)'!G658","v":0},{"$f":"+'Plan Indicativo (Productos)'!H658","v":0},{"$f":"+'Plan Indicativo (Productos)'!I658","v":0},{"$f":"+'Plan Indicativo (Productos)'!J658","v":0},{"$f":"+'Plan Indicativo (Productos)'!K658","v":0}]
[{"$f":"+'Plan Indicativo (Productos)'!A659","v":655},{"$f":"+'Plan Indicativo (Productos)'!B659","v":0},{"$f":"+'Plan Indicativo (Productos)'!C659","v":""},{"$f":"+'Plan Indicativo (Productos)'!D659","v":0},{"$f":"+'Plan Indicativo (Productos)'!E659","v":0},{"$f":"+'Plan Indicativo (Productos)'!F659","v":0},{"$f":"+'Plan Indicativo (Productos)'!G659","v":0},{"$f":"+'Plan Indicativo (Productos)'!H659","v":0},{"$f":"+'Plan Indicativo (Productos)'!I659","v":0},{"$f":"+'Plan Indicativo (Productos)'!J659","v":0},{"$f":"+'Plan Indicativo (Productos)'!K659","v":0}]
[{"$f":"+'Plan Indicativo (Productos)'!A660","v":656},{"$f":"+'Plan Indicativo (Productos)'!B660","v":0},{"$f":"+'Plan Indicativo (Productos)'!C660","v":""},{"$f":"+'Plan Indicativo (Productos)'!D660","v":0},{"$f":"+'Plan Indicativo (Productos)'!E660","v":0},{"$f":"+'Plan Indicativo (Productos)'!F660","v":0},{"$f":"+'Plan Indicativo (Productos)'!G660","v":0},{"$f":"+'Plan Indicativo (Productos)'!H660","v":0},{"$f":"+'Plan Indicativo (Productos)'!I660","v":0},{"$f":"+'Plan Indicativo (Productos)'!J660","v":0},{"$f":"+'Plan Indicativo (Productos)'!K660","v":0}]
[{"$f":"+'Plan Indicativo (Productos)'!A661","v":657},{"$f":"+'Plan Indicativo (Productos)'!B661","v":0},{"$f":"+'Plan Indicativo (Productos)'!C661","v":""},{"$f":"+'Plan Indicativo (Productos)'!D661","v":0},{"$f":"+'Plan Indicativo (Productos)'!E661","v":0},{"$f":"+'Plan Indicativo (Productos)'!F661","v":0},{"$f":"+'Plan Indicativo (Productos)'!G661","v":0},{"$f":"+'Plan Indicativo (Productos)'!H661","v":0},{"$f":"+'Plan Indicativo (Productos)'!I661","v":0},{"$f":"+'Plan Indicativo (Productos)'!J661","v":0},{"$f":"+'Plan Indicativo (Productos)'!K661","v":0}]
[{"$f":"+'Plan Indicativo (Productos)'!A662","v":658},{"$f":"+'Plan Indicativo (Productos)'!B662","v":0},{"$f":"+'Plan Indicativo (Productos)'!C662","v":""},{"$f":"+'Plan Indicativo (Productos)'!D662","v":0},{"$f":"+'Plan Indicativo (Productos)'!E662","v":0},{"$f":"+'Plan Indicativo (Productos)'!F662","v":0},{"$f":"+'Plan Indicativo (Productos)'!G662","v":0},{"$f":"+'Plan Indicativo (Productos)'!H662","v":0},{"$f":"+'Plan Indicativo (Productos)'!I662","v":0},{"$f":"+'Plan Indicativo (Productos)'!J662","v":0},{"$f":"+'Plan Indicativo (Productos)'!K662","v":0}]
[{"$f":"+'Plan Indicativo (Productos)'!A663","v":659},{"$f":"+'Plan Indicativo (Productos)'!B663","v":0},{"$f":"+'Plan Indicativo (Productos)'!C663","v":""},{"$f":"+'Plan Indicativo (Productos)'!D663","v":0},{"$f":"+'Plan Indicativo (Productos)'!E663","v":0},{"$f":"+'Plan Indicativo (Productos)'!F663","v":0},{"$f":"+'Plan Indicativo (Productos)'!G663","v":0},{"$f":"+'Plan Indicativo (Productos)'!H663","v":0},{"$f":"+'Plan Indicativo (Productos)'!I663","v":0},{"$f":"+'Plan Indicativo (Productos)'!J663","v":0},{"$f":"+'Plan Indicativo (Productos)'!K663","v":0}]
[{"$f":"+'Plan Indicativo (Productos)'!A664","v":660},{"$f":"+'Plan Indicativo (Productos)'!B664","v":0},{"$f":"+'Plan Indicativo (Productos)'!C664","v":""},{"$f":"+'Plan Indicativo (Productos)'!D664","v":0},{"$f":"+'Plan Indicativo (Productos)'!E664","v":0},{"$f":"+'Plan Indicativo (Productos)'!F664","v":0},{"$f":"+'Plan Indicativo (Productos)'!G664","v":0},{"$f":"+'Plan Indicativo (Productos)'!H664","v":0},{"$f":"+'Plan Indicativo (Productos)'!I664","v":0},{"$f":"+'Plan Indicativo (Productos)'!J664","v":0},{"$f":"+'Plan Indicativo (Productos)'!K664","v":0}]
[{"$f":"+'Plan Indicativo (Productos)'!A665","v":661},{"$f":"+'Plan Indicativo (Productos)'!B665","v":0},{"$f":"+'Plan Indicativo (Productos)'!C665","v":""},{"$f":"+'Plan Indicativo (Productos)'!D665","v":0},{"$f":"+'Plan Indicativo (Productos)'!E665","v":0},{"$f":"+'Plan Indicativo (Productos)'!F665","v":0},{"$f":"+'Plan Indicativo (Productos)'!G665","v":0},{"$f":"+'Plan Indicativo (Productos)'!H665","v":0},{"$f":"+'Plan Indicativo (Productos)'!I665","v":0},{"$f":"+'Plan Indicativo (Productos)'!J665","v":0},{"$f":"+'Plan Indicativo (Productos)'!K665","v":0}]
[{"$f":"+'Plan Indicativo (Productos)'!A666","v":662},{"$f":"+'Plan Indicativo (Productos)'!B666","v":0},{"$f":"+'Plan Indicativo (Productos)'!C666","v":""},{"$f":"+'Plan Indicativo (Productos)'!D666","v":0},{"$f":"+'Plan Indicativo (Productos)'!E666","v":0},{"$f":"+'Plan Indicativo (Productos)'!F666","v":0},{"$f":"+'Plan Indicativo (Productos)'!G666","v":0},{"$f":"+'Plan Indicativo (Productos)'!H666","v":0},{"$f":"+'Plan Indicativo (Productos)'!I666","v":0},{"$f":"+'Plan Indicativo (Productos)'!J666","v":0},{"$f":"+'Plan Indicativo (Productos)'!K666","v":0}]
[{"$f":"+'Plan Indicativo (Productos)'!A667","v":663},{"$f":"+'Plan Indicativo (Productos)'!B667","v":0},{"$f":"+'Plan Indicativo (Productos)'!C667","v":""},{"$f":"+'Plan Indicativo (Productos)'!D667","v":0},{"$f":"+'Plan Indicativo (Productos)'!E667","v":0},{"$f":"+'Plan Indicativo (Productos)'!F667","v":0},{"$f":"+'Plan Indicativo (Productos)'!G667","v":0},{"$f":"+'Plan Indicativo (Productos)'!H667","v":0},{"$f":"+'Plan Indicativo (Productos)'!I667","v":0},{"$f":"+'Plan Indicativo (Productos)'!J667","v":0},{"$f":"+'Plan Indicativo (Productos)'!K667","v":0}]
[{"$f":"+'Plan Indicativo (Productos)'!A668","v":664},{"$f":"+'Plan Indicativo (Productos)'!B668","v":0},{"$f":"+'Plan Indicativo (Productos)'!C668","v":""},{"$f":"+'Plan Indicativo (Productos)'!D668","v":0},{"$f":"+'Plan Indicativo (Productos)'!E668","v":0},{"$f":"+'Plan Indicativo (Productos)'!F668","v":0},{"$f":"+'Plan Indicativo (Productos)'!G668","v":0},{"$f":"+'Plan Indicativo (Productos)'!H668","v":0},{"$f":"+'Plan Indicativo (Productos)'!I668","v":0},{"$f":"+'Plan Indicativo (Productos)'!J668","v":0},{"$f":"+'Plan Indicativo (Productos)'!K668","v":0}]
[{"$f":"+'Plan Indicativo (Productos)'!A669","v":665},{"$f":"+'Plan Indicativo (Productos)'!B669","v":0},{"$f":"+'Plan Indicativo (Productos)'!C669","v":""},{"$f":"+'Plan Indicativo (Productos)'!D669","v":0},{"$f":"+'Plan Indicativo (Productos)'!E669","v":0},{"$f":"+'Plan Indicativo (Productos)'!F669","v":0},{"$f":"+'Plan Indicativo (Productos)'!G669","v":0},{"$f":"+'Plan Indicativo (Productos)'!H669","v":0},{"$f":"+'Plan Indicativo (Productos)'!I669","v":0},{"$f":"+'Plan Indicativo (Productos)'!J669","v":0},{"$f":"+'Plan Indicativo (Productos)'!K669","v":0}]
[{"$f":"+'Plan Indicativo (Productos)'!A670","v":666},{"$f":"+'Plan Indicativo (Productos)'!B670","v":0},{"$f":"+'Plan Indicativo (Productos)'!C670","v":""},{"$f":"+'Plan Indicativo (Productos)'!D670","v":0},{"$f":"+'Plan Indicativo (Productos)'!E670","v":0},{"$f":"+'Plan Indicativo (Productos)'!F670","v":0},{"$f":"+'Plan Indicativo (Productos)'!G670","v":0},{"$f":"+'Plan Indicativo (Productos)'!H670","v":0},{"$f":"+'Plan Indicativo (Productos)'!I670","v":0},{"$f":"+'Plan Indicativo (Productos)'!J670","v":0},{"$f":"+'Plan Indicativo (Productos)'!K670","v":0}]
[{"$f":"+'Plan Indicativo (Productos)'!A671","v":667},{"$f":"+'Plan Indicativo (Productos)'!B671","v":0},{"$f":"+'Plan Indicativo (Productos)'!C671","v":""},{"$f":"+'Plan Indicativo (Productos)'!D671","v":0},{"$f":"+'Plan Indicativo (Productos)'!E671","v":0},{"$f":"+'Plan Indicativo (Productos)'!F671","v":0},{"$f":"+'Plan Indicativo (Productos)'!G671","v":0},{"$f":"+'Plan Indicativo (Productos)'!H671","v":0},{"$f":"+'Plan Indicativo (Productos)'!I671","v":0},{"$f":"+'Plan Indicativo (Productos)'!J671","v":0},{"$f":"+'Plan Indicativo (Productos)'!K671","v":0}]
[{"$f":"+'Plan Indicativo (Productos)'!A672","v":668},{"$f":"+'Plan Indicativo (Productos)'!B672","v":0},{"$f":"+'Plan Indicativo (Productos)'!C672","v":""},{"$f":"+'Plan Indicativo (Productos)'!D672","v":0},{"$f":"+'Plan Indicativo (Productos)'!E672","v":0},{"$f":"+'Plan Indicativo (Productos)'!F672","v":0},{"$f":"+'Plan Indicativo (Productos)'!G672","v":0},{"$f":"+'Plan Indicativo (Productos)'!H672","v":0},{"$f":"+'Plan Indicativo (Productos)'!I672","v":0},{"$f":"+'Plan Indicativo (Productos)'!J672","v":0},{"$f":"+'Plan Indicativo (Productos)'!K672","v":0}]
[{"$f":"+'Plan Indicativo (Productos)'!A673","v":669},{"$f":"+'Plan Indicativo (Productos)'!B673","v":0},{"$f":"+'Plan Indicativo (Productos)'!C673","v":""},{"$f":"+'Plan Indicativo (Productos)'!D673","v":0},{"$f":"+'Plan Indicativo (Productos)'!E673","v":0},{"$f":"+'Plan Indicativo (Productos)'!F673","v":0},{"$f":"+'Plan Indicativo (Productos)'!G673","v":0},{"$f":"+'Plan Indicativo (Productos)'!H673","v":0},{"$f":"+'Plan Indicativo (Productos)'!I673","v":0},{"$f":"+'Plan Indicativo (Productos)'!J673","v":0},{"$f":"+'Plan Indicativo (Productos)'!K673","v":0}]
[{"$f":"+'Plan Indicativo (Productos)'!A674","v":670},{"$f":"+'Plan Indicativo (Productos)'!B674","v":0},{"$f":"+'Plan Indicativo (Productos)'!C674","v":""},{"$f":"+'Plan Indicativo (Productos)'!D674","v":0},{"$f":"+'Plan Indicativo (Productos)'!E674","v":0},{"$f":"+'Plan Indicativo (Productos)'!F674","v":0},{"$f":"+'Plan Indicativo (Productos)'!G674","v":0},{"$f":"+'Plan Indicativo (Productos)'!H674","v":0},{"$f":"+'Plan Indicativo (Productos)'!I674","v":0},{"$f":"+'Plan Indicativo (Productos)'!J674","v":0},{"$f":"+'Plan Indicativo (Productos)'!K674","v":0}]
[{"$f":"+'Plan Indicativo (Productos)'!A675","v":671},{"$f":"+'Plan Indicativo (Productos)'!B675","v":0},{"$f":"+'Plan Indicativo (Productos)'!C675","v":""},{"$f":"+'Plan Indicativo (Productos)'!D675","v":0},{"$f":"+'Plan Indicativo (Productos)'!E675","v":0},{"$f":"+'Plan Indicativo (Productos)'!F675","v":0},{"$f":"+'Plan Indicativo (Productos)'!G675","v":0},{"$f":"+'Plan Indicativo (Productos)'!H675","v":0},{"$f":"+'Plan Indicativo (Productos)'!I675","v":0},{"$f":"+'Plan Indicativo (Productos)'!J675","v":0},{"$f":"+'Plan Indicativo (Productos)'!K675","v":0}]
[{"$f":"+'Plan Indicativo (Productos)'!A676","v":672},{"$f":"+'Plan Indicativo (Productos)'!B676","v":0},{"$f":"+'Plan Indicativo (Productos)'!C676","v":""},{"$f":"+'Plan Indicativo (Productos)'!D676","v":0},{"$f":"+'Plan Indicativo (Productos)'!E676","v":0},{"$f":"+'Plan Indicativo (Productos)'!F676","v":0},{"$f":"+'Plan Indicativo (Productos)'!G676","v":0},{"$f":"+'Plan Indicativo (Productos)'!H676","v":0},{"$f":"+'Plan Indicativo (Productos)'!I676","v":0},{"$f":"+'Plan Indicativo (Productos)'!J676","v":0},{"$f":"+'Plan Indicativo (Productos)'!K676","v":0}]
[{"$f":"+'Plan Indicativo (Productos)'!A677","v":673},{"$f":"+'Plan Indicativo (Productos)'!B677","v":0},{"$f":"+'Plan Indicativo (Productos)'!C677","v":""},{"$f":"+'Plan Indicativo (Productos)'!D677","v":0},{"$f":"+'Plan Indicativo (Productos)'!E677","v":0},{"$f":"+'Plan Indicativo (Productos)'!F677","v":0},{"$f":"+'Plan Indicativo (Productos)'!G677","v":0},{"$f":"+'Plan Indicativo (Productos)'!H677","v":0},{"$f":"+'Plan Indicativo (Productos)'!I677","v":0},{"$f":"+'Plan Indicativo (Productos)'!J677","v":0},{"$f":"+'Plan Indicativo (Productos)'!K677","v":0}]
[{"$f":"+'Plan Indicativo (Productos)'!A678","v":674},{"$f":"+'Plan Indicativo (Productos)'!B678","v":0},{"$f":"+'Plan Indicativo (Productos)'!C678","v":""},{"$f":"+'Plan Indicativo (Productos)'!D678","v":0},{"$f":"+'Plan Indicativo (Productos)'!E678","v":0},{"$f":"+'Plan Indicativo (Productos)'!F678","v":0},{"$f":"+'Plan Indicativo (Productos)'!G678","v":0},{"$f":"+'Plan Indicativo (Productos)'!H678","v":0},{"$f":"+'Plan Indicativo (Productos)'!I678","v":0},{"$f":"+'Plan Indicativo (Productos)'!J678","v":0},{"$f":"+'Plan Indicativo (Productos)'!K678","v":0}]
[{"$f":"+'Plan Indicativo (Productos)'!A679","v":675},{"$f":"+'Plan Indicativo (Productos)'!B679","v":0},{"$f":"+'Plan Indicativo (Productos)'!C679","v":""},{"$f":"+'Plan Indicativo (Productos)'!D679","v":0},{"$f":"+'Plan Indicativo (Productos)'!E679","v":0},{"$f":"+'Plan Indicativo (Productos)'!F679","v":0},{"$f":"+'Plan Indicativo (Productos)'!G679","v":0},{"$f":"+'Plan Indicativo (Productos)'!H679","v":0},{"$f":"+'Plan Indicativo (Productos)'!I679","v":0},{"$f":"+'Plan Indicativo (Productos)'!J679","v":0},{"$f":"+'Plan Indicativo (Productos)'!K679","v":0}]
[{"$f":"+'Plan Indicativo (Productos)'!A680","v":676},{"$f":"+'Plan Indicativo (Productos)'!B680","v":0},{"$f":"+'Plan Indicativo (Productos)'!C680","v":""},{"$f":"+'Plan Indicativo (Productos)'!D680","v":0},{"$f":"+'Plan Indicativo (Productos)'!E680","v":0},{"$f":"+'Plan Indicativo (Productos)'!F680","v":0},{"$f":"+'Plan Indicativo (Productos)'!G680","v":0},{"$f":"+'Plan Indicativo (Productos)'!H680","v":0},{"$f":"+'Plan Indicativo (Productos)'!I680","v":0},{"$f":"+'Plan Indicativo (Productos)'!J680","v":0},{"$f":"+'Plan Indicativo (Productos)'!K680","v":0}]
[{"$f":"+'Plan Indicativo (Productos)'!A681","v":677},{"$f":"+'Plan Indicativo (Productos)'!B681","v":0},{"$f":"+'Plan Indicativo (Productos)'!C681","v":""},{"$f":"+'Plan Indicativo (Productos)'!D681","v":0},{"$f":"+'Plan Indicativo (Productos)'!E681","v":0},{"$f":"+'Plan Indicativo (Productos)'!F681","v":0},{"$f":"+'Plan Indicativo (Productos)'!G681","v":0},{"$f":"+'Plan Indicativo (Productos)'!H681","v":0},{"$f":"+'Plan Indicativo (Productos)'!I681","v":0},{"$f":"+'Plan Indicativo (Productos)'!J681","v":0},{"$f":"+'Plan Indicativo (Productos)'!K681","v":0}]
[{"$f":"+'Plan Indicativo (Productos)'!A682","v":678},{"$f":"+'Plan Indicativo (Productos)'!B682","v":0},{"$f":"+'Plan Indicativo (Productos)'!C682","v":""},{"$f":"+'Plan Indicativo (Productos)'!D682","v":0},{"$f":"+'Plan Indicativo (Productos)'!E682","v":0},{"$f":"+'Plan Indicativo (Productos)'!F682","v":0},{"$f":"+'Plan Indicativo (Productos)'!G682","v":0},{"$f":"+'Plan Indicativo (Productos)'!H682","v":0},{"$f":"+'Plan Indicativo (Productos)'!I682","v":0},{"$f":"+'Plan Indicativo (Productos)'!J682","v":0},{"$f":"+'Plan Indicativo (Productos)'!K682","v":0}]
[{"$f":"+'Plan Indicativo (Productos)'!A683","v":679},{"$f":"+'Plan Indicativo (Productos)'!B683","v":0},{"$f":"+'Plan Indicativo (Productos)'!C683","v":""},{"$f":"+'Plan Indicativo (Productos)'!D683","v":0},{"$f":"+'Plan Indicativo (Productos)'!E683","v":0},{"$f":"+'Plan Indicativo (Productos)'!F683","v":0},{"$f":"+'Plan Indicativo (Productos)'!G683","v":0},{"$f":"+'Plan Indicativo (Productos)'!H683","v":0},{"$f":"+'Plan Indicativo (Productos)'!I683","v":0},{"$f":"+'Plan Indicativo (Productos)'!J683","v":0},{"$f":"+'Plan Indicativo (Productos)'!K683","v":0}]
[{"$f":"+'Plan Indicativo (Productos)'!A684","v":680},{"$f":"+'Plan Indicativo (Productos)'!B684","v":0},{"$f":"+'Plan Indicativo (Productos)'!C684","v":""},{"$f":"+'Plan Indicativo (Productos)'!D684","v":0},{"$f":"+'Plan Indicativo (Productos)'!E684","v":0},{"$f":"+'Plan Indicativo (Productos)'!F684","v":0},{"$f":"+'Plan Indicativo (Productos)'!G684","v":0},{"$f":"+'Plan Indicativo (Productos)'!H684","v":0},{"$f":"+'Plan Indicativo (Productos)'!I684","v":0},{"$f":"+'Plan Indicativo (Productos)'!J684","v":0},{"$f":"+'Plan Indicativo (Productos)'!K684","v":0}]
[{"$f":"+'Plan Indicativo (Productos)'!A685","v":681},{"$f":"+'Plan Indicativo (Productos)'!B685","v":0},{"$f":"+'Plan Indicativo (Productos)'!C685","v":""},{"$f":"+'Plan Indicativo (Productos)'!D685","v":0},{"$f":"+'Plan Indicativo (Productos)'!E685","v":0},{"$f":"+'Plan Indicativo (Productos)'!F685","v":0},{"$f":"+'Plan Indicativo (Productos)'!G685","v":0},{"$f":"+'Plan Indicativo (Productos)'!H685","v":0},{"$f":"+'Plan Indicativo (Productos)'!I685","v":0},{"$f":"+'Plan Indicativo (Productos)'!J685","v":0},{"$f":"+'Plan Indicativo (Productos)'!K685","v":0}]
[{"$f":"+'Plan Indicativo (Productos)'!A686","v":682},{"$f":"+'Plan Indicativo (Productos)'!B686","v":0},{"$f":"+'Plan Indicativo (Productos)'!C686","v":""},{"$f":"+'Plan Indicativo (Productos)'!D686","v":0},{"$f":"+'Plan Indicativo (Productos)'!E686","v":0},{"$f":"+'Plan Indicativo (Productos)'!F686","v":0},{"$f":"+'Plan Indicativo (Productos)'!G686","v":0},{"$f":"+'Plan Indicativo (Productos)'!H686","v":0},{"$f":"+'Plan Indicativo (Productos)'!I686","v":0},{"$f":"+'Plan Indicativo (Productos)'!J686","v":0},{"$f":"+'Plan Indicativo (Productos)'!K686","v":0}]
[{"$f":"+'Plan Indicativo (Productos)'!A687","v":683},{"$f":"+'Plan Indicativo (Productos)'!B687","v":0},{"$f":"+'Plan Indicativo (Productos)'!C687","v":""},{"$f":"+'Plan Indicativo (Productos)'!D687","v":0},{"$f":"+'Plan Indicativo (Productos)'!E687","v":0},{"$f":"+'Plan Indicativo (Productos)'!F687","v":0},{"$f":"+'Plan Indicativo (Productos)'!G687","v":0},{"$f":"+'Plan Indicativo (Productos)'!H687","v":0},{"$f":"+'Plan Indicativo (Productos)'!I687","v":0},{"$f":"+'Plan Indicativo (Productos)'!J687","v":0},{"$f":"+'Plan Indicativo (Productos)'!K687","v":0}]
[{"$f":"+'Plan Indicativo (Productos)'!A688","v":684},{"$f":"+'Plan Indicativo (Productos)'!B688","v":0},{"$f":"+'Plan Indicativo (Productos)'!C688","v":""},{"$f":"+'Plan Indicativo (Productos)'!D688","v":0},{"$f":"+'Plan Indicativo (Productos)'!E688","v":0},{"$f":"+'Plan Indicativo (Productos)'!F688","v":0},{"$f":"+'Plan Indicativo (Productos)'!G688","v":0},{"$f":"+'Plan Indicativo (Productos)'!H688","v":0},{"$f":"+'Plan Indicativo (Productos)'!I688","v":0},{"$f":"+'Plan Indicativo (Productos)'!J688","v":0},{"$f":"+'Plan Indicativo (Productos)'!K688","v":0}]
[{"$f":"+'Plan Indicativo (Productos)'!A689","v":685},{"$f":"+'Plan Indicativo (Productos)'!B689","v":0},{"$f":"+'Plan Indicativo (Productos)'!C689","v":""},{"$f":"+'Plan Indicativo (Productos)'!D689","v":0},{"$f":"+'Plan Indicativo (Productos)'!E689","v":0},{"$f":"+'Plan Indicativo (Productos)'!F689","v":0},{"$f":"+'Plan Indicativo (Productos)'!G689","v":0},{"$f":"+'Plan Indicativo (Productos)'!H689","v":0},{"$f":"+'Plan Indicativo (Productos)'!I689","v":0},{"$f":"+'Plan Indicativo (Productos)'!J689","v":0},{"$f":"+'Plan Indicativo (Productos)'!K689","v":0}]
[{"$f":"+'Plan Indicativo (Productos)'!A690","v":686},{"$f":"+'Plan Indicativo (Productos)'!B690","v":0},{"$f":"+'Plan Indicativo (Productos)'!C690","v":""},{"$f":"+'Plan Indicativo (Productos)'!D690","v":0},{"$f":"+'Plan Indicativo (Productos)'!E690","v":0},{"$f":"+'Plan Indicativo (Productos)'!F690","v":0},{"$f":"+'Plan Indicativo (Productos)'!G690","v":0},{"$f":"+'Plan Indicativo (Productos)'!H690","v":0},{"$f":"+'Plan Indicativo (Productos)'!I690","v":0},{"$f":"+'Plan Indicativo (Productos)'!J690","v":0},{"$f":"+'Plan Indicativo (Productos)'!K690","v":0}]
[{"$f":"+'Plan Indicativo (Productos)'!A691","v":687},{"$f":"+'Plan Indicativo (Productos)'!B691","v":0},{"$f":"+'Plan Indicativo (Productos)'!C691","v":""},{"$f":"+'Plan Indicativo (Productos)'!D691","v":0},{"$f":"+'Plan Indicativo (Productos)'!E691","v":0},{"$f":"+'Plan Indicativo (Productos)'!F691","v":0},{"$f":"+'Plan Indicativo (Productos)'!G691","v":0},{"$f":"+'Plan Indicativo (Productos)'!H691","v":0},{"$f":"+'Plan Indicativo (Productos)'!I691","v":0},{"$f":"+'Plan Indicativo (Productos)'!J691","v":0},{"$f":"+'Plan Indicativo (Productos)'!K691","v":0}]
[{"$f":"+'Plan Indicativo (Productos)'!A692","v":688},{"$f":"+'Plan Indicativo (Productos)'!B692","v":0},{"$f":"+'Plan Indicativo (Productos)'!C692","v":""},{"$f":"+'Plan Indicativo (Productos)'!D692","v":0},{"$f":"+'Plan Indicativo (Productos)'!E692","v":0},{"$f":"+'Plan Indicativo (Productos)'!F692","v":0},{"$f":"+'Plan Indicativo (Productos)'!G692","v":0},{"$f":"+'Plan Indicativo (Productos)'!H692","v":0},{"$f":"+'Plan Indicativo (Productos)'!I692","v":0},{"$f":"+'Plan Indicativo (Productos)'!J692","v":0},{"$f":"+'Plan Indicativo (Productos)'!K692","v":0}]
[{"$f":"+'Plan Indicativo (Productos)'!A693","v":689},{"$f":"+'Plan Indicativo (Productos)'!B693","v":0},{"$f":"+'Plan Indicativo (Productos)'!C693","v":""},{"$f":"+'Plan Indicativo (Productos)'!D693","v":0},{"$f":"+'Plan Indicativo (Productos)'!E693","v":0},{"$f":"+'Plan Indicativo (Productos)'!F693","v":0},{"$f":"+'Plan Indicativo (Productos)'!G693","v":0},{"$f":"+'Plan Indicativo (Productos)'!H693","v":0},{"$f":"+'Plan Indicativo (Productos)'!I693","v":0},{"$f":"+'Plan Indicativo (Productos)'!J693","v":0},{"$f":"+'Plan Indicativo (Productos)'!K693","v":0}]
[{"$f":"+'Plan Indicativo (Productos)'!A694","v":690},{"$f":"+'Plan Indicativo (Productos)'!B694","v":0},{"$f":"+'Plan Indicativo (Productos)'!C694","v":""},{"$f":"+'Plan Indicativo (Productos)'!D694","v":0},{"$f":"+'Plan Indicativo (Productos)'!E694","v":0},{"$f":"+'Plan Indicativo (Productos)'!F694","v":0},{"$f":"+'Plan Indicativo (Productos)'!G694","v":0},{"$f":"+'Plan Indicativo (Productos)'!H694","v":0},{"$f":"+'Plan Indicativo (Productos)'!I694","v":0},{"$f":"+'Plan Indicativo (Productos)'!J694","v":0},{"$f":"+'Plan Indicativo (Productos)'!K694","v":0}]
[{"$f":"+'Plan Indicativo (Productos)'!A695","v":691},{"$f":"+'Plan Indicativo (Productos)'!B695","v":0},{"$f":"+'Plan Indicativo (Productos)'!C695","v":""},{"$f":"+'Plan Indicativo (Productos)'!D695","v":0},{"$f":"+'Plan Indicativo (Productos)'!E695","v":0},{"$f":"+'Plan Indicativo (Productos)'!F695","v":0},{"$f":"+'Plan Indicativo (Productos)'!G695","v":0},{"$f":"+'Plan Indicativo (Productos)'!H695","v":0},{"$f":"+'Plan Indicativo (Productos)'!I695","v":0},{"$f":"+'Plan Indicativo (Productos)'!J695","v":0},{"$f":"+'Plan Indicativo (Productos)'!K695","v":0}]
[{"$f":"+'Plan Indicativo (Productos)'!A696","v":692},{"$f":"+'Plan Indicativo (Productos)'!B696","v":0},{"$f":"+'Plan Indicativo (Productos)'!C696","v":""},{"$f":"+'Plan Indicativo (Productos)'!D696","v":0},{"$f":"+'Plan Indicativo (Productos)'!E696","v":0},{"$f":"+'Plan Indicativo (Productos)'!F696","v":0},{"$f":"+'Plan Indicativo (Productos)'!G696","v":0},{"$f":"+'Plan Indicativo (Productos)'!H696","v":0},{"$f":"+'Plan Indicativo (Productos)'!I696","v":0},{"$f":"+'Plan Indicativo (Productos)'!J696","v":0},{"$f":"+'Plan Indicativo (Productos)'!K696","v":0}]
[{"$f":"+'Plan Indicativo (Productos)'!A697","v":693},{"$f":"+'Plan Indicativo (Productos)'!B697","v":0},{"$f":"+'Plan Indicativo (Productos)'!C697","v":""},{"$f":"+'Plan Indicativo (Productos)'!D697","v":0},{"$f":"+'Plan Indicativo (Productos)'!E697","v":0},{"$f":"+'Plan Indicativo (Productos)'!F697","v":0},{"$f":"+'Plan Indicativo (Productos)'!G697","v":0},{"$f":"+'Plan Indicativo (Productos)'!H697","v":0},{"$f":"+'Plan Indicativo (Productos)'!I697","v":0},{"$f":"+'Plan Indicativo (Productos)'!J697","v":0},{"$f":"+'Plan Indicativo (Productos)'!K697","v":0}]
[{"$f":"+'Plan Indicativo (Productos)'!A698","v":694},{"$f":"+'Plan Indicativo (Productos)'!B698","v":0},{"$f":"+'Plan Indicativo (Productos)'!C698","v":""},{"$f":"+'Plan Indicativo (Productos)'!D698","v":0},{"$f":"+'Plan Indicativo (Productos)'!E698","v":0},{"$f":"+'Plan Indicativo (Productos)'!F698","v":0},{"$f":"+'Plan Indicativo (Productos)'!G698","v":0},{"$f":"+'Plan Indicativo (Productos)'!H698","v":0},{"$f":"+'Plan Indicativo (Productos)'!I698","v":0},{"$f":"+'Plan Indicativo (Productos)'!J698","v":0},{"$f":"+'Plan Indicativo (Productos)'!K698","v":0}]
[{"$f":"+'Plan Indicativo (Productos)'!A699","v":695},{"$f":"+'Plan Indicativo (Productos)'!B699","v":0},{"$f":"+'Plan Indicativo (Productos)'!C699","v":""},{"$f":"+'Plan Indicativo (Productos)'!D699","v":0},{"$f":"+'Plan Indicativo (Productos)'!E699","v":0},{"$f":"+'Plan Indicativo (Productos)'!F699","v":0},{"$f":"+'Plan Indicativo (Productos)'!G699","v":0},{"$f":"+'Plan Indicativo (Productos)'!H699","v":0},{"$f":"+'Plan Indicativo (Productos)'!I699","v":0},{"$f":"+'Plan Indicativo (Productos)'!J699","v":0},{"$f":"+'Plan Indicativo (Productos)'!K699","v":0}]
[{"$f":"+'Plan Indicativo (Productos)'!A700","v":696},{"$f":"+'Plan Indicativo (Productos)'!B700","v":0},{"$f":"+'Plan Indicativo (Productos)'!C700","v":""},{"$f":"+'Plan Indicativo (Productos)'!D700","v":0},{"$f":"+'Plan Indicativo (Productos)'!E700","v":0},{"$f":"+'Plan Indicativo (Productos)'!F700","v":0},{"$f":"+'Plan Indicativo (Productos)'!G700","v":0},{"$f":"+'Plan Indicativo (Productos)'!H700","v":0},{"$f":"+'Plan Indicativo (Productos)'!I700","v":0},{"$f":"+'Plan Indicativo (Productos)'!J700","v":0},{"$f":"+'Plan Indicativo (Productos)'!K700","v":0}]
[{"$f":"+'Plan Indicativo (Productos)'!A701","v":697},{"$f":"+'Plan Indicativo (Productos)'!B701","v":0},{"$f":"+'Plan Indicativo (Productos)'!C701","v":""},{"$f":"+'Plan Indicativo (Productos)'!D701","v":0},{"$f":"+'Plan Indicativo (Productos)'!E701","v":0},{"$f":"+'Plan Indicativo (Productos)'!F701","v":0},{"$f":"+'Plan Indicativo (Productos)'!G701","v":0},{"$f":"+'Plan Indicativo (Productos)'!H701","v":0},{"$f":"+'Plan Indicativo (Productos)'!I701","v":0},{"$f":"+'Plan Indicativo (Productos)'!J701","v":0},{"$f":"+'Plan Indicativo (Productos)'!K701","v":0}]
[{"$f":"+'Plan Indicativo (Productos)'!A702","v":698},{"$f":"+'Plan Indicativo (Productos)'!B702","v":0},{"$f":"+'Plan Indicativo (Productos)'!C702","v":""},{"$f":"+'Plan Indicativo (Productos)'!D702","v":0},{"$f":"+'Plan Indicativo (Productos)'!E702","v":0},{"$f":"+'Plan Indicativo (Productos)'!F702","v":0},{"$f":"+'Plan Indicativo (Productos)'!G702","v":0},{"$f":"+'Plan Indicativo (Productos)'!H702","v":0},{"$f":"+'Plan Indicativo (Productos)'!I702","v":0},{"$f":"+'Plan Indicativo (Productos)'!J702","v":0},{"$f":"+'Plan Indicativo (Productos)'!K702","v":0}]
[{"$f":"+'Plan Indicativo (Productos)'!A703","v":699},{"$f":"+'Plan Indicativo (Productos)'!B703","v":0},{"$f":"+'Plan Indicativo (Productos)'!C703","v":""},{"$f":"+'Plan Indicativo (Productos)'!D703","v":0},{"$f":"+'Plan Indicativo (Productos)'!E703","v":0},{"$f":"+'Plan Indicativo (Productos)'!F703","v":0},{"$f":"+'Plan Indicativo (Productos)'!G703","v":0},{"$f":"+'Plan Indicativo (Productos)'!H703","v":0},{"$f":"+'Plan Indicativo (Productos)'!I703","v":0},{"$f":"+'Plan Indicativo (Productos)'!J703","v":0},{"$f":"+'Plan Indicativo (Productos)'!K703","v":0}]
[{"$f":"+'Plan Indicativo (Productos)'!A704","v":700},{"$f":"+'Plan Indicativo (Productos)'!B704","v":0},{"$f":"+'Plan Indicativo (Productos)'!C704","v":""},{"$f":"+'Plan Indicativo (Productos)'!D704","v":0},{"$f":"+'Plan Indicativo (Productos)'!E704","v":0},{"$f":"+'Plan Indicativo (Productos)'!F704","v":0},{"$f":"+'Plan Indicativo (Productos)'!G704","v":0},{"$f":"+'Plan Indicativo (Productos)'!H704","v":0},{"$f":"+'Plan Indicativo (Productos)'!I704","v":0},{"$f":"+'Plan Indicativo (Productos)'!J704","v":0},{"$f":"+'Plan Indicativo (Productos)'!K704","v":0}]
[{"$f":"+'Plan Indicativo (Productos)'!A705","v":701},{"$f":"+'Plan Indicativo (Productos)'!B705","v":0},{"$f":"+'Plan Indicativo (Productos)'!C705","v":""},{"$f":"+'Plan Indicativo (Productos)'!D705","v":0},{"$f":"+'Plan Indicativo (Productos)'!E705","v":0},{"$f":"+'Plan Indicativo (Productos)'!F705","v":0},{"$f":"+'Plan Indicativo (Productos)'!G705","v":0},{"$f":"+'Plan Indicativo (Productos)'!H705","v":0},{"$f":"+'Plan Indicativo (Productos)'!I705","v":0},{"$f":"+'Plan Indicativo (Productos)'!J705","v":0},{"$f":"+'Plan Indicativo (Productos)'!K705","v":0}]
[{"$f":"+'Plan Indicativo (Productos)'!A706","v":702},{"$f":"+'Plan Indicativo (Productos)'!B706","v":0},{"$f":"+'Plan Indicativo (Productos)'!C706","v":""},{"$f":"+'Plan Indicativo (Productos)'!D706","v":0},{"$f":"+'Plan Indicativo (Productos)'!E706","v":0},{"$f":"+'Plan Indicativo (Productos)'!F706","v":0},{"$f":"+'Plan Indicativo (Productos)'!G706","v":0},{"$f":"+'Plan Indicativo (Productos)'!H706","v":0},{"$f":"+'Plan Indicativo (Productos)'!I706","v":0},{"$f":"+'Plan Indicativo (Productos)'!J706","v":0},{"$f":"+'Plan Indicativo (Productos)'!K706","v":0}]
[{"$f":"+'Plan Indicativo (Productos)'!A707","v":703},{"$f":"+'Plan Indicativo (Productos)'!B707","v":0},{"$f":"+'Plan Indicativo (Productos)'!C707","v":""},{"$f":"+'Plan Indicativo (Productos)'!D707","v":0},{"$f":"+'Plan Indicativo (Productos)'!E707","v":0},{"$f":"+'Plan Indicativo (Productos)'!F707","v":0},{"$f":"+'Plan Indicativo (Productos)'!G707","v":0},{"$f":"+'Plan Indicativo (Productos)'!H707","v":0},{"$f":"+'Plan Indicativo (Productos)'!I707","v":0},{"$f":"+'Plan Indicativo (Productos)'!J707","v":0},{"$f":"+'Plan Indicativo (Productos)'!K707","v":0}]
[{"$f":"+'Plan Indicativo (Productos)'!A708","v":704},{"$f":"+'Plan Indicativo (Productos)'!B708","v":0},{"$f":"+'Plan Indicativo (Productos)'!C708","v":""},{"$f":"+'Plan Indicativo (Productos)'!D708","v":0},{"$f":"+'Plan Indicativo (Productos)'!E708","v":0},{"$f":"+'Plan Indicativo (Productos)'!F708","v":0},{"$f":"+'Plan Indicativo (Productos)'!G708","v":0},{"$f":"+'Plan Indicativo (Productos)'!H708","v":0},{"$f":"+'Plan Indicativo (Productos)'!I708","v":0},{"$f":"+'Plan Indicativo (Productos)'!J708","v":0},{"$f":"+'Plan Indicativo (Productos)'!K708","v":0}]
[{"$f":"+'Plan Indicativo (Productos)'!A709","v":705},{"$f":"+'Plan Indicativo (Productos)'!B709","v":0},{"$f":"+'Plan Indicativo (Productos)'!C709","v":""},{"$f":"+'Plan Indicativo (Productos)'!D709","v":0},{"$f":"+'Plan Indicativo (Productos)'!E709","v":0},{"$f":"+'Plan Indicativo (Productos)'!F709","v":0},{"$f":"+'Plan Indicativo (Productos)'!G709","v":0},{"$f":"+'Plan Indicativo (Productos)'!H709","v":0},{"$f":"+'Plan Indicativo (Productos)'!I709","v":0},{"$f":"+'Plan Indicativo (Productos)'!J709","v":0},{"$f":"+'Plan Indicativo (Productos)'!K709","v":0}]
[{"$f":"+'Plan Indicativo (Productos)'!A710","v":706},{"$f":"+'Plan Indicativo (Productos)'!B710","v":0},{"$f":"+'Plan Indicativo (Productos)'!C710","v":""},{"$f":"+'Plan Indicativo (Productos)'!D710","v":0},{"$f":"+'Plan Indicativo (Productos)'!E710","v":0},{"$f":"+'Plan Indicativo (Productos)'!F710","v":0},{"$f":"+'Plan Indicativo (Productos)'!G710","v":0},{"$f":"+'Plan Indicativo (Productos)'!H710","v":0},{"$f":"+'Plan Indicativo (Productos)'!I710","v":0},{"$f":"+'Plan Indicativo (Productos)'!J710","v":0},{"$f":"+'Plan Indicativo (Productos)'!K710","v":0}]
[{"$f":"+'Plan Indicativo (Productos)'!A711","v":707},{"$f":"+'Plan Indicativo (Productos)'!B711","v":0},{"$f":"+'Plan Indicativo (Productos)'!C711","v":""},{"$f":"+'Plan Indicativo (Productos)'!D711","v":0},{"$f":"+'Plan Indicativo (Productos)'!E711","v":0},{"$f":"+'Plan Indicativo (Productos)'!F711","v":0},{"$f":"+'Plan Indicativo (Productos)'!G711","v":0},{"$f":"+'Plan Indicativo (Productos)'!H711","v":0},{"$f":"+'Plan Indicativo (Productos)'!I711","v":0},{"$f":"+'Plan Indicativo (Productos)'!J711","v":0},{"$f":"+'Plan Indicativo (Productos)'!K711","v":0}]
[{"$f":"+'Plan Indicativo (Productos)'!A712","v":708},{"$f":"+'Plan Indicativo (Productos)'!B712","v":0},{"$f":"+'Plan Indicativo (Productos)'!C712","v":""},{"$f":"+'Plan Indicativo (Productos)'!D712","v":0},{"$f":"+'Plan Indicativo (Productos)'!E712","v":0},{"$f":"+'Plan Indicativo (Productos)'!F712","v":0},{"$f":"+'Plan Indicativo (Productos)'!G712","v":0},{"$f":"+'Plan Indicativo (Productos)'!H712","v":0},{"$f":"+'Plan Indicativo (Productos)'!I712","v":0},{"$f":"+'Plan Indicativo (Productos)'!J712","v":0},{"$f":"+'Plan Indicativo (Productos)'!K712","v":0}]
[{"$f":"+'Plan Indicativo (Productos)'!A713","v":709},{"$f":"+'Plan Indicativo (Productos)'!B713","v":0},{"$f":"+'Plan Indicativo (Productos)'!C713","v":""},{"$f":"+'Plan Indicativo (Productos)'!D713","v":0},{"$f":"+'Plan Indicativo (Productos)'!E713","v":0},{"$f":"+'Plan Indicativo (Productos)'!F713","v":0},{"$f":"+'Plan Indicativo (Productos)'!G713","v":0},{"$f":"+'Plan Indicativo (Productos)'!H713","v":0},{"$f":"+'Plan Indicativo (Productos)'!I713","v":0},{"$f":"+'Plan Indicativo (Productos)'!J713","v":0},{"$f":"+'Plan Indicativo (Productos)'!K713","v":0}]
[{"$f":"+'Plan Indicativo (Productos)'!A714","v":710},{"$f":"+'Plan Indicativo (Productos)'!B714","v":0},{"$f":"+'Plan Indicativo (Productos)'!C714","v":""},{"$f":"+'Plan Indicativo (Productos)'!D714","v":0},{"$f":"+'Plan Indicativo (Productos)'!E714","v":0},{"$f":"+'Plan Indicativo (Productos)'!F714","v":0},{"$f":"+'Plan Indicativo (Productos)'!G714","v":0},{"$f":"+'Plan Indicativo (Productos)'!H714","v":0},{"$f":"+'Plan Indicativo (Productos)'!I714","v":0},{"$f":"+'Plan Indicativo (Productos)'!J714","v":0},{"$f":"+'Plan Indicativo (Productos)'!K714","v":0}]
[{"$f":"+'Plan Indicativo (Productos)'!A715","v":711},{"$f":"+'Plan Indicativo (Productos)'!B715","v":0},{"$f":"+'Plan Indicativo (Productos)'!C715","v":""},{"$f":"+'Plan Indicativo (Productos)'!D715","v":0},{"$f":"+'Plan Indicativo (Productos)'!E715","v":0},{"$f":"+'Plan Indicativo (Productos)'!F715","v":0},{"$f":"+'Plan Indicativo (Productos)'!G715","v":0},{"$f":"+'Plan Indicativo (Productos)'!H715","v":0},{"$f":"+'Plan Indicativo (Productos)'!I715","v":0},{"$f":"+'Plan Indicativo (Productos)'!J715","v":0},{"$f":"+'Plan Indicativo (Productos)'!K715","v":0}]
[{"$f":"+'Plan Indicativo (Productos)'!A716","v":712},{"$f":"+'Plan Indicativo (Productos)'!B716","v":0},{"$f":"+'Plan Indicativo (Productos)'!C716","v":""},{"$f":"+'Plan Indicativo (Productos)'!D716","v":0},{"$f":"+'Plan Indicativo (Productos)'!E716","v":0},{"$f":"+'Plan Indicativo (Productos)'!F716","v":0},{"$f":"+'Plan Indicativo (Productos)'!G716","v":0},{"$f":"+'Plan Indicativo (Productos)'!H716","v":0},{"$f":"+'Plan Indicativo (Productos)'!I716","v":0},{"$f":"+'Plan Indicativo (Productos)'!J716","v":0},{"$f":"+'Plan Indicativo (Productos)'!K716","v":0}]
[{"$f":"+'Plan Indicativo (Productos)'!A717","v":713},{"$f":"+'Plan Indicativo (Productos)'!B717","v":0},{"$f":"+'Plan Indicativo (Productos)'!C717","v":""},{"$f":"+'Plan Indicativo (Productos)'!D717","v":0},{"$f":"+'Plan Indicativo (Productos)'!E717","v":0},{"$f":"+'Plan Indicativo (Productos)'!F717","v":0},{"$f":"+'Plan Indicativo (Productos)'!G717","v":0},{"$f":"+'Plan Indicativo (Productos)'!H717","v":0},{"$f":"+'Plan Indicativo (Productos)'!I717","v":0},{"$f":"+'Plan Indicativo (Productos)'!J717","v":0},{"$f":"+'Plan Indicativo (Productos)'!K717","v":0}]
[{"$f":"+'Plan Indicativo (Productos)'!A718","v":714},{"$f":"+'Plan Indicativo (Productos)'!B718","v":0},{"$f":"+'Plan Indicativo (Productos)'!C718","v":""},{"$f":"+'Plan Indicativo (Productos)'!D718","v":0},{"$f":"+'Plan Indicativo (Productos)'!E718","v":0},{"$f":"+'Plan Indicativo (Productos)'!F718","v":0},{"$f":"+'Plan Indicativo (Productos)'!G718","v":0},{"$f":"+'Plan Indicativo (Productos)'!H718","v":0},{"$f":"+'Plan Indicativo (Productos)'!I718","v":0},{"$f":"+'Plan Indicativo (Productos)'!J718","v":0},{"$f":"+'Plan Indicativo (Productos)'!K718","v":0}]
[{"$f":"+'Plan Indicativo (Productos)'!A719","v":715},{"$f":"+'Plan Indicativo (Productos)'!B719","v":0},{"$f":"+'Plan Indicativo (Productos)'!C719","v":""},{"$f":"+'Plan Indicativo (Productos)'!D719","v":0},{"$f":"+'Plan Indicativo (Productos)'!E719","v":0},{"$f":"+'Plan Indicativo (Productos)'!F719","v":0},{"$f":"+'Plan Indicativo (Productos)'!G719","v":0},{"$f":"+'Plan Indicativo (Productos)'!H719","v":0},{"$f":"+'Plan Indicativo (Productos)'!I719","v":0},{"$f":"+'Plan Indicativo (Productos)'!J719","v":0},{"$f":"+'Plan Indicativo (Productos)'!K719","v":0}]
[{"$f":"+'Plan Indicativo (Productos)'!A720","v":716},{"$f":"+'Plan Indicativo (Productos)'!B720","v":0},{"$f":"+'Plan Indicativo (Productos)'!C720","v":""},{"$f":"+'Plan Indicativo (Productos)'!D720","v":0},{"$f":"+'Plan Indicativo (Productos)'!E720","v":0},{"$f":"+'Plan Indicativo (Productos)'!F720","v":0},{"$f":"+'Plan Indicativo (Productos)'!G720","v":0},{"$f":"+'Plan Indicativo (Productos)'!H720","v":0},{"$f":"+'Plan Indicativo (Productos)'!I720","v":0},{"$f":"+'Plan Indicativo (Productos)'!J720","v":0},{"$f":"+'Plan Indicativo (Productos)'!K720","v":0}]
[{"$f":"+'Plan Indicativo (Productos)'!A721","v":717},{"$f":"+'Plan Indicativo (Productos)'!B721","v":0},{"$f":"+'Plan Indicativo (Productos)'!C721","v":""},{"$f":"+'Plan Indicativo (Productos)'!D721","v":0},{"$f":"+'Plan Indicativo (Productos)'!E721","v":0},{"$f":"+'Plan Indicativo (Productos)'!F721","v":0},{"$f":"+'Plan Indicativo (Productos)'!G721","v":0},{"$f":"+'Plan Indicativo (Productos)'!H721","v":0},{"$f":"+'Plan Indicativo (Productos)'!I721","v":0},{"$f":"+'Plan Indicativo (Productos)'!J721","v":0},{"$f":"+'Plan Indicativo (Productos)'!K721","v":0}]
[{"$f":"+'Plan Indicativo (Productos)'!A722","v":718},{"$f":"+'Plan Indicativo (Productos)'!B722","v":0},{"$f":"+'Plan Indicativo (Productos)'!C722","v":""},{"$f":"+'Plan Indicativo (Productos)'!D722","v":0},{"$f":"+'Plan Indicativo (Productos)'!E722","v":0},{"$f":"+'Plan Indicativo (Productos)'!F722","v":0},{"$f":"+'Plan Indicativo (Productos)'!G722","v":0},{"$f":"+'Plan Indicativo (Productos)'!H722","v":0},{"$f":"+'Plan Indicativo (Productos)'!I722","v":0},{"$f":"+'Plan Indicativo (Productos)'!J722","v":0},{"$f":"+'Plan Indicativo (Productos)'!K722","v":0}]
[{"$f":"+'Plan Indicativo (Productos)'!A723","v":719},{"$f":"+'Plan Indicativo (Productos)'!B723","v":0},{"$f":"+'Plan Indicativo (Productos)'!C723","v":""},{"$f":"+'Plan Indicativo (Productos)'!D723","v":0},{"$f":"+'Plan Indicativo (Productos)'!E723","v":0},{"$f":"+'Plan Indicativo (Productos)'!F723","v":0},{"$f":"+'Plan Indicativo (Productos)'!G723","v":0},{"$f":"+'Plan Indicativo (Productos)'!H723","v":0},{"$f":"+'Plan Indicativo (Productos)'!I723","v":0},{"$f":"+'Plan Indicativo (Productos)'!J723","v":0},{"$f":"+'Plan Indicativo (Productos)'!K723","v":0}]
[{"$f":"+'Plan Indicativo (Productos)'!A724","v":720},{"$f":"+'Plan Indicativo (Productos)'!B724","v":0},{"$f":"+'Plan Indicativo (Productos)'!C724","v":""},{"$f":"+'Plan Indicativo (Productos)'!D724","v":0},{"$f":"+'Plan Indicativo (Productos)'!E724","v":0},{"$f":"+'Plan Indicativo (Productos)'!F724","v":0},{"$f":"+'Plan Indicativo (Productos)'!G724","v":0},{"$f":"+'Plan Indicativo (Productos)'!H724","v":0},{"$f":"+'Plan Indicativo (Productos)'!I724","v":0},{"$f":"+'Plan Indicativo (Productos)'!J724","v":0},{"$f":"+'Plan Indicativo (Productos)'!K724","v":0}]
[{"$f":"+'Plan Indicativo (Productos)'!A725","v":721},{"$f":"+'Plan Indicativo (Productos)'!B725","v":0},{"$f":"+'Plan Indicativo (Productos)'!C725","v":""},{"$f":"+'Plan Indicativo (Productos)'!D725","v":0},{"$f":"+'Plan Indicativo (Productos)'!E725","v":0},{"$f":"+'Plan Indicativo (Productos)'!F725","v":0},{"$f":"+'Plan Indicativo (Productos)'!G725","v":0},{"$f":"+'Plan Indicativo (Productos)'!H725","v":0},{"$f":"+'Plan Indicativo (Productos)'!I725","v":0},{"$f":"+'Plan Indicativo (Productos)'!J725","v":0},{"$f":"+'Plan Indicativo (Productos)'!K725","v":0}]
[{"$f":"+'Plan Indicativo (Productos)'!A726","v":722},{"$f":"+'Plan Indicativo (Productos)'!B726","v":0},{"$f":"+'Plan Indicativo (Productos)'!C726","v":""},{"$f":"+'Plan Indicativo (Productos)'!D726","v":0},{"$f":"+'Plan Indicativo (Productos)'!E726","v":0},{"$f":"+'Plan Indicativo (Productos)'!F726","v":0},{"$f":"+'Plan Indicativo (Productos)'!G726","v":0},{"$f":"+'Plan Indicativo (Productos)'!H726","v":0},{"$f":"+'Plan Indicativo (Productos)'!I726","v":0},{"$f":"+'Plan Indicativo (Productos)'!J726","v":0},{"$f":"+'Plan Indicativo (Productos)'!K726","v":0}]
[{"$f":"+'Plan Indicativo (Productos)'!A727","v":723},{"$f":"+'Plan Indicativo (Productos)'!B727","v":0},{"$f":"+'Plan Indicativo (Productos)'!C727","v":""},{"$f":"+'Plan Indicativo (Productos)'!D727","v":0},{"$f":"+'Plan Indicativo (Productos)'!E727","v":0},{"$f":"+'Plan Indicativo (Productos)'!F727","v":0},{"$f":"+'Plan Indicativo (Productos)'!G727","v":0},{"$f":"+'Plan Indicativo (Productos)'!H727","v":0},{"$f":"+'Plan Indicativo (Productos)'!I727","v":0},{"$f":"+'Plan Indicativo (Productos)'!J727","v":0},{"$f":"+'Plan Indicativo (Productos)'!K727","v":0}]
[{"$f":"+'Plan Indicativo (Productos)'!A728","v":724},{"$f":"+'Plan Indicativo (Productos)'!B728","v":0},{"$f":"+'Plan Indicativo (Productos)'!C728","v":""},{"$f":"+'Plan Indicativo (Productos)'!D728","v":0},{"$f":"+'Plan Indicativo (Productos)'!E728","v":0},{"$f":"+'Plan Indicativo (Productos)'!F728","v":0},{"$f":"+'Plan Indicativo (Productos)'!G728","v":0},{"$f":"+'Plan Indicativo (Productos)'!H728","v":0},{"$f":"+'Plan Indicativo (Productos)'!I728","v":0},{"$f":"+'Plan Indicativo (Productos)'!J728","v":0},{"$f":"+'Plan Indicativo (Productos)'!K728","v":0}]
[{"$f":"+'Plan Indicativo (Productos)'!A729","v":725},{"$f":"+'Plan Indicativo (Productos)'!B729","v":0},{"$f":"+'Plan Indicativo (Productos)'!C729","v":""},{"$f":"+'Plan Indicativo (Productos)'!D729","v":0},{"$f":"+'Plan Indicativo (Productos)'!E729","v":0},{"$f":"+'Plan Indicativo (Productos)'!F729","v":0},{"$f":"+'Plan Indicativo (Productos)'!G729","v":0},{"$f":"+'Plan Indicativo (Productos)'!H729","v":0},{"$f":"+'Plan Indicativo (Productos)'!I729","v":0},{"$f":"+'Plan Indicativo (Productos)'!J729","v":0},{"$f":"+'Plan Indicativo (Productos)'!K729","v":0}]
[{"$f":"+'Plan Indicativo (Productos)'!A730","v":726},{"$f":"+'Plan Indicativo (Productos)'!B730","v":0},{"$f":"+'Plan Indicativo (Productos)'!C730","v":""},{"$f":"+'Plan Indicativo (Productos)'!D730","v":0},{"$f":"+'Plan Indicativo (Productos)'!E730","v":0},{"$f":"+'Plan Indicativo (Productos)'!F730","v":0},{"$f":"+'Plan Indicativo (Productos)'!G730","v":0},{"$f":"+'Plan Indicativo (Productos)'!H730","v":0},{"$f":"+'Plan Indicativo (Productos)'!I730","v":0},{"$f":"+'Plan Indicativo (Productos)'!J730","v":0},{"$f":"+'Plan Indicativo (Productos)'!K730","v":0}]
[{"$f":"+'Plan Indicativo (Productos)'!A731","v":727},{"$f":"+'Plan Indicativo (Productos)'!B731","v":0},{"$f":"+'Plan Indicativo (Productos)'!C731","v":""},{"$f":"+'Plan Indicativo (Productos)'!D731","v":0},{"$f":"+'Plan Indicativo (Productos)'!E731","v":0},{"$f":"+'Plan Indicativo (Productos)'!F731","v":0},{"$f":"+'Plan Indicativo (Productos)'!G731","v":0},{"$f":"+'Plan Indicativo (Productos)'!H731","v":0},{"$f":"+'Plan Indicativo (Productos)'!I731","v":0},{"$f":"+'Plan Indicativo (Productos)'!J731","v":0},{"$f":"+'Plan Indicativo (Productos)'!K731","v":0}]
[{"$f":"+'Plan Indicativo (Productos)'!A732","v":728},{"$f":"+'Plan Indicativo (Productos)'!B732","v":0},{"$f":"+'Plan Indicativo (Productos)'!C732","v":""},{"$f":"+'Plan Indicativo (Productos)'!D732","v":0},{"$f":"+'Plan Indicativo (Productos)'!E732","v":0},{"$f":"+'Plan Indicativo (Productos)'!F732","v":0},{"$f":"+'Plan Indicativo (Productos)'!G732","v":0},{"$f":"+'Plan Indicativo (Productos)'!H732","v":0},{"$f":"+'Plan Indicativo (Productos)'!I732","v":0},{"$f":"+'Plan Indicativo (Productos)'!J732","v":0},{"$f":"+'Plan Indicativo (Productos)'!K732","v":0}]
[{"$f":"+'Plan Indicativo (Productos)'!A733","v":729},{"$f":"+'Plan Indicativo (Productos)'!B733","v":0},{"$f":"+'Plan Indicativo (Productos)'!C733","v":""},{"$f":"+'Plan Indicativo (Productos)'!D733","v":0},{"$f":"+'Plan Indicativo (Productos)'!E733","v":0},{"$f":"+'Plan Indicativo (Productos)'!F733","v":0},{"$f":"+'Plan Indicativo (Productos)'!G733","v":0},{"$f":"+'Plan Indicativo (Productos)'!H733","v":0},{"$f":"+'Plan Indicativo (Productos)'!I733","v":0},{"$f":"+'Plan Indicativo (Productos)'!J733","v":0},{"$f":"+'Plan Indicativo (Productos)'!K733","v":0}]
[{"$f":"+'Plan Indicativo (Productos)'!A734","v":730},{"$f":"+'Plan Indicativo (Productos)'!B734","v":0},{"$f":"+'Plan Indicativo (Productos)'!C734","v":""},{"$f":"+'Plan Indicativo (Productos)'!D734","v":0},{"$f":"+'Plan Indicativo (Productos)'!E734","v":0},{"$f":"+'Plan Indicativo (Productos)'!F734","v":0},{"$f":"+'Plan Indicativo (Productos)'!G734","v":0},{"$f":"+'Plan Indicativo (Productos)'!H734","v":0},{"$f":"+'Plan Indicativo (Productos)'!I734","v":0},{"$f":"+'Plan Indicativo (Productos)'!J734","v":0},{"$f":"+'Plan Indicativo (Productos)'!K734","v":0}]
[{"$f":"+'Plan Indicativo (Productos)'!A735","v":731},{"$f":"+'Plan Indicativo (Productos)'!B735","v":0},{"$f":"+'Plan Indicativo (Productos)'!C735","v":""},{"$f":"+'Plan Indicativo (Productos)'!D735","v":0},{"$f":"+'Plan Indicativo (Productos)'!E735","v":0},{"$f":"+'Plan Indicativo (Productos)'!F735","v":0},{"$f":"+'Plan Indicativo (Productos)'!G735","v":0},{"$f":"+'Plan Indicativo (Productos)'!H735","v":0},{"$f":"+'Plan Indicativo (Productos)'!I735","v":0},{"$f":"+'Plan Indicativo (Productos)'!J735","v":0},{"$f":"+'Plan Indicativo (Productos)'!K735","v":0}]
[{"$f":"+'Plan Indicativo (Productos)'!A736","v":732},{"$f":"+'Plan Indicativo (Productos)'!B736","v":0},{"$f":"+'Plan Indicativo (Productos)'!C736","v":""},{"$f":"+'Plan Indicativo (Productos)'!D736","v":0},{"$f":"+'Plan Indicativo (Productos)'!E736","v":0},{"$f":"+'Plan Indicativo (Productos)'!F736","v":0},{"$f":"+'Plan Indicativo (Productos)'!G736","v":0},{"$f":"+'Plan Indicativo (Productos)'!H736","v":0},{"$f":"+'Plan Indicativo (Productos)'!I736","v":0},{"$f":"+'Plan Indicativo (Productos)'!J736","v":0},{"$f":"+'Plan Indicativo (Productos)'!K736","v":0}]
[{"$f":"+'Plan Indicativo (Productos)'!A737","v":733},{"$f":"+'Plan Indicativo (Productos)'!B737","v":0},{"$f":"+'Plan Indicativo (Productos)'!C737","v":""},{"$f":"+'Plan Indicativo (Productos)'!D737","v":0},{"$f":"+'Plan Indicativo (Productos)'!E737","v":0},{"$f":"+'Plan Indicativo (Productos)'!F737","v":0},{"$f":"+'Plan Indicativo (Productos)'!G737","v":0},{"$f":"+'Plan Indicativo (Productos)'!H737","v":0},{"$f":"+'Plan Indicativo (Productos)'!I737","v":0},{"$f":"+'Plan Indicativo (Productos)'!J737","v":0},{"$f":"+'Plan Indicativo (Productos)'!K737","v":0}]
[{"$f":"+'Plan Indicativo (Productos)'!A738","v":734},{"$f":"+'Plan Indicativo (Productos)'!B738","v":0},{"$f":"+'Plan Indicativo (Productos)'!C738","v":""},{"$f":"+'Plan Indicativo (Productos)'!D738","v":0},{"$f":"+'Plan Indicativo (Productos)'!E738","v":0},{"$f":"+'Plan Indicativo (Productos)'!F738","v":0},{"$f":"+'Plan Indicativo (Productos)'!G738","v":0},{"$f":"+'Plan Indicativo (Productos)'!H738","v":0},{"$f":"+'Plan Indicativo (Productos)'!I738","v":0},{"$f":"+'Plan Indicativo (Productos)'!J738","v":0},{"$f":"+'Plan Indicativo (Productos)'!K738","v":0}]
[{"$f":"+'Plan Indicativo (Productos)'!A739","v":735},{"$f":"+'Plan Indicativo (Productos)'!B739","v":0},{"$f":"+'Plan Indicativo (Productos)'!C739","v":""},{"$f":"+'Plan Indicativo (Productos)'!D739","v":0},{"$f":"+'Plan Indicativo (Productos)'!E739","v":0},{"$f":"+'Plan Indicativo (Productos)'!F739","v":0},{"$f":"+'Plan Indicativo (Productos)'!G739","v":0},{"$f":"+'Plan Indicativo (Productos)'!H739","v":0},{"$f":"+'Plan Indicativo (Productos)'!I739","v":0},{"$f":"+'Plan Indicativo (Productos)'!J739","v":0},{"$f":"+'Plan Indicativo (Productos)'!K739","v":0}]
[{"$f":"+'Plan Indicativo (Productos)'!A740","v":736},{"$f":"+'Plan Indicativo (Productos)'!B740","v":0},{"$f":"+'Plan Indicativo (Productos)'!C740","v":""},{"$f":"+'Plan Indicativo (Productos)'!D740","v":0},{"$f":"+'Plan Indicativo (Productos)'!E740","v":0},{"$f":"+'Plan Indicativo (Productos)'!F740","v":0},{"$f":"+'Plan Indicativo (Productos)'!G740","v":0},{"$f":"+'Plan Indicativo (Productos)'!H740","v":0},{"$f":"+'Plan Indicativo (Productos)'!I740","v":0},{"$f":"+'Plan Indicativo (Productos)'!J740","v":0},{"$f":"+'Plan Indicativo (Productos)'!K740","v":0}]
[{"$f":"+'Plan Indicativo (Productos)'!A741","v":737},{"$f":"+'Plan Indicativo (Productos)'!B741","v":0},{"$f":"+'Plan Indicativo (Productos)'!C741","v":""},{"$f":"+'Plan Indicativo (Productos)'!D741","v":0},{"$f":"+'Plan Indicativo (Productos)'!E741","v":0},{"$f":"+'Plan Indicativo (Productos)'!F741","v":0},{"$f":"+'Plan Indicativo (Productos)'!G741","v":0},{"$f":"+'Plan Indicativo (Productos)'!H741","v":0},{"$f":"+'Plan Indicativo (Productos)'!I741","v":0},{"$f":"+'Plan Indicativo (Productos)'!J741","v":0},{"$f":"+'Plan Indicativo (Productos)'!K741","v":0}]
[{"$f":"+'Plan Indicativo (Productos)'!A742","v":738},{"$f":"+'Plan Indicativo (Productos)'!B742","v":0},{"$f":"+'Plan Indicativo (Productos)'!C742","v":""},{"$f":"+'Plan Indicativo (Productos)'!D742","v":0},{"$f":"+'Plan Indicativo (Productos)'!E742","v":0},{"$f":"+'Plan Indicativo (Productos)'!F742","v":0},{"$f":"+'Plan Indicativo (Productos)'!G742","v":0},{"$f":"+'Plan Indicativo (Productos)'!H742","v":0},{"$f":"+'Plan Indicativo (Productos)'!I742","v":0},{"$f":"+'Plan Indicativo (Productos)'!J742","v":0},{"$f":"+'Plan Indicativo (Productos)'!K742","v":0}]
[{"$f":"+'Plan Indicativo (Productos)'!A743","v":739},{"$f":"+'Plan Indicativo (Productos)'!B743","v":0},{"$f":"+'Plan Indicativo (Productos)'!C743","v":""},{"$f":"+'Plan Indicativo (Productos)'!D743","v":0},{"$f":"+'Plan Indicativo (Productos)'!E743","v":0},{"$f":"+'Plan Indicativo (Productos)'!F743","v":0},{"$f":"+'Plan Indicativo (Productos)'!G743","v":0},{"$f":"+'Plan Indicativo (Productos)'!H743","v":0},{"$f":"+'Plan Indicativo (Productos)'!I743","v":0},{"$f":"+'Plan Indicativo (Productos)'!J743","v":0},{"$f":"+'Plan Indicativo (Productos)'!K743","v":0}]
[{"$f":"+'Plan Indicativo (Productos)'!A744","v":740},{"$f":"+'Plan Indicativo (Productos)'!B744","v":0},{"$f":"+'Plan Indicativo (Productos)'!C744","v":""},{"$f":"+'Plan Indicativo (Productos)'!D744","v":0},{"$f":"+'Plan Indicativo (Productos)'!E744","v":0},{"$f":"+'Plan Indicativo (Productos)'!F744","v":0},{"$f":"+'Plan Indicativo (Productos)'!G744","v":0},{"$f":"+'Plan Indicativo (Productos)'!H744","v":0},{"$f":"+'Plan Indicativo (Productos)'!I744","v":0},{"$f":"+'Plan Indicativo (Productos)'!J744","v":0},{"$f":"+'Plan Indicativo (Productos)'!K744","v":0}]
[{"$f":"+'Plan Indicativo (Productos)'!A745","v":741},{"$f":"+'Plan Indicativo (Productos)'!B745","v":0},{"$f":"+'Plan Indicativo (Productos)'!C745","v":""},{"$f":"+'Plan Indicativo (Productos)'!D745","v":0},{"$f":"+'Plan Indicativo (Productos)'!E745","v":0},{"$f":"+'Plan Indicativo (Productos)'!F745","v":0},{"$f":"+'Plan Indicativo (Productos)'!G745","v":0},{"$f":"+'Plan Indicativo (Productos)'!H745","v":0},{"$f":"+'Plan Indicativo (Productos)'!I745","v":0},{"$f":"+'Plan Indicativo (Productos)'!J745","v":0},{"$f":"+'Plan Indicativo (Productos)'!K745","v":0}]
[{"$f":"+'Plan Indicativo (Productos)'!A746","v":742},{"$f":"+'Plan Indicativo (Productos)'!B746","v":0},{"$f":"+'Plan Indicativo (Productos)'!C746","v":""},{"$f":"+'Plan Indicativo (Productos)'!D746","v":0},{"$f":"+'Plan Indicativo (Productos)'!E746","v":0},{"$f":"+'Plan Indicativo (Productos)'!F746","v":0},{"$f":"+'Plan Indicativo (Productos)'!G746","v":0},{"$f":"+'Plan Indicativo (Productos)'!H746","v":0},{"$f":"+'Plan Indicativo (Productos)'!I746","v":0},{"$f":"+'Plan Indicativo (Productos)'!J746","v":0},{"$f":"+'Plan Indicativo (Productos)'!K746","v":0}]
[{"$f":"+'Plan Indicativo (Productos)'!A747","v":743},{"$f":"+'Plan Indicativo (Productos)'!B747","v":0},{"$f":"+'Plan Indicativo (Productos)'!C747","v":""},{"$f":"+'Plan Indicativo (Productos)'!D747","v":0},{"$f":"+'Plan Indicativo (Productos)'!E747","v":0},{"$f":"+'Plan Indicativo (Productos)'!F747","v":0},{"$f":"+'Plan Indicativo (Productos)'!G747","v":0},{"$f":"+'Plan Indicativo (Productos)'!H747","v":0},{"$f":"+'Plan Indicativo (Productos)'!I747","v":0},{"$f":"+'Plan Indicativo (Productos)'!J747","v":0},{"$f":"+'Plan Indicativo (Productos)'!K747","v":0}]
[{"$f":"+'Plan Indicativo (Productos)'!A748","v":744},{"$f":"+'Plan Indicativo (Productos)'!B748","v":0},{"$f":"+'Plan Indicativo (Productos)'!C748","v":""},{"$f":"+'Plan Indicativo (Productos)'!D748","v":0},{"$f":"+'Plan Indicativo (Productos)'!E748","v":0},{"$f":"+'Plan Indicativo (Productos)'!F748","v":0},{"$f":"+'Plan Indicativo (Productos)'!G748","v":0},{"$f":"+'Plan Indicativo (Productos)'!H748","v":0},{"$f":"+'Plan Indicativo (Productos)'!I748","v":0},{"$f":"+'Plan Indicativo (Productos)'!J748","v":0},{"$f":"+'Plan Indicativo (Productos)'!K748","v":0}]
[{"$f":"+'Plan Indicativo (Productos)'!A749","v":745},{"$f":"+'Plan Indicativo (Productos)'!B749","v":0},{"$f":"+'Plan Indicativo (Productos)'!C749","v":""},{"$f":"+'Plan Indicativo (Productos)'!D749","v":0},{"$f":"+'Plan Indicativo (Productos)'!E749","v":0},{"$f":"+'Plan Indicativo (Productos)'!F749","v":0},{"$f":"+'Plan Indicativo (Productos)'!G749","v":0},{"$f":"+'Plan Indicativo (Productos)'!H749","v":0},{"$f":"+'Plan Indicativo (Productos)'!I749","v":0},{"$f":"+'Plan Indicativo (Productos)'!J749","v":0},{"$f":"+'Plan Indicativo (Productos)'!K749","v":0}]
[{"$f":"+'Plan Indicativo (Productos)'!A750","v":746},{"$f":"+'Plan Indicativo (Productos)'!B750","v":0},{"$f":"+'Plan Indicativo (Productos)'!C750","v":""},{"$f":"+'Plan Indicativo (Productos)'!D750","v":0},{"$f":"+'Plan Indicativo (Productos)'!E750","v":0},{"$f":"+'Plan Indicativo (Productos)'!F750","v":0},{"$f":"+'Plan Indicativo (Productos)'!G750","v":0},{"$f":"+'Plan Indicativo (Productos)'!H750","v":0},{"$f":"+'Plan Indicativo (Productos)'!I750","v":0},{"$f":"+'Plan Indicativo (Productos)'!J750","v":0},{"$f":"+'Plan Indicativo (Productos)'!K750","v":0}]
[{"$f":"+'Plan Indicativo (Productos)'!A751","v":747},{"$f":"+'Plan Indicativo (Productos)'!B751","v":0},{"$f":"+'Plan Indicativo (Productos)'!C751","v":""},{"$f":"+'Plan Indicativo (Productos)'!D751","v":0},{"$f":"+'Plan Indicativo (Productos)'!E751","v":0},{"$f":"+'Plan Indicativo (Productos)'!F751","v":0},{"$f":"+'Plan Indicativo (Productos)'!G751","v":0},{"$f":"+'Plan Indicativo (Productos)'!H751","v":0},{"$f":"+'Plan Indicativo (Productos)'!I751","v":0},{"$f":"+'Plan Indicativo (Productos)'!J751","v":0},{"$f":"+'Plan Indicativo (Productos)'!K751","v":0}]
[{"$f":"+'Plan Indicativo (Productos)'!A752","v":748},{"$f":"+'Plan Indicativo (Productos)'!B752","v":0},{"$f":"+'Plan Indicativo (Productos)'!C752","v":""},{"$f":"+'Plan Indicativo (Productos)'!D752","v":0},{"$f":"+'Plan Indicativo (Productos)'!E752","v":0},{"$f":"+'Plan Indicativo (Productos)'!F752","v":0},{"$f":"+'Plan Indicativo (Productos)'!G752","v":0},{"$f":"+'Plan Indicativo (Productos)'!H752","v":0},{"$f":"+'Plan Indicativo (Productos)'!I752","v":0},{"$f":"+'Plan Indicativo (Productos)'!J752","v":0},{"$f":"+'Plan Indicativo (Productos)'!K752","v":0}]
[{"$f":"+'Plan Indicativo (Productos)'!A753","v":749},{"$f":"+'Plan Indicativo (Productos)'!B753","v":0},{"$f":"+'Plan Indicativo (Productos)'!C753","v":""},{"$f":"+'Plan Indicativo (Productos)'!D753","v":0},{"$f":"+'Plan Indicativo (Productos)'!E753","v":0},{"$f":"+'Plan Indicativo (Productos)'!F753","v":0},{"$f":"+'Plan Indicativo (Productos)'!G753","v":0},{"$f":"+'Plan Indicativo (Productos)'!H753","v":0},{"$f":"+'Plan Indicativo (Productos)'!I753","v":0},{"$f":"+'Plan Indicativo (Productos)'!J753","v":0},{"$f":"+'Plan Indicativo (Productos)'!K753","v":0}]
[{"$f":"+'Plan Indicativo (Productos)'!A754","v":750},{"$f":"+'Plan Indicativo (Productos)'!B754","v":0},{"$f":"+'Plan Indicativo (Productos)'!C754","v":""},{"$f":"+'Plan Indicativo (Productos)'!D754","v":0},{"$f":"+'Plan Indicativo (Productos)'!E754","v":0},{"$f":"+'Plan Indicativo (Productos)'!F754","v":0},{"$f":"+'Plan Indicativo (Productos)'!G754","v":0},{"$f":"+'Plan Indicativo (Productos)'!H754","v":0},{"$f":"+'Plan Indicativo (Productos)'!I754","v":0},{"$f":"+'Plan Indicativo (Productos)'!J754","v":0},{"$f":"+'Plan Indicativo (Productos)'!K754","v":0}]
[{"$f":"+'Plan Indicativo (Productos)'!A755","v":751},{"$f":"+'Plan Indicativo (Productos)'!B755","v":0},{"$f":"+'Plan Indicativo (Productos)'!C755","v":""},{"$f":"+'Plan Indicativo (Productos)'!D755","v":0},{"$f":"+'Plan Indicativo (Productos)'!E755","v":0},{"$f":"+'Plan Indicativo (Productos)'!F755","v":0},{"$f":"+'Plan Indicativo (Productos)'!G755","v":0},{"$f":"+'Plan Indicativo (Productos)'!H755","v":0},{"$f":"+'Plan Indicativo (Productos)'!I755","v":0},{"$f":"+'Plan Indicativo (Productos)'!J755","v":0},{"$f":"+'Plan Indicativo (Productos)'!K755","v":0}]
[{"$f":"+'Plan Indicativo (Productos)'!A756","v":752},{"$f":"+'Plan Indicativo (Productos)'!B756","v":0},{"$f":"+'Plan Indicativo (Productos)'!C756","v":""},{"$f":"+'Plan Indicativo (Productos)'!D756","v":0},{"$f":"+'Plan Indicativo (Productos)'!E756","v":0},{"$f":"+'Plan Indicativo (Productos)'!F756","v":0},{"$f":"+'Plan Indicativo (Productos)'!G756","v":0},{"$f":"+'Plan Indicativo (Productos)'!H756","v":0},{"$f":"+'Plan Indicativo (Productos)'!I756","v":0},{"$f":"+'Plan Indicativo (Productos)'!J756","v":0},{"$f":"+'Plan Indicativo (Productos)'!K756","v":0}]
[{"$f":"+'Plan Indicativo (Productos)'!A757","v":753},{"$f":"+'Plan Indicativo (Productos)'!B757","v":0},{"$f":"+'Plan Indicativo (Productos)'!C757","v":""},{"$f":"+'Plan Indicativo (Productos)'!D757","v":0},{"$f":"+'Plan Indicativo (Productos)'!E757","v":0},{"$f":"+'Plan Indicativo (Productos)'!F757","v":0},{"$f":"+'Plan Indicativo (Productos)'!G757","v":0},{"$f":"+'Plan Indicativo (Productos)'!H757","v":0},{"$f":"+'Plan Indicativo (Productos)'!I757","v":0},{"$f":"+'Plan Indicativo (Productos)'!J757","v":0},{"$f":"+'Plan Indicativo (Productos)'!K757","v":0}]
[{"$f":"+'Plan Indicativo (Productos)'!A758","v":754},{"$f":"+'Plan Indicativo (Productos)'!B758","v":0},{"$f":"+'Plan Indicativo (Productos)'!C758","v":""},{"$f":"+'Plan Indicativo (Productos)'!D758","v":0},{"$f":"+'Plan Indicativo (Productos)'!E758","v":0},{"$f":"+'Plan Indicativo (Productos)'!F758","v":0},{"$f":"+'Plan Indicativo (Productos)'!G758","v":0},{"$f":"+'Plan Indicativo (Productos)'!H758","v":0},{"$f":"+'Plan Indicativo (Productos)'!I758","v":0},{"$f":"+'Plan Indicativo (Productos)'!J758","v":0},{"$f":"+'Plan Indicativo (Productos)'!K758","v":0}]
[{"$f":"+'Plan Indicativo (Productos)'!A759","v":755},{"$f":"+'Plan Indicativo (Productos)'!B759","v":0},{"$f":"+'Plan Indicativo (Productos)'!C759","v":""},{"$f":"+'Plan Indicativo (Productos)'!D759","v":0},{"$f":"+'Plan Indicativo (Productos)'!E759","v":0},{"$f":"+'Plan Indicativo (Productos)'!F759","v":0},{"$f":"+'Plan Indicativo (Productos)'!G759","v":0},{"$f":"+'Plan Indicativo (Productos)'!H759","v":0},{"$f":"+'Plan Indicativo (Productos)'!I759","v":0},{"$f":"+'Plan Indicativo (Productos)'!J759","v":0},{"$f":"+'Plan Indicativo (Productos)'!K759","v":0}]
[{"$f":"+'Plan Indicativo (Productos)'!A760","v":756},{"$f":"+'Plan Indicativo (Productos)'!B760","v":0},{"$f":"+'Plan Indicativo (Productos)'!C760","v":""},{"$f":"+'Plan Indicativo (Productos)'!D760","v":0},{"$f":"+'Plan Indicativo (Productos)'!E760","v":0},{"$f":"+'Plan Indicativo (Productos)'!F760","v":0},{"$f":"+'Plan Indicativo (Productos)'!G760","v":0},{"$f":"+'Plan Indicativo (Productos)'!H760","v":0},{"$f":"+'Plan Indicativo (Productos)'!I760","v":0},{"$f":"+'Plan Indicativo (Productos)'!J760","v":0},{"$f":"+'Plan Indicativo (Productos)'!K760","v":0}]
[{"$f":"+'Plan Indicativo (Productos)'!A761","v":757},{"$f":"+'Plan Indicativo (Productos)'!B761","v":0},{"$f":"+'Plan Indicativo (Productos)'!C761","v":""},{"$f":"+'Plan Indicativo (Productos)'!D761","v":0},{"$f":"+'Plan Indicativo (Productos)'!E761","v":0},{"$f":"+'Plan Indicativo (Productos)'!F761","v":0},{"$f":"+'Plan Indicativo (Productos)'!G761","v":0},{"$f":"+'Plan Indicativo (Productos)'!H761","v":0},{"$f":"+'Plan Indicativo (Productos)'!I761","v":0},{"$f":"+'Plan Indicativo (Productos)'!J761","v":0},{"$f":"+'Plan Indicativo (Productos)'!K761","v":0}]
[{"$f":"+'Plan Indicativo (Productos)'!A762","v":758},{"$f":"+'Plan Indicativo (Productos)'!B762","v":0},{"$f":"+'Plan Indicativo (Productos)'!C762","v":""},{"$f":"+'Plan Indicativo (Productos)'!D762","v":0},{"$f":"+'Plan Indicativo (Productos)'!E762","v":0},{"$f":"+'Plan Indicativo (Productos)'!F762","v":0},{"$f":"+'Plan Indicativo (Productos)'!G762","v":0},{"$f":"+'Plan Indicativo (Productos)'!H762","v":0},{"$f":"+'Plan Indicativo (Productos)'!I762","v":0},{"$f":"+'Plan Indicativo (Productos)'!J762","v":0},{"$f":"+'Plan Indicativo (Productos)'!K762","v":0}]
[{"$f":"+'Plan Indicativo (Productos)'!A763","v":759},{"$f":"+'Plan Indicativo (Productos)'!B763","v":0},{"$f":"+'Plan Indicativo (Productos)'!C763","v":""},{"$f":"+'Plan Indicativo (Productos)'!D763","v":0},{"$f":"+'Plan Indicativo (Productos)'!E763","v":0},{"$f":"+'Plan Indicativo (Productos)'!F763","v":0},{"$f":"+'Plan Indicativo (Productos)'!G763","v":0},{"$f":"+'Plan Indicativo (Productos)'!H763","v":0},{"$f":"+'Plan Indicativo (Productos)'!I763","v":0},{"$f":"+'Plan Indicativo (Productos)'!J763","v":0},{"$f":"+'Plan Indicativo (Productos)'!K763","v":0}]
[{"$f":"+'Plan Indicativo (Productos)'!A764","v":760},{"$f":"+'Plan Indicativo (Productos)'!B764","v":0},{"$f":"+'Plan Indicativo (Productos)'!C764","v":""},{"$f":"+'Plan Indicativo (Productos)'!D764","v":0},{"$f":"+'Plan Indicativo (Productos)'!E764","v":0},{"$f":"+'Plan Indicativo (Productos)'!F764","v":0},{"$f":"+'Plan Indicativo (Productos)'!G764","v":0},{"$f":"+'Plan Indicativo (Productos)'!H764","v":0},{"$f":"+'Plan Indicativo (Productos)'!I764","v":0},{"$f":"+'Plan Indicativo (Productos)'!J764","v":0},{"$f":"+'Plan Indicativo (Productos)'!K764","v":0}]
[{"$f":"+'Plan Indicativo (Productos)'!A765","v":761},{"$f":"+'Plan Indicativo (Productos)'!B765","v":0},{"$f":"+'Plan Indicativo (Productos)'!C765","v":""},{"$f":"+'Plan Indicativo (Productos)'!D765","v":0},{"$f":"+'Plan Indicativo (Productos)'!E765","v":0},{"$f":"+'Plan Indicativo (Productos)'!F765","v":0},{"$f":"+'Plan Indicativo (Productos)'!G765","v":0},{"$f":"+'Plan Indicativo (Productos)'!H765","v":0},{"$f":"+'Plan Indicativo (Productos)'!I765","v":0},{"$f":"+'Plan Indicativo (Productos)'!J765","v":0},{"$f":"+'Plan Indicativo (Productos)'!K765","v":0}]
[{"$f":"+'Plan Indicativo (Productos)'!A766","v":762},{"$f":"+'Plan Indicativo (Productos)'!B766","v":0},{"$f":"+'Plan Indicativo (Productos)'!C766","v":""},{"$f":"+'Plan Indicativo (Productos)'!D766","v":0},{"$f":"+'Plan Indicativo (Productos)'!E766","v":0},{"$f":"+'Plan Indicativo (Productos)'!F766","v":0},{"$f":"+'Plan Indicativo (Productos)'!G766","v":0},{"$f":"+'Plan Indicativo (Productos)'!H766","v":0},{"$f":"+'Plan Indicativo (Productos)'!I766","v":0},{"$f":"+'Plan Indicativo (Productos)'!J766","v":0},{"$f":"+'Plan Indicativo (Productos)'!K766","v":0}]
[{"$f":"+'Plan Indicativo (Productos)'!A767","v":763},{"$f":"+'Plan Indicativo (Productos)'!B767","v":0},{"$f":"+'Plan Indicativo (Productos)'!C767","v":""},{"$f":"+'Plan Indicativo (Productos)'!D767","v":0},{"$f":"+'Plan Indicativo (Productos)'!E767","v":0},{"$f":"+'Plan Indicativo (Productos)'!F767","v":0},{"$f":"+'Plan Indicativo (Productos)'!G767","v":0},{"$f":"+'Plan Indicativo (Productos)'!H767","v":0},{"$f":"+'Plan Indicativo (Productos)'!I767","v":0},{"$f":"+'Plan Indicativo (Productos)'!J767","v":0},{"$f":"+'Plan Indicativo (Productos)'!K767","v":0}]
[{"$f":"+'Plan Indicativo (Productos)'!A768","v":764},{"$f":"+'Plan Indicativo (Productos)'!B768","v":0},{"$f":"+'Plan Indicativo (Productos)'!C768","v":""},{"$f":"+'Plan Indicativo (Productos)'!D768","v":0},{"$f":"+'Plan Indicativo (Productos)'!E768","v":0},{"$f":"+'Plan Indicativo (Productos)'!F768","v":0},{"$f":"+'Plan Indicativo (Productos)'!G768","v":0},{"$f":"+'Plan Indicativo (Productos)'!H768","v":0},{"$f":"+'Plan Indicativo (Productos)'!I768","v":0},{"$f":"+'Plan Indicativo (Productos)'!J768","v":0},{"$f":"+'Plan Indicativo (Productos)'!K768","v":0}]
[{"$f":"+'Plan Indicativo (Productos)'!A769","v":765},{"$f":"+'Plan Indicativo (Productos)'!B769","v":0},{"$f":"+'Plan Indicativo (Productos)'!C769","v":""},{"$f":"+'Plan Indicativo (Productos)'!D769","v":0},{"$f":"+'Plan Indicativo (Productos)'!E769","v":0},{"$f":"+'Plan Indicativo (Productos)'!F769","v":0},{"$f":"+'Plan Indicativo (Productos)'!G769","v":0},{"$f":"+'Plan Indicativo (Productos)'!H769","v":0},{"$f":"+'Plan Indicativo (Productos)'!I769","v":0},{"$f":"+'Plan Indicativo (Productos)'!J769","v":0},{"$f":"+'Plan Indicativo (Productos)'!K769","v":0}]
[{"$f":"+'Plan Indicativo (Productos)'!A770","v":766},{"$f":"+'Plan Indicativo (Productos)'!B770","v":0},{"$f":"+'Plan Indicativo (Productos)'!C770","v":""},{"$f":"+'Plan Indicativo (Productos)'!D770","v":0},{"$f":"+'Plan Indicativo (Productos)'!E770","v":0},{"$f":"+'Plan Indicativo (Productos)'!F770","v":0},{"$f":"+'Plan Indicativo (Productos)'!G770","v":0},{"$f":"+'Plan Indicativo (Productos)'!H770","v":0},{"$f":"+'Plan Indicativo (Productos)'!I770","v":0},{"$f":"+'Plan Indicativo (Productos)'!J770","v":0},{"$f":"+'Plan Indicativo (Productos)'!K770","v":0}]
[{"$f":"+'Plan Indicativo (Productos)'!A771","v":767},{"$f":"+'Plan Indicativo (Productos)'!B771","v":0},{"$f":"+'Plan Indicativo (Productos)'!C771","v":""},{"$f":"+'Plan Indicativo (Productos)'!D771","v":0},{"$f":"+'Plan Indicativo (Productos)'!E771","v":0},{"$f":"+'Plan Indicativo (Productos)'!F771","v":0},{"$f":"+'Plan Indicativo (Productos)'!G771","v":0},{"$f":"+'Plan Indicativo (Productos)'!H771","v":0},{"$f":"+'Plan Indicativo (Productos)'!I771","v":0},{"$f":"+'Plan Indicativo (Productos)'!J771","v":0},{"$f":"+'Plan Indicativo (Productos)'!K771","v":0}]
[{"$f":"+'Plan Indicativo (Productos)'!A772","v":768},{"$f":"+'Plan Indicativo (Productos)'!B772","v":0},{"$f":"+'Plan Indicativo (Productos)'!C772","v":""},{"$f":"+'Plan Indicativo (Productos)'!D772","v":0},{"$f":"+'Plan Indicativo (Productos)'!E772","v":0},{"$f":"+'Plan Indicativo (Productos)'!F772","v":0},{"$f":"+'Plan Indicativo (Productos)'!G772","v":0},{"$f":"+'Plan Indicativo (Productos)'!H772","v":0},{"$f":"+'Plan Indicativo (Productos)'!I772","v":0},{"$f":"+'Plan Indicativo (Productos)'!J772","v":0},{"$f":"+'Plan Indicativo (Productos)'!K772","v":0}]
[{"$f":"+'Plan Indicativo (Productos)'!A773","v":769},{"$f":"+'Plan Indicativo (Productos)'!B773","v":0},{"$f":"+'Plan Indicativo (Productos)'!C773","v":""},{"$f":"+'Plan Indicativo (Productos)'!D773","v":0},{"$f":"+'Plan Indicativo (Productos)'!E773","v":0},{"$f":"+'Plan Indicativo (Productos)'!F773","v":0},{"$f":"+'Plan Indicativo (Productos)'!G773","v":0},{"$f":"+'Plan Indicativo (Productos)'!H773","v":0},{"$f":"+'Plan Indicativo (Productos)'!I773","v":0},{"$f":"+'Plan Indicativo (Productos)'!J773","v":0},{"$f":"+'Plan Indicativo (Productos)'!K773","v":0}]
[{"$f":"+'Plan Indicativo (Productos)'!A774","v":770},{"$f":"+'Plan Indicativo (Productos)'!B774","v":0},{"$f":"+'Plan Indicativo (Productos)'!C774","v":""},{"$f":"+'Plan Indicativo (Productos)'!D774","v":0},{"$f":"+'Plan Indicativo (Productos)'!E774","v":0},{"$f":"+'Plan Indicativo (Productos)'!F774","v":0},{"$f":"+'Plan Indicativo (Productos)'!G774","v":0},{"$f":"+'Plan Indicativo (Productos)'!H774","v":0},{"$f":"+'Plan Indicativo (Productos)'!I774","v":0},{"$f":"+'Plan Indicativo (Productos)'!J774","v":0},{"$f":"+'Plan Indicativo (Productos)'!K774","v":0}]
[{"$f":"+'Plan Indicativo (Productos)'!A775","v":771},{"$f":"+'Plan Indicativo (Productos)'!B775","v":0},{"$f":"+'Plan Indicativo (Productos)'!C775","v":""},{"$f":"+'Plan Indicativo (Productos)'!D775","v":0},{"$f":"+'Plan Indicativo (Productos)'!E775","v":0},{"$f":"+'Plan Indicativo (Productos)'!F775","v":0},{"$f":"+'Plan Indicativo (Productos)'!G775","v":0},{"$f":"+'Plan Indicativo (Productos)'!H775","v":0},{"$f":"+'Plan Indicativo (Productos)'!I775","v":0},{"$f":"+'Plan Indicativo (Productos)'!J775","v":0},{"$f":"+'Plan Indicativo (Productos)'!K775","v":0}]
[{"$f":"+'Plan Indicativo (Productos)'!A776","v":772},{"$f":"+'Plan Indicativo (Productos)'!B776","v":0},{"$f":"+'Plan Indicativo (Productos)'!C776","v":""},{"$f":"+'Plan Indicativo (Productos)'!D776","v":0},{"$f":"+'Plan Indicativo (Productos)'!E776","v":0},{"$f":"+'Plan Indicativo (Productos)'!F776","v":0},{"$f":"+'Plan Indicativo (Productos)'!G776","v":0},{"$f":"+'Plan Indicativo (Productos)'!H776","v":0},{"$f":"+'Plan Indicativo (Productos)'!I776","v":0},{"$f":"+'Plan Indicativo (Productos)'!J776","v":0},{"$f":"+'Plan Indicativo (Productos)'!K776","v":0}]
[{"$f":"+'Plan Indicativo (Productos)'!A777","v":773},{"$f":"+'Plan Indicativo (Productos)'!B777","v":0},{"$f":"+'Plan Indicativo (Productos)'!C777","v":""},{"$f":"+'Plan Indicativo (Productos)'!D777","v":0},{"$f":"+'Plan Indicativo (Productos)'!E777","v":0},{"$f":"+'Plan Indicativo (Productos)'!F777","v":0},{"$f":"+'Plan Indicativo (Productos)'!G777","v":0},{"$f":"+'Plan Indicativo (Productos)'!H777","v":0},{"$f":"+'Plan Indicativo (Productos)'!I777","v":0},{"$f":"+'Plan Indicativo (Productos)'!J777","v":0},{"$f":"+'Plan Indicativo (Productos)'!K777","v":0}]
[{"$f":"+'Plan Indicativo (Productos)'!A778","v":774},{"$f":"+'Plan Indicativo (Productos)'!B778","v":0},{"$f":"+'Plan Indicativo (Productos)'!C778","v":""},{"$f":"+'Plan Indicativo (Productos)'!D778","v":0},{"$f":"+'Plan Indicativo (Productos)'!E778","v":0},{"$f":"+'Plan Indicativo (Productos)'!F778","v":0},{"$f":"+'Plan Indicativo (Productos)'!G778","v":0},{"$f":"+'Plan Indicativo (Productos)'!H778","v":0},{"$f":"+'Plan Indicativo (Productos)'!I778","v":0},{"$f":"+'Plan Indicativo (Productos)'!J778","v":0},{"$f":"+'Plan Indicativo (Productos)'!K778","v":0}]
[{"$f":"+'Plan Indicativo (Productos)'!A779","v":775},{"$f":"+'Plan Indicativo (Productos)'!B779","v":0},{"$f":"+'Plan Indicativo (Productos)'!C779","v":""},{"$f":"+'Plan Indicativo (Productos)'!D779","v":0},{"$f":"+'Plan Indicativo (Productos)'!E779","v":0},{"$f":"+'Plan Indicativo (Productos)'!F779","v":0},{"$f":"+'Plan Indicativo (Productos)'!G779","v":0},{"$f":"+'Plan Indicativo (Productos)'!H779","v":0},{"$f":"+'Plan Indicativo (Productos)'!I779","v":0},{"$f":"+'Plan Indicativo (Productos)'!J779","v":0},{"$f":"+'Plan Indicativo (Productos)'!K779","v":0}]
[{"$f":"+'Plan Indicativo (Productos)'!A780","v":776},{"$f":"+'Plan Indicativo (Productos)'!B780","v":0},{"$f":"+'Plan Indicativo (Productos)'!C780","v":""},{"$f":"+'Plan Indicativo (Productos)'!D780","v":0},{"$f":"+'Plan Indicativo (Productos)'!E780","v":0},{"$f":"+'Plan Indicativo (Productos)'!F780","v":0},{"$f":"+'Plan Indicativo (Productos)'!G780","v":0},{"$f":"+'Plan Indicativo (Productos)'!H780","v":0},{"$f":"+'Plan Indicativo (Productos)'!I780","v":0},{"$f":"+'Plan Indicativo (Productos)'!J780","v":0},{"$f":"+'Plan Indicativo (Productos)'!K780","v":0}]
[{"$f":"+'Plan Indicativo (Productos)'!A781","v":777},{"$f":"+'Plan Indicativo (Productos)'!B781","v":0},{"$f":"+'Plan Indicativo (Productos)'!C781","v":""},{"$f":"+'Plan Indicativo (Productos)'!D781","v":0},{"$f":"+'Plan Indicativo (Productos)'!E781","v":0},{"$f":"+'Plan Indicativo (Productos)'!F781","v":0},{"$f":"+'Plan Indicativo (Productos)'!G781","v":0},{"$f":"+'Plan Indicativo (Productos)'!H781","v":0},{"$f":"+'Plan Indicativo (Productos)'!I781","v":0},{"$f":"+'Plan Indicativo (Productos)'!J781","v":0},{"$f":"+'Plan Indicativo (Productos)'!K781","v":0}]
[{"$f":"+'Plan Indicativo (Productos)'!A782","v":778},{"$f":"+'Plan Indicativo (Productos)'!B782","v":0},{"$f":"+'Plan Indicativo (Productos)'!C782","v":""},{"$f":"+'Plan Indicativo (Productos)'!D782","v":0},{"$f":"+'Plan Indicativo (Productos)'!E782","v":0},{"$f":"+'Plan Indicativo (Productos)'!F782","v":0},{"$f":"+'Plan Indicativo (Productos)'!G782","v":0},{"$f":"+'Plan Indicativo (Productos)'!H782","v":0},{"$f":"+'Plan Indicativo (Productos)'!I782","v":0},{"$f":"+'Plan Indicativo (Productos)'!J782","v":0},{"$f":"+'Plan Indicativo (Productos)'!K782","v":0}]
[{"$f":"+'Plan Indicativo (Productos)'!A783","v":779},{"$f":"+'Plan Indicativo (Productos)'!B783","v":0},{"$f":"+'Plan Indicativo (Productos)'!C783","v":""},{"$f":"+'Plan Indicativo (Productos)'!D783","v":0},{"$f":"+'Plan Indicativo (Productos)'!E783","v":0},{"$f":"+'Plan Indicativo (Productos)'!F783","v":0},{"$f":"+'Plan Indicativo (Productos)'!G783","v":0},{"$f":"+'Plan Indicativo (Productos)'!H783","v":0},{"$f":"+'Plan Indicativo (Productos)'!I783","v":0},{"$f":"+'Plan Indicativo (Productos)'!J783","v":0},{"$f":"+'Plan Indicativo (Productos)'!K783","v":0}]
[{"$f":"+'Plan Indicativo (Productos)'!A784","v":780},{"$f":"+'Plan Indicativo (Productos)'!B784","v":0},{"$f":"+'Plan Indicativo (Productos)'!C784","v":""},{"$f":"+'Plan Indicativo (Productos)'!D784","v":0},{"$f":"+'Plan Indicativo (Productos)'!E784","v":0},{"$f":"+'Plan Indicativo (Productos)'!F784","v":0},{"$f":"+'Plan Indicativo (Productos)'!G784","v":0},{"$f":"+'Plan Indicativo (Productos)'!H784","v":0},{"$f":"+'Plan Indicativo (Productos)'!I784","v":0},{"$f":"+'Plan Indicativo (Productos)'!J784","v":0},{"$f":"+'Plan Indicativo (Productos)'!K784","v":0}]
[{"$f":"+'Plan Indicativo (Productos)'!A785","v":781},{"$f":"+'Plan Indicativo (Productos)'!B785","v":0},{"$f":"+'Plan Indicativo (Productos)'!C785","v":""},{"$f":"+'Plan Indicativo (Productos)'!D785","v":0},{"$f":"+'Plan Indicativo (Productos)'!E785","v":0},{"$f":"+'Plan Indicativo (Productos)'!F785","v":0},{"$f":"+'Plan Indicativo (Productos)'!G785","v":0},{"$f":"+'Plan Indicativo (Productos)'!H785","v":0},{"$f":"+'Plan Indicativo (Productos)'!I785","v":0},{"$f":"+'Plan Indicativo (Productos)'!J785","v":0},{"$f":"+'Plan Indicativo (Productos)'!K785","v":0}]
[{"$f":"+'Plan Indicativo (Productos)'!A786","v":782},{"$f":"+'Plan Indicativo (Productos)'!B786","v":0},{"$f":"+'Plan Indicativo (Productos)'!C786","v":""},{"$f":"+'Plan Indicativo (Productos)'!D786","v":0},{"$f":"+'Plan Indicativo (Productos)'!E786","v":0},{"$f":"+'Plan Indicativo (Productos)'!F786","v":0},{"$f":"+'Plan Indicativo (Productos)'!G786","v":0},{"$f":"+'Plan Indicativo (Productos)'!H786","v":0},{"$f":"+'Plan Indicativo (Productos)'!I786","v":0},{"$f":"+'Plan Indicativo (Productos)'!J786","v":0},{"$f":"+'Plan Indicativo (Productos)'!K786","v":0}]
[{"$f":"+'Plan Indicativo (Productos)'!A787","v":783},{"$f":"+'Plan Indicativo (Productos)'!B787","v":0},{"$f":"+'Plan Indicativo (Productos)'!C787","v":""},{"$f":"+'Plan Indicativo (Productos)'!D787","v":0},{"$f":"+'Plan Indicativo (Productos)'!E787","v":0},{"$f":"+'Plan Indicativo (Productos)'!F787","v":0},{"$f":"+'Plan Indicativo (Productos)'!G787","v":0},{"$f":"+'Plan Indicativo (Productos)'!H787","v":0},{"$f":"+'Plan Indicativo (Productos)'!I787","v":0},{"$f":"+'Plan Indicativo (Productos)'!J787","v":0},{"$f":"+'Plan Indicativo (Productos)'!K787","v":0}]
[{"$f":"+'Plan Indicativo (Productos)'!A788","v":784},{"$f":"+'Plan Indicativo (Productos)'!B788","v":0},{"$f":"+'Plan Indicativo (Productos)'!C788","v":""},{"$f":"+'Plan Indicativo (Productos)'!D788","v":0},{"$f":"+'Plan Indicativo (Productos)'!E788","v":0},{"$f":"+'Plan Indicativo (Productos)'!F788","v":0},{"$f":"+'Plan Indicativo (Productos)'!G788","v":0},{"$f":"+'Plan Indicativo (Productos)'!H788","v":0},{"$f":"+'Plan Indicativo (Productos)'!I788","v":0},{"$f":"+'Plan Indicativo (Productos)'!J788","v":0},{"$f":"+'Plan Indicativo (Productos)'!K788","v":0}]
[{"$f":"+'Plan Indicativo (Productos)'!A789","v":785},{"$f":"+'Plan Indicativo (Productos)'!B789","v":0},{"$f":"+'Plan Indicativo (Productos)'!C789","v":""},{"$f":"+'Plan Indicativo (Productos)'!D789","v":0},{"$f":"+'Plan Indicativo (Productos)'!E789","v":0},{"$f":"+'Plan Indicativo (Productos)'!F789","v":0},{"$f":"+'Plan Indicativo (Productos)'!G789","v":0},{"$f":"+'Plan Indicativo (Productos)'!H789","v":0},{"$f":"+'Plan Indicativo (Productos)'!I789","v":0},{"$f":"+'Plan Indicativo (Productos)'!J789","v":0},{"$f":"+'Plan Indicativo (Productos)'!K789","v":0}]
[{"$f":"+'Plan Indicativo (Productos)'!A790","v":786},{"$f":"+'Plan Indicativo (Productos)'!B790","v":0},{"$f":"+'Plan Indicativo (Productos)'!C790","v":""},{"$f":"+'Plan Indicativo (Productos)'!D790","v":0},{"$f":"+'Plan Indicativo (Productos)'!E790","v":0},{"$f":"+'Plan Indicativo (Productos)'!F790","v":0},{"$f":"+'Plan Indicativo (Productos)'!G790","v":0},{"$f":"+'Plan Indicativo (Productos)'!H790","v":0},{"$f":"+'Plan Indicativo (Productos)'!I790","v":0},{"$f":"+'Plan Indicativo (Productos)'!J790","v":0},{"$f":"+'Plan Indicativo (Productos)'!K790","v":0}]
[{"$f":"+'Plan Indicativo (Productos)'!A791","v":787},{"$f":"+'Plan Indicativo (Productos)'!B791","v":0},{"$f":"+'Plan Indicativo (Productos)'!C791","v":""},{"$f":"+'Plan Indicativo (Productos)'!D791","v":0},{"$f":"+'Plan Indicativo (Productos)'!E791","v":0},{"$f":"+'Plan Indicativo (Productos)'!F791","v":0},{"$f":"+'Plan Indicativo (Productos)'!G791","v":0},{"$f":"+'Plan Indicativo (Productos)'!H791","v":0},{"$f":"+'Plan Indicativo (Productos)'!I791","v":0},{"$f":"+'Plan Indicativo (Productos)'!J791","v":0},{"$f":"+'Plan Indicativo (Productos)'!K791","v":0}]
[{"$f":"+'Plan Indicativo (Productos)'!A792","v":788},{"$f":"+'Plan Indicativo (Productos)'!B792","v":0},{"$f":"+'Plan Indicativo (Productos)'!C792","v":""},{"$f":"+'Plan Indicativo (Productos)'!D792","v":0},{"$f":"+'Plan Indicativo (Productos)'!E792","v":0},{"$f":"+'Plan Indicativo (Productos)'!F792","v":0},{"$f":"+'Plan Indicativo (Productos)'!G792","v":0},{"$f":"+'Plan Indicativo (Productos)'!H792","v":0},{"$f":"+'Plan Indicativo (Productos)'!I792","v":0},{"$f":"+'Plan Indicativo (Productos)'!J792","v":0},{"$f":"+'Plan Indicativo (Productos)'!K792","v":0}]
[{"$f":"+'Plan Indicativo (Productos)'!A793","v":789},{"$f":"+'Plan Indicativo (Productos)'!B793","v":0},{"$f":"+'Plan Indicativo (Productos)'!C793","v":""},{"$f":"+'Plan Indicativo (Productos)'!D793","v":0},{"$f":"+'Plan Indicativo (Productos)'!E793","v":0},{"$f":"+'Plan Indicativo (Productos)'!F793","v":0},{"$f":"+'Plan Indicativo (Productos)'!G793","v":0},{"$f":"+'Plan Indicativo (Productos)'!H793","v":0},{"$f":"+'Plan Indicativo (Productos)'!I793","v":0},{"$f":"+'Plan Indicativo (Productos)'!J793","v":0},{"$f":"+'Plan Indicativo (Productos)'!K793","v":0}]
[{"$f":"+'Plan Indicativo (Productos)'!A794","v":790},{"$f":"+'Plan Indicativo (Productos)'!B794","v":0},{"$f":"+'Plan Indicativo (Productos)'!C794","v":""},{"$f":"+'Plan Indicativo (Productos)'!D794","v":0},{"$f":"+'Plan Indicativo (Productos)'!E794","v":0},{"$f":"+'Plan Indicativo (Productos)'!F794","v":0},{"$f":"+'Plan Indicativo (Productos)'!G794","v":0},{"$f":"+'Plan Indicativo (Productos)'!H794","v":0},{"$f":"+'Plan Indicativo (Productos)'!I794","v":0},{"$f":"+'Plan Indicativo (Productos)'!J794","v":0},{"$f":"+'Plan Indicativo (Productos)'!K794","v":0}]
[{"$f":"+'Plan Indicativo (Productos)'!A795","v":791},{"$f":"+'Plan Indicativo (Productos)'!B795","v":0},{"$f":"+'Plan Indicativo (Productos)'!C795","v":""},{"$f":"+'Plan Indicativo (Productos)'!D795","v":0},{"$f":"+'Plan Indicativo (Productos)'!E795","v":0},{"$f":"+'Plan Indicativo (Productos)'!F795","v":0},{"$f":"+'Plan Indicativo (Productos)'!G795","v":0},{"$f":"+'Plan Indicativo (Productos)'!H795","v":0},{"$f":"+'Plan Indicativo (Productos)'!I795","v":0},{"$f":"+'Plan Indicativo (Productos)'!J795","v":0},{"$f":"+'Plan Indicativo (Productos)'!K795","v":0}]
[{"$f":"+'Plan Indicativo (Productos)'!A796","v":792},{"$f":"+'Plan Indicativo (Productos)'!B796","v":0},{"$f":"+'Plan Indicativo (Productos)'!C796","v":""},{"$f":"+'Plan Indicativo (Productos)'!D796","v":0},{"$f":"+'Plan Indicativo (Productos)'!E796","v":0},{"$f":"+'Plan Indicativo (Productos)'!F796","v":0},{"$f":"+'Plan Indicativo (Productos)'!G796","v":0},{"$f":"+'Plan Indicativo (Productos)'!H796","v":0},{"$f":"+'Plan Indicativo (Productos)'!I796","v":0},{"$f":"+'Plan Indicativo (Productos)'!J796","v":0},{"$f":"+'Plan Indicativo (Productos)'!K796","v":0}]
[{"$f":"+'Plan Indicativo (Productos)'!A797","v":793},{"$f":"+'Plan Indicativo (Productos)'!B797","v":0},{"$f":"+'Plan Indicativo (Productos)'!C797","v":""},{"$f":"+'Plan Indicativo (Productos)'!D797","v":0},{"$f":"+'Plan Indicativo (Productos)'!E797","v":0},{"$f":"+'Plan Indicativo (Productos)'!F797","v":0},{"$f":"+'Plan Indicativo (Productos)'!G797","v":0},{"$f":"+'Plan Indicativo (Productos)'!H797","v":0},{"$f":"+'Plan Indicativo (Productos)'!I797","v":0},{"$f":"+'Plan Indicativo (Productos)'!J797","v":0},{"$f":"+'Plan Indicativo (Productos)'!K797","v":0}]
[{"$f":"+'Plan Indicativo (Productos)'!A798","v":794},{"$f":"+'Plan Indicativo (Productos)'!B798","v":0},{"$f":"+'Plan Indicativo (Productos)'!C798","v":""},{"$f":"+'Plan Indicativo (Productos)'!D798","v":0},{"$f":"+'Plan Indicativo (Productos)'!E798","v":0},{"$f":"+'Plan Indicativo (Productos)'!F798","v":0},{"$f":"+'Plan Indicativo (Productos)'!G798","v":0},{"$f":"+'Plan Indicativo (Productos)'!H798","v":0},{"$f":"+'Plan Indicativo (Productos)'!I798","v":0},{"$f":"+'Plan Indicativo (Productos)'!J798","v":0},{"$f":"+'Plan Indicativo (Productos)'!K798","v":0}]
[{"$f":"+'Plan Indicativo (Productos)'!A799","v":795},{"$f":"+'Plan Indicativo (Productos)'!B799","v":0},{"$f":"+'Plan Indicativo (Productos)'!C799","v":""},{"$f":"+'Plan Indicativo (Productos)'!D799","v":0},{"$f":"+'Plan Indicativo (Productos)'!E799","v":0},{"$f":"+'Plan Indicativo (Productos)'!F799","v":0},{"$f":"+'Plan Indicativo (Productos)'!G799","v":0},{"$f":"+'Plan Indicativo (Productos)'!H799","v":0},{"$f":"+'Plan Indicativo (Productos)'!I799","v":0},{"$f":"+'Plan Indicativo (Productos)'!J799","v":0},{"$f":"+'Plan Indicativo (Productos)'!K799","v":0}]
[{"$f":"+'Plan Indicativo (Productos)'!A800","v":796},{"$f":"+'Plan Indicativo (Productos)'!B800","v":0},{"$f":"+'Plan Indicativo (Productos)'!C800","v":""},{"$f":"+'Plan Indicativo (Productos)'!D800","v":0},{"$f":"+'Plan Indicativo (Productos)'!E800","v":0},{"$f":"+'Plan Indicativo (Productos)'!F800","v":0},{"$f":"+'Plan Indicativo (Productos)'!G800","v":0},{"$f":"+'Plan Indicativo (Productos)'!H800","v":0},{"$f":"+'Plan Indicativo (Productos)'!I800","v":0},{"$f":"+'Plan Indicativo (Productos)'!J800","v":0},{"$f":"+'Plan Indicativo (Productos)'!K800","v":0}]
[{"$f":"+'Plan Indicativo (Productos)'!A801","v":797},{"$f":"+'Plan Indicativo (Productos)'!B801","v":0},{"$f":"+'Plan Indicativo (Productos)'!C801","v":""},{"$f":"+'Plan Indicativo (Productos)'!D801","v":0},{"$f":"+'Plan Indicativo (Productos)'!E801","v":0},{"$f":"+'Plan Indicativo (Productos)'!F801","v":0},{"$f":"+'Plan Indicativo (Productos)'!G801","v":0},{"$f":"+'Plan Indicativo (Productos)'!H801","v":0},{"$f":"+'Plan Indicativo (Productos)'!I801","v":0},{"$f":"+'Plan Indicativo (Productos)'!J801","v":0},{"$f":"+'Plan Indicativo (Productos)'!K801","v":0}]
[{"$f":"+'Plan Indicativo (Productos)'!A802","v":798},{"$f":"+'Plan Indicativo (Productos)'!B802","v":0},{"$f":"+'Plan Indicativo (Productos)'!C802","v":""},{"$f":"+'Plan Indicativo (Productos)'!D802","v":0},{"$f":"+'Plan Indicativo (Productos)'!E802","v":0},{"$f":"+'Plan Indicativo (Productos)'!F802","v":0},{"$f":"+'Plan Indicativo (Productos)'!G802","v":0},{"$f":"+'Plan Indicativo (Productos)'!H802","v":0},{"$f":"+'Plan Indicativo (Productos)'!I802","v":0},{"$f":"+'Plan Indicativo (Productos)'!J802","v":0},{"$f":"+'Plan Indicativo (Productos)'!K802","v":0}]
[{"$f":"+'Plan Indicativo (Productos)'!A803","v":799},{"$f":"+'Plan Indicativo (Productos)'!B803","v":0},{"$f":"+'Plan Indicativo (Productos)'!C803","v":""},{"$f":"+'Plan Indicativo (Productos)'!D803","v":0},{"$f":"+'Plan Indicativo (Productos)'!E803","v":0},{"$f":"+'Plan Indicativo (Productos)'!F803","v":0},{"$f":"+'Plan Indicativo (Productos)'!G803","v":0},{"$f":"+'Plan Indicativo (Productos)'!H803","v":0},{"$f":"+'Plan Indicativo (Productos)'!I803","v":0},{"$f":"+'Plan Indicativo (Productos)'!J803","v":0},{"$f":"+'Plan Indicativo (Productos)'!K803","v":0}]
[{"$f":"+'Plan Indicativo (Productos)'!A804","v":800},{"$f":"+'Plan Indicativo (Productos)'!B804","v":0},{"$f":"+'Plan Indicativo (Productos)'!C804","v":""},{"$f":"+'Plan Indicativo (Productos)'!D804","v":0},{"$f":"+'Plan Indicativo (Productos)'!E804","v":0},{"$f":"+'Plan Indicativo (Productos)'!F804","v":0},{"$f":"+'Plan Indicativo (Productos)'!G804","v":0},{"$f":"+'Plan Indicativo (Productos)'!H804","v":0},{"$f":"+'Plan Indicativo (Productos)'!I804","v":0},{"$f":"+'Plan Indicativo (Productos)'!J804","v":0},{"$f":"+'Plan Indicativo (Productos)'!K804","v":0}]
[null,null,null,null,null,null,null,null,null,null,null,null,null,null,{"$f":"SUM(O5:O804)","v":99748330941},{"$f":"SUM(P5:P804)","v":99748330941},null,null,{"$f":"SUM(S5:S804)","v":0},0,null,null,0,0,null,null,0,0]

{"sheet":"listados","index":3,"n_rows":122,"n_cols":12,"rows_kept":122,"cut":false,"hidden":true,"merged":[]}
[]
[null,"Municipios",null,"CODIGO","ODS",null,"Tipo de Acomulación",null,"Orientación Indicador de Resultado",null,"codigo","Sectores"]
[1,"ABEJORRAL",null,1,"1. Fin de la pobreza",null,"Acumalada",null,"Incrementar",null,1,"1. Congreso de la República "]
[2,"ABRIAQUI",null,2,"2. Hambre cero",null,"No acumalada",null,"Reducir",null,2,"2. Presidencia de la República"]
[3,"ALEJANDRIA ",null,3,"3. Salud y bienestar",null,null,null,null,null,3,"3. Planeación"]
[4,"AMAGA",null,4,"4. Educación de calidad",null,null,null,null,null,4,"4. Información Estadística"]
[5,"AMALFI",null,5,"5. Igualdad de genero",null,null,null,null,null,5,"5. Empleo Público"]
[6,"ANDES",null,6,"6. Agua limpia y saneamiento",null,null,null,null,null,11,"11. Relaciones Exteriores "]
[7,"ANGELOPOLIS",null,7,"7. Energía asequible y no contaminante",null,null,null,null,null,12,"12. Justicia y del Derecho"]
[8,"ANGOSTURA",null,8,"8. Trabajo decente y crecimiento económico ",null,null,null,null,null,13,"13. Hacienda"]
[9,"ANORI",null,9,"9. Industria, innovación e infraestructura",null,null,null,null,null,15,"15. Defensa y Policía "]
[10,"ANZA     ",null,10,"10. Reducción de las desigualdades",null,null,null,null,null,17,"17. Agricultura y desarrollo rural"]
[11,"APARTADO",null,11,"11. Ciudades y comunidades sostenibles",null,null,null,null,null,19,"19. Salud y Protección Social"]
[12,"ARBOLETES",null,12,"12. Producción y consumo responsables",null,null,null,null,null,21,"21. Minas y Energía"]
[13,"ARGELIA",null,13,"13. Acción por el clima",null,null,null,null,null,22,"22. Educación "]
[14,"ARMENIA",null,14,"14. Vida submarina",null,null,null,null,null,23,"23. Tecnologias de la Información y Las Comunicaciones "]
[15,"BARBOSA    ",null,15,"15. Vida de ecosistemas terrestres",null,null,null,null,null,24,"24. Transporte"]
[16,"BELMIRA",null,16,"16. Paz, justicia e instituciones solidas",null,null,null,null,null,25,"25. Organismos de Contro"]
[17,"BETANIA",null,17,"17. Alianzas para lograr los objetivos",null,null,null,null,null,27,"27. Rama Judicial"]
[18,"BETULIA",null,null,null,null,null,null,null,null,28,"28. Registraduría"]
[19,"BRICEÑO",null,null,null,null,null,null,null,null,29,"29. Fiscalía"]
[20,"BURITICA",null,null,null,null,null,null,null,null,32,"32. Ambiente y Desarrollo Sostenible"]
[21,"CACERES",null,null,null,null,null,null,null,null,33,"33. Cultura "]
[22,"CAICEDO",null,null,null,null,null,null,null,null,35,"35. Comercio, Industria y Turismo"]
[23,"CALDAS",null,null,null,null,null,null,null,null,36,"36.  Trabajo"]
[24,"CAMPAMENTO",null,null,null,null,null,null,null,null,37,"37. Interior "]
[25,"CAÑASGORDAS",null,null,null,null,null,null,null,null,39,"39. Ciencia, Tecnología e Innovación"]
[26,"CARACOLI ",null,null,null,null,null,null,null,null,40,"40. Vivienda, Ciudad y Territorio"]
[27,"CARAMANTA ",null,null,null,null,null,null,null,null,41,"41. Inclusión Social y Reconciliación"]
[28,"CAREPA",null,null,null,null,null,null,null,null,42,"42. Inteligencia "]
[29,"CARMEN DE VIBORAL",null,null,null,null,null,null,null,null,43,"43. Deporte y Recreación"]
[30,"CAROLINA DEL PRINCIPE",null,null,null,null,null,null,null,null,44,"44. Justicia Especial Para La Paz"]
[31,"CAUCASIA",null,null,null,null,null,null,null,null,45,"45. Gobierno Territorial"]
[32,"CHIGORODO",null,null,null,null,null,null,null,null,0]
[33,"CISNEROS"]
[34,"CIUDAD BOLIVAR"]
[35,"COCORNA"]
[36,"CONCEPCION "]
[37,"CONCORDIA "]
[38,"COPACABANA"]
[39,"DABEIBA"]
[40,"DON MATIAS    "]
[41,"EBEJICO"]
[42,"EL BAGRE"]
[43,"EL SANTUARIO"]
[44,"ENTRERRIOS"]
[45,"FREDONIA    "]
[46,"FRONTINO "]
[47,"GIRALDO"]
[48,"GIRARDOTA   "]
[49,"GOMEZ PLATA"]
[50,"GRANADA"]
[51,"GUADALUPE"]
[52,"GUARNE   "]
[53,"GUATAPE"]
[54,"HELICONIA   "]
[55,"HISPANIA    "]
[56,"ITUANGO"]
[57,"JARDIN"]
[58,"JERICO"]
[59,"LA CEJA"]
[60,"LA ESTRELLA "]
[61,"LA PINTADA"]
[62,"LA UNION "]
[63,"LIBORINA"]
[64,"MACEO  "]
[65,"MARINILLA"]
[66,"MONTEBELLO"]
[67,"MURINDO"]
[68,"MUTATA"]
[69,"NARIÑO"]
[70,"NECHI"]
[71,"NECOCLI"]
[72,"OLAYA"]
[73,"PEÑOL"]
[74,"PEQUE"]
[75,"PUEBLORRICO"]
[76,"PUERTO BERRIO"]
[77,"PUERTO NARE"]
[78,"PUERTO TRIUNFO"]
[79,"REMEDIOS    "]
[80,"RETIRO "]
[81,"SABANALARGA   "]
[83,"SALGAR "]
[84,"SAN ANDRES DE CUERQUÍA"]
[85,"SAN CARLOS"]
[86,"SAN FRANCISCO"]
[87,"SAN JERONIMO"]
[88,"SAN JOSE DE LA MONTAÑA"]
[89,"SAN JUAN DE URABA"]
[90,"SAN LUIS"]
[91,"SAN PEDRO DE LOS MILAGROS"]
[92,"SAN PEDRO DE URABA   "]
[93,"SAN RAFAEL    "]
[94,"SAN ROQUE"]
[95,"SAN VICENTE"]
[96,"SANTA BARBARA"]
[97,"SANTA FE DE ANTIOQUIA"]
[98,"SANTA ROSA DE OSOS"]
[99,"SANTO DOMINGO"]
[100,"SEGOVIA"]
[101,"SONSON"]
[102,"SOPETRAN"]
[103,"TAMESIS"]
[104,"TARAZA"]
[105,"TARSO"]
[106,"TITIRIBI"]
[107,"TOLEDO "]
[108,"TURBO"]
[109,"URAMITA"]
[110,"URRAO"]
[111,"VALDIVIA"]
[112,"VALPARAISO "]
[113,"VEGACHI"]
[114,"VENECIA"]
[115,"VIGIA DEL FUERTE"]
[116,"YALI    "]
[117,"YARUMAL    "]
[118,"YOLOMBO   "]
[119,"YONDÓ"]
[120,"ZARAGOZA"]
[121,"DEPARTAMENTO DE ANTIOQUIA"]